BEGIN:VCALENDAR
VERSION:2.0
PRODID:-//Gemeinde Ettiswil - ECPv6.15.20//NONSGML v1.0//EN
CALSCALE:GREGORIAN
METHOD:PUBLISH
X-WR-CALNAME:Gemeinde Ettiswil
X-ORIGINAL-URL:https://ettiswil.ch
X-WR-CALDESC:Veranstaltungen für Gemeinde Ettiswil
REFRESH-INTERVAL;VALUE=DURATION:PT1H
X-Robots-Tag:noindex
X-PUBLISHED-TTL:PT1H
BEGIN:VTIMEZONE
TZID:Europe/Zurich
BEGIN:DAYLIGHT
TZOFFSETFROM:+0100
TZOFFSETTO:+0200
TZNAME:CEST
DTSTART:20240331T010000
END:DAYLIGHT
BEGIN:STANDARD
TZOFFSETFROM:+0200
TZOFFSETTO:+0100
TZNAME:CET
DTSTART:20241027T010000
END:STANDARD
BEGIN:DAYLIGHT
TZOFFSETFROM:+0100
TZOFFSETTO:+0200
TZNAME:CEST
DTSTART:20250330T010000
END:DAYLIGHT
BEGIN:STANDARD
TZOFFSETFROM:+0200
TZOFFSETTO:+0100
TZNAME:CET
DTSTART:20251026T010000
END:STANDARD
BEGIN:DAYLIGHT
TZOFFSETFROM:+0100
TZOFFSETTO:+0200
TZNAME:CEST
DTSTART:20260329T010000
END:DAYLIGHT
BEGIN:STANDARD
TZOFFSETFROM:+0200
TZOFFSETTO:+0100
TZNAME:CET
DTSTART:20261025T010000
END:STANDARD
END:VTIMEZONE
BEGIN:VEVENT
DTSTART;VALUE=DATE:20251103
DTEND;VALUE=DATE:20251104
DTSTAMP:20260425T031541
CREATED:20250903T120045Z
LAST-MODIFIED:20250903T120045Z
UID:10001735-1762128000-1762214399@ettiswil.ch
SUMMARY:Präsidentenkonferenz
DESCRIPTION:
URL:https://ettiswil.ch/event/praesidentenkonferenz/
LOCATION:Sigristenhaus Ettiswil
CATEGORIES:Gemeinde
END:VEVENT
BEGIN:VEVENT
DTSTART;TZID=Europe/Zurich:20251103T073000
DTEND;TZID=Europe/Zurich:20251103T073000
DTSTAMP:20260425T031541
CREATED:20241205T105702Z
LAST-MODIFIED:20241205T105702Z
UID:10001460-1762155000-1762155000@ettiswil.ch
SUMMARY:Häckseldienst
DESCRIPTION:Werkdienst
URL:https://ettiswil.ch/event/haeckseldienst-4/2025-11-03/
LOCATION:Strassenrand
END:VEVENT
BEGIN:VEVENT
DTSTART;TZID=Europe/Zurich:20251103T140000
DTEND;TZID=Europe/Zurich:20251103T140000
DTSTAMP:20260425T031541
CREATED:20241021T205039Z
LAST-MODIFIED:20241021T205935Z
UID:10000795-1762178400-1762178400@ettiswil.ch
SUMMARY:Spaziergang
DESCRIPTION:Hier könnte Ihr Text stehen…
URL:https://ettiswil.ch/event/spaziergang-5/2025-11-03/
LOCATION:Gemeindeparkplatz Ettiswil
CATEGORIES:Verein
ORGANIZER;CN="Silberstreifen 60 plus":MAILTO:vreni.korner@gmail.com
END:VEVENT
END:VCALENDAR