BEGIN:VCALENDAR
VERSION:2.0
PRODID:-//Gemeinde Ettiswil - ECPv6.15.20//NONSGML v1.0//EN
CALSCALE:GREGORIAN
METHOD:PUBLISH
X-WR-CALNAME:Gemeinde Ettiswil
X-ORIGINAL-URL:https://ettiswil.ch
X-WR-CALDESC:Veranstaltungen für Gemeinde Ettiswil
REFRESH-INTERVAL;VALUE=DURATION:PT1H
X-Robots-Tag:noindex
X-PUBLISHED-TTL:PT1H
BEGIN:VTIMEZONE
TZID:Europe/Zurich
BEGIN:DAYLIGHT
TZOFFSETFROM:+0100
TZOFFSETTO:+0200
TZNAME:CEST
DTSTART:20240331T010000
END:DAYLIGHT
BEGIN:STANDARD
TZOFFSETFROM:+0200
TZOFFSETTO:+0100
TZNAME:CET
DTSTART:20241027T010000
END:STANDARD
BEGIN:DAYLIGHT
TZOFFSETFROM:+0100
TZOFFSETTO:+0200
TZNAME:CEST
DTSTART:20250330T010000
END:DAYLIGHT
BEGIN:STANDARD
TZOFFSETFROM:+0200
TZOFFSETTO:+0100
TZNAME:CET
DTSTART:20251026T010000
END:STANDARD
BEGIN:DAYLIGHT
TZOFFSETFROM:+0100
TZOFFSETTO:+0200
TZNAME:CEST
DTSTART:20260329T010000
END:DAYLIGHT
BEGIN:STANDARD
TZOFFSETFROM:+0200
TZOFFSETTO:+0100
TZNAME:CET
DTSTART:20261025T010000
END:STANDARD
END:VTIMEZONE
BEGIN:VEVENT
DTSTART;VALUE=DATE:20251114
DTEND;VALUE=DATE:20251117
DTSTAMP:20260424T121203
CREATED:20251030T102603Z
LAST-MODIFIED:20251030T102603Z
UID:10002250-1763078400-1763337599@ettiswil.ch
SUMMARY:Advents- und Weihnachtsmarkt
DESCRIPTION:
URL:https://ettiswil.ch/event/advents-und-weihnachtsmarkt/
LOCATION:Schloss Wyher
CATEGORIES:Organisation
END:VEVENT
BEGIN:VEVENT
DTSTART;VALUE=DATE:20251115
DTEND;VALUE=DATE:20251116
DTSTAMP:20260424T121203
CREATED:20241031T095350Z
LAST-MODIFIED:20251105T093227Z
UID:10001250-1763164800-1763251199@ettiswil.ch
SUMMARY:Gross- & Kleinturnier
DESCRIPTION:
URL:https://ettiswil.ch/event/gross-kleinturnier/
LOCATION:Kalofenhalle Grosswangen
CATEGORIES:Verein
ORGANIZER;CN="FC Grosswangen-Ettiswil":MAILTO:praesident@fcge.ch
END:VEVENT
BEGIN:VEVENT
DTSTART;VALUE=DATE:20251115
DTEND;VALUE=DATE:20251116
DTSTAMP:20260424T121203
CREATED:20241031T095434Z
LAST-MODIFIED:20251105T093227Z
UID:10001251-1763164800-1763251199@ettiswil.ch
SUMMARY:Jassturnier
DESCRIPTION:
URL:https://ettiswil.ch/event/jassturnier-2/
LOCATION:Meilihalle Grosswangen
CATEGORIES:Verein
ORGANIZER;CN="FC Grosswangen-Ettiswil":MAILTO:praesident@fcge.ch
END:VEVENT
BEGIN:VEVENT
DTSTART;TZID=Europe/Zurich:20251115T193000
DTEND;TZID=Europe/Zurich:20251115T220000
DTSTAMP:20260424T121203
CREATED:20241008T191103Z
LAST-MODIFIED:20241008T191103Z
UID:10000514-1763235000-1763244000@ettiswil.ch
SUMMARY:Atemschutzübung Brandhaus
DESCRIPTION:
URL:https://ettiswil.ch/event/atemschutzuebung-brandhaus/
LOCATION:Feuerwehrmagazin Ettiswil
CATEGORIES:Organisation
ORGANIZER;CN="Feuerwehr Ettiswil-Alberswil":MAILTO:h.roeschu@gmail.com
END:VEVENT
END:VCALENDAR