BEGIN:VCALENDAR
VERSION:2.0
PRODID:-//Gemeinde Ettiswil - ECPv6.15.20//NONSGML v1.0//EN
CALSCALE:GREGORIAN
METHOD:PUBLISH
X-WR-CALNAME:Gemeinde Ettiswil
X-ORIGINAL-URL:https://ettiswil.ch
X-WR-CALDESC:Veranstaltungen für Gemeinde Ettiswil
REFRESH-INTERVAL;VALUE=DURATION:PT1H
X-Robots-Tag:noindex
X-PUBLISHED-TTL:PT1H
BEGIN:VTIMEZONE
TZID:Europe/Zurich
BEGIN:DAYLIGHT
TZOFFSETFROM:+0100
TZOFFSETTO:+0200
TZNAME:CEST
DTSTART:20240331T010000
END:DAYLIGHT
BEGIN:STANDARD
TZOFFSETFROM:+0200
TZOFFSETTO:+0100
TZNAME:CET
DTSTART:20241027T010000
END:STANDARD
BEGIN:DAYLIGHT
TZOFFSETFROM:+0100
TZOFFSETTO:+0200
TZNAME:CEST
DTSTART:20250330T010000
END:DAYLIGHT
BEGIN:STANDARD
TZOFFSETFROM:+0200
TZOFFSETTO:+0100
TZNAME:CET
DTSTART:20251026T010000
END:STANDARD
BEGIN:DAYLIGHT
TZOFFSETFROM:+0100
TZOFFSETTO:+0200
TZNAME:CEST
DTSTART:20260329T010000
END:DAYLIGHT
BEGIN:STANDARD
TZOFFSETFROM:+0200
TZOFFSETTO:+0100
TZNAME:CET
DTSTART:20261025T010000
END:STANDARD
END:VTIMEZONE
BEGIN:VEVENT
DTSTART;TZID=Europe/Zurich:20251121T070000
DTEND;TZID=Europe/Zurich:20251121T070000
DTSTAMP:20260424T052000
CREATED:20241205T102438Z
LAST-MODIFIED:20241205T103433Z
UID:10001397-1763708400-1763708400@ettiswil.ch
SUMMARY:Grüngutabfuhr
DESCRIPTION:Amstein Robert AG\, Willisau
URL:https://ettiswil.ch/event/gruengutabfuhr-11/2025-11-21/
LOCATION:Stelle Hauskehricht
END:VEVENT
BEGIN:VEVENT
DTSTART;TZID=Europe/Zurich:20251121T070000
DTEND;TZID=Europe/Zurich:20251121T070000
DTSTAMP:20260424T052000
CREATED:20241205T104127Z
LAST-MODIFIED:20241205T104127Z
UID:10001449-1763708400-1763708400@ettiswil.ch
SUMMARY:Kehricht
DESCRIPTION:Düring AG\, Ebikon
URL:https://ettiswil.ch/event/kehricht/2025-11-21/
LOCATION:Stelle Hauskehricht
END:VEVENT
BEGIN:VEVENT
DTSTART;TZID=Europe/Zurich:20251121T140000
DTEND;TZID=Europe/Zurich:20251121T160000
DTSTAMP:20260424T052000
CREATED:20240919T090909Z
LAST-MODIFIED:20241030T114907Z
UID:10000299-1763733600-1763740800@ettiswil.ch
SUMMARY:Kafitreff Alterskommission
DESCRIPTION:Thema: Gesellschaftsspiele
URL:https://ettiswil.ch/event/kafitreff-alterskommission-5/
LOCATION:Alters- und Pflegeheim Sonnbühl
CATEGORIES:Gemeinde
ORGANIZER;CN="Alterskommission Ettiswil & Alberswil":MAILTO:sokuan@ettiswil.ch
END:VEVENT
BEGIN:VEVENT
DTSTART;TZID=Europe/Zurich:20251121T183000
DTEND;TZID=Europe/Zurich:20251121T203000
DTSTAMP:20260424T052000
CREATED:20241022T170838Z
LAST-MODIFIED:20241128T103311Z
UID:10000907-1763749800-1763757000@ettiswil.ch
SUMMARY:Vereinsübung
DESCRIPTION:
URL:https://ettiswil.ch/event/vereinsuebung-10/
LOCATION:Sigristenhaus Ettiswil
CATEGORIES:Verein
ORGANIZER;CN="Jugend-Sanit%C3%A4tsteam Ettiswil":MAILTO:jugend@sanitaetsteamettiswil.ch
END:VEVENT
END:VCALENDAR