BEGIN:VCALENDAR
VERSION:2.0
PRODID:-//Gemeinde Ettiswil - ECPv6.15.20//NONSGML v1.0//EN
CALSCALE:GREGORIAN
METHOD:PUBLISH
X-WR-CALNAME:Gemeinde Ettiswil
X-ORIGINAL-URL:https://ettiswil.ch
X-WR-CALDESC:Veranstaltungen für Gemeinde Ettiswil
REFRESH-INTERVAL;VALUE=DURATION:PT1H
X-Robots-Tag:noindex
X-PUBLISHED-TTL:PT1H
BEGIN:VTIMEZONE
TZID:Europe/Zurich
BEGIN:DAYLIGHT
TZOFFSETFROM:+0100
TZOFFSETTO:+0200
TZNAME:CEST
DTSTART:20240331T010000
END:DAYLIGHT
BEGIN:STANDARD
TZOFFSETFROM:+0200
TZOFFSETTO:+0100
TZNAME:CET
DTSTART:20241027T010000
END:STANDARD
BEGIN:DAYLIGHT
TZOFFSETFROM:+0100
TZOFFSETTO:+0200
TZNAME:CEST
DTSTART:20250330T010000
END:DAYLIGHT
BEGIN:STANDARD
TZOFFSETFROM:+0200
TZOFFSETTO:+0100
TZNAME:CET
DTSTART:20251026T010000
END:STANDARD
BEGIN:DAYLIGHT
TZOFFSETFROM:+0100
TZOFFSETTO:+0200
TZNAME:CEST
DTSTART:20260329T010000
END:DAYLIGHT
BEGIN:STANDARD
TZOFFSETFROM:+0200
TZOFFSETTO:+0100
TZNAME:CET
DTSTART:20261025T010000
END:STANDARD
END:VTIMEZONE
BEGIN:VEVENT
DTSTART;TZID=Europe/Zurich:20251122T080000
DTEND;TZID=Europe/Zurich:20251122T121500
DTSTAMP:20260424T040743
CREATED:20240926T144635Z
LAST-MODIFIED:20241002T081020Z
UID:10000321-1763798400-1763813700@ettiswil.ch
SUMMARY:Reanimationskurs BLS AED SRC
DESCRIPTION:
URL:https://ettiswil.ch/event/reanimationskurs-bls-aed-src/2025-11-22/
LOCATION:Gütschhalde 1\, Kottwil
CATEGORIES:Verein
ORGANIZER;CN="Sanit%C3%A4tsteam Ettiswil":MAILTO:info@sanitaetsteamettiswil.ch
END:VEVENT
BEGIN:VEVENT
DTSTART;TZID=Europe/Zurich:20251122T190000
DTEND;TZID=Europe/Zurich:20251122T233000
DTSTAMP:20260424T040743
CREATED:20241010T075306Z
LAST-MODIFIED:20250702T132942Z
UID:10000563-1763838000-1763854200@ettiswil.ch
SUMMARY:Konzert
DESCRIPTION:
URL:https://ettiswil.ch/event/__trashed-18/
LOCATION:Jlgensaal\, Ettiswil
CATEGORIES:Verein
ORGANIZER;CN="M%C3%A4nnerchor Ettiswil":MAILTO:praesident@maennerchor-ettiswil.ch
END:VEVENT
END:VCALENDAR