BEGIN:VCALENDAR
VERSION:2.0
PRODID:-//Gemeinde Ettiswil - ECPv6.15.20//NONSGML v1.0//EN
CALSCALE:GREGORIAN
METHOD:PUBLISH
X-WR-CALNAME:Gemeinde Ettiswil
X-ORIGINAL-URL:https://ettiswil.ch
X-WR-CALDESC:Veranstaltungen für Gemeinde Ettiswil
REFRESH-INTERVAL;VALUE=DURATION:PT1H
X-Robots-Tag:noindex
X-PUBLISHED-TTL:PT1H
BEGIN:VTIMEZONE
TZID:Europe/Zurich
BEGIN:DAYLIGHT
TZOFFSETFROM:+0100
TZOFFSETTO:+0200
TZNAME:CEST
DTSTART:20240331T010000
END:DAYLIGHT
BEGIN:STANDARD
TZOFFSETFROM:+0200
TZOFFSETTO:+0100
TZNAME:CET
DTSTART:20241027T010000
END:STANDARD
BEGIN:DAYLIGHT
TZOFFSETFROM:+0100
TZOFFSETTO:+0200
TZNAME:CEST
DTSTART:20250330T010000
END:DAYLIGHT
BEGIN:STANDARD
TZOFFSETFROM:+0200
TZOFFSETTO:+0100
TZNAME:CET
DTSTART:20251026T010000
END:STANDARD
BEGIN:DAYLIGHT
TZOFFSETFROM:+0100
TZOFFSETTO:+0200
TZNAME:CEST
DTSTART:20260329T010000
END:DAYLIGHT
BEGIN:STANDARD
TZOFFSETFROM:+0200
TZOFFSETTO:+0100
TZNAME:CET
DTSTART:20261025T010000
END:STANDARD
END:VTIMEZONE
BEGIN:VEVENT
DTSTART;TZID=Europe/Zurich:20251124T070000
DTEND;TZID=Europe/Zurich:20251124T120000
DTSTAMP:20260424T014936
CREATED:20241205T105510Z
LAST-MODIFIED:20250211T080142Z
UID:10001524-1763967600-1763985600@ettiswil.ch
SUMMARY:Kartonsammlung
DESCRIPTION:Stöckli AG Entsorgungen & Recycling\, Sursee
URL:https://ettiswil.ch/event/kartonsammlung-6/2025-11-24/
LOCATION:Werkhof
END:VEVENT
BEGIN:VEVENT
DTSTART;TZID=Europe/Zurich:20251124T070000
DTEND;TZID=Europe/Zurich:20251124T120000
DTSTAMP:20260424T014936
CREATED:20250122T103242Z
LAST-MODIFIED:20250122T103242Z
UID:10001506-1763967600-1763985600@ettiswil.ch
SUMMARY:Kartonsammlung
DESCRIPTION:
URL:https://ettiswil.ch/event/kartonsammlung-16/
LOCATION:Werkhof
END:VEVENT
BEGIN:VEVENT
DTSTART;TZID=Europe/Zurich:20251124T080000
DTEND;TZID=Europe/Zurich:20251124T170000
DTSTAMP:20260424T014936
CREATED:20250908T180129Z
LAST-MODIFIED:20250908T180129Z
UID:10001744-1763971200-1764003600@ettiswil.ch
SUMMARY:Jagdtag
DESCRIPTION:Hier könnte Ihr Text stehen…
URL:https://ettiswil.ch/event/jagdtag-8/
CATEGORIES:Verein
ORGANIZER;CN="Jagdgesellschaft Kottwil":MAILTO:rene.lustenberger@hotmail.ch
END:VEVENT
BEGIN:VEVENT
DTSTART;TZID=Europe/Zurich:20251124T133000
DTEND;TZID=Europe/Zurich:20251124T170000
DTSTAMP:20260424T014936
CREATED:20250113T155647Z
LAST-MODIFIED:20250113T160721Z
UID:10001480-1763991000-1764003600@ettiswil.ch
SUMMARY:Mütter- und Väterberatung
DESCRIPTION:Die Mütter- und Väterberatung des Sozialberatungszentrums Willisau-Wiggertal (SoBZ) ist eine Anlaufstelle für Familien mit Kindern ab Geburt bis zum Eintritt in den Kindergarten. Haben Sie Fragen zur Gesundheit\, zur Ernährung\, Entwicklung oder Erziehung ihres Kindes? Dann dürften Sie sich an uns wenden. Die Beratungen sind für Sie kostenlos.\n\n\nUnsere Fachmitarbeiterinnen verfügen über eine fundierte Ausbildung als Pflegefachfrau HF/FH KJFF (Schwerpunkt Kinder\, Jugendliche\, Frauen und Familien) oder Sozialberaterin FH.\n\nDie Beratungen finden in Ettiswil\, Dorf 21 (im Schulhaus neben der Spielgruppe\, Räumlichkeiten Chäferli) statt. Sie können sich online auf unserer Homepage www.sobz-willisau-wiggertal.ch oder direkt über folgenden Link anmelden. \n\nTelefonberatungen können Sie von Montag bis Donnerstag von 8:30 bis 11:30 Uhr unter 041 972 56 30 in Anspruch nehmen.\n\nWir freuen uns auf Sie.\n\n\n\nSabrina Nikles (Mütter- und Väterberaterin) und das Team der Mütter- und Väterberatung Willisau-Wiggertal\n\n\nFremdsprachige Erklärvideos zur Mütter- und Väterberatung
URL:https://ettiswil.ch/event/muetter-und-vaeterberatung-2/2025-11-24/
LOCATION:Schulgebäude Spielgruppe (Räumlichkeiten Chäferli)\, Dorf 21\, Ettiswil\, Luzern\, 6218
CATEGORIES:Dienststellen
ORGANIZER;CN="Beratung Fr%C3%BChe Kindheit (MVB)":MAILTO:mvb.willisau@sobz-willisau.ch
END:VEVENT
END:VCALENDAR