BEGIN:VCALENDAR
VERSION:2.0
PRODID:-//Gemeinde Ettiswil - ECPv6.15.20//NONSGML v1.0//EN
CALSCALE:GREGORIAN
METHOD:PUBLISH
X-WR-CALNAME:Gemeinde Ettiswil
X-ORIGINAL-URL:https://ettiswil.ch
X-WR-CALDESC:Veranstaltungen für Gemeinde Ettiswil
REFRESH-INTERVAL;VALUE=DURATION:PT1H
X-Robots-Tag:noindex
X-PUBLISHED-TTL:PT1H
BEGIN:VTIMEZONE
TZID:Europe/Zurich
BEGIN:DAYLIGHT
TZOFFSETFROM:+0100
TZOFFSETTO:+0200
TZNAME:CEST
DTSTART:20240331T010000
END:DAYLIGHT
BEGIN:STANDARD
TZOFFSETFROM:+0200
TZOFFSETTO:+0100
TZNAME:CET
DTSTART:20241027T010000
END:STANDARD
BEGIN:DAYLIGHT
TZOFFSETFROM:+0100
TZOFFSETTO:+0200
TZNAME:CEST
DTSTART:20250330T010000
END:DAYLIGHT
BEGIN:STANDARD
TZOFFSETFROM:+0200
TZOFFSETTO:+0100
TZNAME:CET
DTSTART:20251026T010000
END:STANDARD
BEGIN:DAYLIGHT
TZOFFSETFROM:+0100
TZOFFSETTO:+0200
TZNAME:CEST
DTSTART:20260329T010000
END:DAYLIGHT
BEGIN:STANDARD
TZOFFSETFROM:+0200
TZOFFSETTO:+0100
TZNAME:CET
DTSTART:20261025T010000
END:STANDARD
END:VTIMEZONE
BEGIN:VEVENT
DTSTART;VALUE=DATE:20251208
DTEND;VALUE=DATE:20251209
DTSTAMP:20260423T173032
CREATED:20250924T125108Z
LAST-MODIFIED:20250924T125108Z
UID:10001785-1765152000-1765238399@ettiswil.ch
SUMMARY:Mariä Empfängnis - Schulfrei
DESCRIPTION:
URL:https://ettiswil.ch/event/mariae-empfaengnis-schulfrei/
CATEGORIES:Bildung
ORGANIZER;CN="Schule Ettiswil":MAILTO:sekretariat@schule-ettiswil.ch
END:VEVENT
BEGIN:VEVENT
DTSTART;VALUE=DATE:20251208
DTEND;VALUE=DATE:20251209
DTSTAMP:20260423T173032
CREATED:20251021T190630Z
LAST-MODIFIED:20251021T190630Z
UID:10002074-1765152000-1765238399@ettiswil.ch
SUMMARY:Einfahrtag
DESCRIPTION:Hier könnte Ihr Text stehen…
URL:https://ettiswil.ch/event/einfahrtag/2025-12-08/
CATEGORIES:Verein
ORGANIZER;CN="Skiclub Ettiswil":MAILTO:info@skiclub-ettiswil.ch
END:VEVENT
END:VCALENDAR