BEGIN:VCALENDAR
VERSION:2.0
PRODID:-//Gemeinde Ettiswil - ECPv6.15.20//NONSGML v1.0//EN
CALSCALE:GREGORIAN
METHOD:PUBLISH
X-WR-CALNAME:Gemeinde Ettiswil
X-ORIGINAL-URL:https://ettiswil.ch
X-WR-CALDESC:Veranstaltungen für Gemeinde Ettiswil
REFRESH-INTERVAL;VALUE=DURATION:PT1H
X-Robots-Tag:noindex
X-PUBLISHED-TTL:PT1H
BEGIN:VTIMEZONE
TZID:Europe/Zurich
BEGIN:DAYLIGHT
TZOFFSETFROM:+0100
TZOFFSETTO:+0200
TZNAME:CEST
DTSTART:20240331T010000
END:DAYLIGHT
BEGIN:STANDARD
TZOFFSETFROM:+0200
TZOFFSETTO:+0100
TZNAME:CET
DTSTART:20241027T010000
END:STANDARD
BEGIN:DAYLIGHT
TZOFFSETFROM:+0100
TZOFFSETTO:+0200
TZNAME:CEST
DTSTART:20250330T010000
END:DAYLIGHT
BEGIN:STANDARD
TZOFFSETFROM:+0200
TZOFFSETTO:+0100
TZNAME:CET
DTSTART:20251026T010000
END:STANDARD
BEGIN:DAYLIGHT
TZOFFSETFROM:+0100
TZOFFSETTO:+0200
TZNAME:CEST
DTSTART:20260329T010000
END:DAYLIGHT
BEGIN:STANDARD
TZOFFSETFROM:+0200
TZOFFSETTO:+0100
TZNAME:CET
DTSTART:20261025T010000
END:STANDARD
END:VTIMEZONE
BEGIN:VEVENT
DTSTART;VALUE=DATE:20251214
DTEND;VALUE=DATE:20251215
DTSTAMP:20260423T173038
CREATED:20250603T085949Z
LAST-MODIFIED:20250603T085949Z
UID:10001656-1765670400-1765756799@ettiswil.ch
SUMMARY:Adventskonzert Burgrain-Musikanten mit Geschwister Erni & Papa
DESCRIPTION:
URL:https://ettiswil.ch/event/adventskonzert-burgrain-musikanten-mit-geschwister-erni-papa/
LOCATION:Pfarrkirche Grossdietwil
CATEGORIES:Verein
ORGANIZER;CN="Burgrain-Musikanten":MAILTO:balmweg3@bluewin.ch
END:VEVENT
BEGIN:VEVENT
DTSTART;TZID=Europe/Zurich:20251214T143000
DTEND;TZID=Europe/Zurich:20251214T143000
DTSTAMP:20260423T173038
CREATED:20251013T095545Z
LAST-MODIFIED:20251013T095545Z
UID:10001946-1765722600-1765722600@ettiswil.ch
SUMMARY:Eröffnung Konzert FM Willisau durch Startup Band; Lukas Erni
DESCRIPTION:Hier könnte Ihr Text stehen…
URL:https://ettiswil.ch/event/eroeffnung-konzert-fm-willisau-durch-startup-band-lukas-erni/
LOCATION:Willisau\, Festhalle
CATEGORIES:Bildung
ORGANIZER;CN="Musikschule Region Willisau":MAILTO:info@msrwillisau.ch
END:VEVENT
BEGIN:VEVENT
DTSTART;TZID=Europe/Zurich:20251214T170000
DTEND;TZID=Europe/Zurich:20251214T170000
DTSTAMP:20260423T173038
CREATED:20251103T112218Z
LAST-MODIFIED:20251103T112218Z
UID:10002266-1765731600-1765731600@ettiswil.ch
SUMMARY:Adventskonzert der Musikschule
DESCRIPTION:Hier könnte Ihr Text stehen…
URL:https://ettiswil.ch/event/adventskonzert-der-musikschule/
LOCATION:Zell\, Pfarrkirche
CATEGORIES:Bildung
ORGANIZER;CN="Musikschule Region Willisau":MAILTO:info@msrwillisau.ch
END:VEVENT
END:VCALENDAR