BEGIN:VCALENDAR
VERSION:2.0
PRODID:-//Gemeinde Ettiswil - ECPv6.15.20//NONSGML v1.0//EN
CALSCALE:GREGORIAN
METHOD:PUBLISH
X-WR-CALNAME:Gemeinde Ettiswil
X-ORIGINAL-URL:https://ettiswil.ch
X-WR-CALDESC:Veranstaltungen für Gemeinde Ettiswil
REFRESH-INTERVAL;VALUE=DURATION:PT1H
X-Robots-Tag:noindex
X-PUBLISHED-TTL:PT1H
BEGIN:VTIMEZONE
TZID:Europe/Zurich
BEGIN:DAYLIGHT
TZOFFSETFROM:+0100
TZOFFSETTO:+0200
TZNAME:CEST
DTSTART:20250330T010000
END:DAYLIGHT
BEGIN:STANDARD
TZOFFSETFROM:+0200
TZOFFSETTO:+0100
TZNAME:CET
DTSTART:20251026T010000
END:STANDARD
BEGIN:DAYLIGHT
TZOFFSETFROM:+0100
TZOFFSETTO:+0200
TZNAME:CEST
DTSTART:20260329T010000
END:DAYLIGHT
BEGIN:STANDARD
TZOFFSETFROM:+0200
TZOFFSETTO:+0100
TZNAME:CET
DTSTART:20261025T010000
END:STANDARD
BEGIN:DAYLIGHT
TZOFFSETFROM:+0100
TZOFFSETTO:+0200
TZNAME:CEST
DTSTART:20270328T010000
END:DAYLIGHT
BEGIN:STANDARD
TZOFFSETFROM:+0200
TZOFFSETTO:+0100
TZNAME:CET
DTSTART:20271031T010000
END:STANDARD
END:VTIMEZONE
BEGIN:VEVENT
DTSTART;TZID=Europe/Zurich:20260113T122000
DTEND;TZID=Europe/Zurich:20260113T122000
DTSTAMP:20260423T161314
CREATED:20251013T100345Z
LAST-MODIFIED:20251013T100345Z
UID:10001950-1768306800-1768306800@ettiswil.ch
SUMMARY:Open Stage der Kantonsschule
DESCRIPTION:Hier könnte Ihr Text stehen…
URL:https://ettiswil.ch/event/open-stage-der-kantonsschule/
LOCATION:Willisau\, Kanti
CATEGORIES:Bildung
ORGANIZER;CN="Musikschule Region Willisau":MAILTO:info@msrwillisau.ch
END:VEVENT
BEGIN:VEVENT
DTSTART;TZID=Europe/Zurich:20260113T203000
DTEND;TZID=Europe/Zurich:20260113T220000
DTSTAMP:20260423T161314
CREATED:20250929T090511Z
LAST-MODIFIED:20250929T090518Z
UID:10001842-1768336200-1768341600@ettiswil.ch
SUMMARY:Damen WM Match
DESCRIPTION:VBC Ettiswil – STV Zell
URL:https://ettiswil.ch/event/damen-wm-match-3/
LOCATION:Büelacherhalle\, Ettiswil
CATEGORIES:Verein
ORGANIZER;CN="VBC Ettiswil":MAILTO:eaarnold@bluewin.ch
END:VEVENT
END:VCALENDAR