BEGIN:VCALENDAR
VERSION:2.0
PRODID:-//Gemeinde Ettiswil - ECPv6.15.20//NONSGML v1.0//EN
CALSCALE:GREGORIAN
METHOD:PUBLISH
X-WR-CALNAME:Gemeinde Ettiswil
X-ORIGINAL-URL:https://ettiswil.ch
X-WR-CALDESC:Veranstaltungen für Gemeinde Ettiswil
REFRESH-INTERVAL;VALUE=DURATION:PT1H
X-Robots-Tag:noindex
X-PUBLISHED-TTL:PT1H
BEGIN:VTIMEZONE
TZID:Europe/Zurich
BEGIN:DAYLIGHT
TZOFFSETFROM:+0100
TZOFFSETTO:+0200
TZNAME:CEST
DTSTART:20250330T010000
END:DAYLIGHT
BEGIN:STANDARD
TZOFFSETFROM:+0200
TZOFFSETTO:+0100
TZNAME:CET
DTSTART:20251026T010000
END:STANDARD
BEGIN:DAYLIGHT
TZOFFSETFROM:+0100
TZOFFSETTO:+0200
TZNAME:CEST
DTSTART:20260329T010000
END:DAYLIGHT
BEGIN:STANDARD
TZOFFSETFROM:+0200
TZOFFSETTO:+0100
TZNAME:CET
DTSTART:20261025T010000
END:STANDARD
BEGIN:DAYLIGHT
TZOFFSETFROM:+0100
TZOFFSETTO:+0200
TZNAME:CEST
DTSTART:20270328T010000
END:DAYLIGHT
BEGIN:STANDARD
TZOFFSETFROM:+0200
TZOFFSETTO:+0100
TZNAME:CET
DTSTART:20271031T010000
END:STANDARD
END:VTIMEZONE
BEGIN:VEVENT
DTSTART;VALUE=DATE:20260116
DTEND;VALUE=DATE:20260117
DTSTAMP:20260423T161314
CREATED:20240926T143918Z
LAST-MODIFIED:20241002T085241Z
UID:10000329-1768521600-1768607999@ettiswil.ch
SUMMARY:85. Generalversammlung
DESCRIPTION:
URL:https://ettiswil.ch/event/85-generalversammlung-sanitaetsteam/
LOCATION:gemäss Einladung
CATEGORIES:Verein
ORGANIZER;CN="Sanit%C3%A4tsteam Ettiswil":MAILTO:info@sanitaetsteamettiswil.ch
END:VEVENT
BEGIN:VEVENT
DTSTART;TZID=Europe/Zurich:20260116T140000
DTEND;TZID=Europe/Zurich:20260116T163000
DTSTAMP:20260423T161314
CREATED:20250717T122009Z
LAST-MODIFIED:20250717T125328Z
UID:10001729-1768572000-1768581000@ettiswil.ch
SUMMARY:Infoveranstaltung "Sicherheit im Alter" Prävention Luzerner Polizei
DESCRIPTION:
URL:https://ettiswil.ch/event/infoveranstaltung-sicherheit-im-alter-praevention-luzerner-polizei/
ORGANIZER;CN="Alterskommission Ettiswil & Alberswil":MAILTO:sokuan@ettiswil.ch
END:VEVENT
END:VCALENDAR