BEGIN:VCALENDAR
VERSION:2.0
PRODID:-//Gemeinde Ettiswil - ECPv6.15.20//NONSGML v1.0//EN
CALSCALE:GREGORIAN
METHOD:PUBLISH
X-WR-CALNAME:Gemeinde Ettiswil
X-ORIGINAL-URL:https://ettiswil.ch
X-WR-CALDESC:Veranstaltungen für Gemeinde Ettiswil
REFRESH-INTERVAL;VALUE=DURATION:PT1H
X-Robots-Tag:noindex
X-PUBLISHED-TTL:PT1H
BEGIN:VTIMEZONE
TZID:Europe/Zurich
BEGIN:DAYLIGHT
TZOFFSETFROM:+0100
TZOFFSETTO:+0200
TZNAME:CEST
DTSTART:20250330T010000
END:DAYLIGHT
BEGIN:STANDARD
TZOFFSETFROM:+0200
TZOFFSETTO:+0100
TZNAME:CET
DTSTART:20251026T010000
END:STANDARD
BEGIN:DAYLIGHT
TZOFFSETFROM:+0100
TZOFFSETTO:+0200
TZNAME:CEST
DTSTART:20260329T010000
END:DAYLIGHT
BEGIN:STANDARD
TZOFFSETFROM:+0200
TZOFFSETTO:+0100
TZNAME:CET
DTSTART:20261025T010000
END:STANDARD
BEGIN:DAYLIGHT
TZOFFSETFROM:+0100
TZOFFSETTO:+0200
TZNAME:CEST
DTSTART:20270328T010000
END:DAYLIGHT
BEGIN:STANDARD
TZOFFSETFROM:+0200
TZOFFSETTO:+0100
TZNAME:CET
DTSTART:20271031T010000
END:STANDARD
END:VTIMEZONE
BEGIN:VEVENT
DTSTART;VALUE=DATE:20260121
DTEND;VALUE=DATE:20260122
DTSTAMP:20260423T161244
CREATED:20251017T063610Z
LAST-MODIFIED:20251105T093227Z
UID:10001997-1768953600-1769039999@ettiswil.ch
SUMMARY:Babysitterkurs
DESCRIPTION:Hier könnte Ihr Text stehen…
URL:https://ettiswil.ch/event/babysitterkurs/
CATEGORIES:Verein
ORGANIZER;CN="Treffpunkt Frauen":MAILTO:vorstand@treffpunktfrauen-ettiswil.ch
END:VEVENT
BEGIN:VEVENT
DTSTART;VALUE=DATE:20260121
DTEND;VALUE=DATE:20260122
DTSTAMP:20260423T161244
CREATED:20251203T063419Z
LAST-MODIFIED:20251203T063419Z
UID:10002610-1768953600-1769039999@ettiswil.ch
SUMMARY:Redaktionsschluss Februar-Mobile
DESCRIPTION:
URL:https://ettiswil.ch/event/redaktionsschluss-februar-mobile/
CATEGORIES:Gemeinde
END:VEVENT
BEGIN:VEVENT
DTSTART;VALUE=DATE:20260121
DTEND;VALUE=DATE:20260122
DTSTAMP:20260423T161244
CREATED:20251211T092252Z
LAST-MODIFIED:20251211T092252Z
UID:10002721-1768982400-1769014800@ettiswil.ch
SUMMARY:Kehricht
DESCRIPTION:Beck Umweltservice AG\, Sursee
URL:https://ettiswil.ch/event/kehricht-3/2026-01-21/
LOCATION:Stelle Hauskehricht
END:VEVENT
BEGIN:VEVENT
DTSTART;TZID=Europe/Zurich:20260121T133000
DTEND;TZID=Europe/Zurich:20260121T170000
DTSTAMP:20260423T161244
CREATED:20251017T063702Z
LAST-MODIFIED:20251121T192910Z
UID:10001998-1769002200-1769014800@ettiswil.ch
SUMMARY:TreffpunktChinder\, Zirkus zum Mitmachen - mit Paffi & Paffine
DESCRIPTION:Hier könnte Ihr Text stehen…
URL:https://ettiswil.ch/event/treffpunktchinder-zirkus/
CATEGORIES:Verein
ORGANIZER;CN="Treffpunkt Frauen":MAILTO:vorstand@treffpunktfrauen-ettiswil.ch
END:VEVENT
END:VCALENDAR