BEGIN:VCALENDAR
VERSION:2.0
PRODID:-//Gemeinde Ettiswil - ECPv6.15.20//NONSGML v1.0//EN
CALSCALE:GREGORIAN
METHOD:PUBLISH
X-WR-CALNAME:Gemeinde Ettiswil
X-ORIGINAL-URL:https://ettiswil.ch
X-WR-CALDESC:Veranstaltungen für Gemeinde Ettiswil
REFRESH-INTERVAL;VALUE=DURATION:PT1H
X-Robots-Tag:noindex
X-PUBLISHED-TTL:PT1H
BEGIN:VTIMEZONE
TZID:Europe/Zurich
BEGIN:DAYLIGHT
TZOFFSETFROM:+0100
TZOFFSETTO:+0200
TZNAME:CEST
DTSTART:20250330T010000
END:DAYLIGHT
BEGIN:STANDARD
TZOFFSETFROM:+0200
TZOFFSETTO:+0100
TZNAME:CET
DTSTART:20251026T010000
END:STANDARD
BEGIN:DAYLIGHT
TZOFFSETFROM:+0100
TZOFFSETTO:+0200
TZNAME:CEST
DTSTART:20260329T010000
END:DAYLIGHT
BEGIN:STANDARD
TZOFFSETFROM:+0200
TZOFFSETTO:+0100
TZNAME:CET
DTSTART:20261025T010000
END:STANDARD
BEGIN:DAYLIGHT
TZOFFSETFROM:+0100
TZOFFSETTO:+0200
TZNAME:CEST
DTSTART:20270328T010000
END:DAYLIGHT
BEGIN:STANDARD
TZOFFSETFROM:+0200
TZOFFSETTO:+0100
TZNAME:CET
DTSTART:20271031T010000
END:STANDARD
END:VTIMEZONE
BEGIN:VEVENT
DTSTART;VALUE=DATE:20260204
DTEND;VALUE=DATE:20260205
DTSTAMP:20260423T145039
CREATED:20251211T092252Z
LAST-MODIFIED:20251211T092252Z
UID:10002723-1770192000-1770224400@ettiswil.ch
SUMMARY:Kehricht
DESCRIPTION:Beck Umweltservice AG\, Sursee
URL:https://ettiswil.ch/event/kehricht-3/2026-02-04/
LOCATION:Stelle Hauskehricht
END:VEVENT
BEGIN:VEVENT
DTSTART;TZID=Europe/Zurich:20260204T190000
DTEND;TZID=Europe/Zurich:20260204T200000
DTSTAMP:20260423T145039
CREATED:20251105T095946Z
LAST-MODIFIED:20251105T102408Z
UID:10002288-1770231600-1770235200@ettiswil.ch
SUMMARY:Konzert Fachschaft Gesang; Flavia Frey\, Basia Jaggi\, Katrin Lüthi\, Gabriel Söllinger
DESCRIPTION:Hier könnte Ihr Text stehen…
URL:https://ettiswil.ch/event/konzert-fachschaft-gesangfreyjaggiluethisoellinger/
LOCATION:Willisau\, Kanti Aula
CATEGORIES:Bildung
ORGANIZER;CN="Musikschule Region Willisau":MAILTO:info@msrwillisau.ch
END:VEVENT
BEGIN:VEVENT
DTSTART;TZID=Europe/Zurich:20260204T190000
DTEND;TZID=Europe/Zurich:20260204T210000
DTSTAMP:20260423T145039
CREATED:20251019T140709Z
LAST-MODIFIED:20260111T121837Z
UID:10002005-1770231600-1770238800@ettiswil.ch
SUMMARY:Vereinsübung mit Jugend-Sanitätsteam
DESCRIPTION:
URL:https://ettiswil.ch/event/vereinsuebung-2/
LOCATION:Sigristenhaus Ettiswil
CATEGORIES:Verein
ORGANIZER;CN="Sanit%C3%A4tsteam Ettiswil":MAILTO:info@sanitaetsteamettiswil.ch
END:VEVENT
BEGIN:VEVENT
DTSTART;TZID=Europe/Zurich:20260204T190000
DTEND;TZID=Europe/Zurich:20260204T210000
DTSTAMP:20260423T145039
CREATED:20251021T155706Z
LAST-MODIFIED:20260121T131651Z
UID:10002059-1770231600-1770238800@ettiswil.ch
SUMMARY:Vereinsübung mit Sanitätsteam
DESCRIPTION:
URL:https://ettiswil.ch/event/vereinsuebung-3/
LOCATION:Sigristenhaus Ettiswil
CATEGORIES:Verein
ORGANIZER;CN="Jugend-Sanit%C3%A4tsteam Ettiswil":MAILTO:jugend@sanitaetsteamettiswil.ch
END:VEVENT
END:VCALENDAR