BEGIN:VCALENDAR
VERSION:2.0
PRODID:-//Gemeinde Ettiswil - ECPv6.15.20//NONSGML v1.0//EN
CALSCALE:GREGORIAN
METHOD:PUBLISH
X-WR-CALNAME:Gemeinde Ettiswil
X-ORIGINAL-URL:https://ettiswil.ch
X-WR-CALDESC:Veranstaltungen für Gemeinde Ettiswil
REFRESH-INTERVAL;VALUE=DURATION:PT1H
X-Robots-Tag:noindex
X-PUBLISHED-TTL:PT1H
BEGIN:VTIMEZONE
TZID:Europe/Zurich
BEGIN:DAYLIGHT
TZOFFSETFROM:+0100
TZOFFSETTO:+0200
TZNAME:CEST
DTSTART:20250330T010000
END:DAYLIGHT
BEGIN:STANDARD
TZOFFSETFROM:+0200
TZOFFSETTO:+0100
TZNAME:CET
DTSTART:20251026T010000
END:STANDARD
BEGIN:DAYLIGHT
TZOFFSETFROM:+0100
TZOFFSETTO:+0200
TZNAME:CEST
DTSTART:20260329T010000
END:DAYLIGHT
BEGIN:STANDARD
TZOFFSETFROM:+0200
TZOFFSETTO:+0100
TZNAME:CET
DTSTART:20261025T010000
END:STANDARD
BEGIN:DAYLIGHT
TZOFFSETFROM:+0100
TZOFFSETTO:+0200
TZNAME:CEST
DTSTART:20270328T010000
END:DAYLIGHT
BEGIN:STANDARD
TZOFFSETFROM:+0200
TZOFFSETTO:+0100
TZNAME:CET
DTSTART:20271031T010000
END:STANDARD
END:VTIMEZONE
BEGIN:VEVENT
DTSTART;TZID=Europe/Zurich:20260206T170000
DTEND;TZID=Europe/Zurich:20260307T020000
DTSTAMP:20260423T145147
CREATED:20251021T120159Z
LAST-MODIFIED:20251021T120159Z
UID:10002055-1770397200-1772848800@ettiswil.ch
SUMMARY:Fasnachtseröffnung
DESCRIPTION:Hier könnte Ihr Text stehen…
URL:https://ettiswil.ch/event/fasnachtseroeffnung/
LOCATION:Gemeindeparkplatz Ettiswil
CATEGORIES:Verein
ORGANIZER;CN="Guggichacheler Ettiswil":MAILTO:timob43@gmail.com
END:VEVENT
BEGIN:VEVENT
DTSTART;VALUE=DATE:20260207
DTEND;VALUE=DATE:20260223
DTSTAMP:20260423T145147
CREATED:20250924T123807Z
LAST-MODIFIED:20250924T124339Z
UID:10001781-1770422400-1771804799@ettiswil.ch
SUMMARY:Fasnachtsferien
DESCRIPTION:
URL:https://ettiswil.ch/event/fasnachtsferien-2/
CATEGORIES:Bildung
ORGANIZER;CN="Schule Ettiswil":MAILTO:sekretariat@schule-ettiswil.ch
END:VEVENT
BEGIN:VEVENT
DTSTART;TZID=Europe/Zurich:20260219T131500
DTEND;TZID=Europe/Zurich:20260219T170000
DTSTAMP:20260423T145147
CREATED:20251026T175737Z
LAST-MODIFIED:20251026T175737Z
UID:10002158-1771506900-1771520400@ettiswil.ch
SUMMARY:Nachmittagswanderung
DESCRIPTION:Hier könnte Ihr Text stehen…
URL:https://ettiswil.ch/event/nachmittagswanderung/2026-02-19/
LOCATION:Postplatz Ettiswil\, Postplatz (Bushaltestelle)\, Ettiswil\, Switzerland
CATEGORIES:Verein
ORGANIZER;CN="Silberstreifen 60 plus":MAILTO:vreni.korner@gmail.com
END:VEVENT
BEGIN:VEVENT
DTSTART;TZID=Europe/Zurich:20260219T190000
DTEND;TZID=Europe/Zurich:20260219T210000
DTSTAMP:20260423T145147
CREATED:20250929T193601Z
LAST-MODIFIED:20251107T114415Z
UID:10001856-1771527600-1771534800@ettiswil.ch
SUMMARY:RV Ettiswil Winterspringkurs
DESCRIPTION:Hier könnte Ihr Text stehen…
URL:https://ettiswil.ch/event/winterspringkurs-mit-anja-sanchez/2026-02-19/
LOCATION:Reitanlage Ettiswil Feld 11\, Feld 11\, Ettiswil
CATEGORIES:Verein
ORGANIZER;CN="Reitverein Schloss Wyher":MAILTO:manuela.muff@rv-ettiswil.ch
END:VEVENT
END:VCALENDAR