BEGIN:VCALENDAR
VERSION:2.0
PRODID:-//Gemeinde Ettiswil - ECPv6.15.20//NONSGML v1.0//EN
CALSCALE:GREGORIAN
METHOD:PUBLISH
X-WR-CALNAME:Gemeinde Ettiswil
X-ORIGINAL-URL:https://ettiswil.ch
X-WR-CALDESC:Veranstaltungen für Gemeinde Ettiswil
REFRESH-INTERVAL;VALUE=DURATION:PT1H
X-Robots-Tag:noindex
X-PUBLISHED-TTL:PT1H
BEGIN:VTIMEZONE
TZID:Europe/Zurich
BEGIN:DAYLIGHT
TZOFFSETFROM:+0100
TZOFFSETTO:+0200
TZNAME:CEST
DTSTART:20250330T010000
END:DAYLIGHT
BEGIN:STANDARD
TZOFFSETFROM:+0200
TZOFFSETTO:+0100
TZNAME:CET
DTSTART:20251026T010000
END:STANDARD
BEGIN:DAYLIGHT
TZOFFSETFROM:+0100
TZOFFSETTO:+0200
TZNAME:CEST
DTSTART:20260329T010000
END:DAYLIGHT
BEGIN:STANDARD
TZOFFSETFROM:+0200
TZOFFSETTO:+0100
TZNAME:CET
DTSTART:20261025T010000
END:STANDARD
BEGIN:DAYLIGHT
TZOFFSETFROM:+0100
TZOFFSETTO:+0200
TZNAME:CEST
DTSTART:20270328T010000
END:DAYLIGHT
BEGIN:STANDARD
TZOFFSETFROM:+0200
TZOFFSETTO:+0100
TZNAME:CET
DTSTART:20271031T010000
END:STANDARD
END:VTIMEZONE
BEGIN:VEVENT
DTSTART;VALUE=DATE:20260403
DTEND;VALUE=DATE:20260420
DTSTAMP:20260421T122054
CREATED:20250924T123917Z
LAST-MODIFIED:20250924T123917Z
UID:10001782-1775174400-1776643199@ettiswil.ch
SUMMARY:Osterferien
DESCRIPTION:
URL:https://ettiswil.ch/event/osterferien-2/
CATEGORIES:Bildung
ORGANIZER;CN="Schule Ettiswil":MAILTO:sekretariat@schule-ettiswil.ch
END:VEVENT
BEGIN:VEVENT
DTSTART;VALUE=DATE:20260408
DTEND;VALUE=DATE:20260409
DTSTAMP:20260421T122054
CREATED:20251211T092252Z
LAST-MODIFIED:20251211T092252Z
UID:10002732-1775635200-1775667600@ettiswil.ch
SUMMARY:Kehricht
DESCRIPTION:Beck Umweltservice AG\, Sursee
URL:https://ettiswil.ch/event/kehricht-3/2026-04-08/
LOCATION:Stelle Hauskehricht
END:VEVENT
BEGIN:VEVENT
DTSTART;TZID=Europe/Zurich:20260408T180000
DTEND;TZID=Europe/Zurich:20260408T200000
DTSTAMP:20260421T122054
CREATED:20251119T140959Z
LAST-MODIFIED:20251119T141615Z
UID:10002576-1775671200-1775678400@ettiswil.ch
SUMMARY:Training / Jungschützenkurs / Waldstrasse gesperrt
DESCRIPTION:Hier könnte Ihr Text stehen…
URL:https://ettiswil.ch/event/training-jungschuetzenkurs-waldstrasse-gesperrt-12/
LOCATION:Schiessanlage Wyden\, Ettiswil
CATEGORIES:Verein
ORGANIZER;CN="Feldsch%C3%BCtzen Ettiswil":MAILTO:maeggihaefliger@bluewin.ch
END:VEVENT
END:VCALENDAR