BEGIN:VCALENDAR
VERSION:2.0
PRODID:-//Gemeinde Ettiswil - ECPv6.15.20//NONSGML v1.0//EN
CALSCALE:GREGORIAN
METHOD:PUBLISH
X-WR-CALNAME:Gemeinde Ettiswil
X-ORIGINAL-URL:https://ettiswil.ch
X-WR-CALDESC:Veranstaltungen für Gemeinde Ettiswil
REFRESH-INTERVAL;VALUE=DURATION:PT1H
X-Robots-Tag:noindex
X-PUBLISHED-TTL:PT1H
BEGIN:VTIMEZONE
TZID:Europe/Zurich
BEGIN:DAYLIGHT
TZOFFSETFROM:+0100
TZOFFSETTO:+0200
TZNAME:CEST
DTSTART:20250330T010000
END:DAYLIGHT
BEGIN:STANDARD
TZOFFSETFROM:+0200
TZOFFSETTO:+0100
TZNAME:CET
DTSTART:20251026T010000
END:STANDARD
BEGIN:DAYLIGHT
TZOFFSETFROM:+0100
TZOFFSETTO:+0200
TZNAME:CEST
DTSTART:20260329T010000
END:DAYLIGHT
BEGIN:STANDARD
TZOFFSETFROM:+0200
TZOFFSETTO:+0100
TZNAME:CET
DTSTART:20261025T010000
END:STANDARD
BEGIN:DAYLIGHT
TZOFFSETFROM:+0100
TZOFFSETTO:+0200
TZNAME:CEST
DTSTART:20270328T010000
END:DAYLIGHT
BEGIN:STANDARD
TZOFFSETFROM:+0200
TZOFFSETTO:+0100
TZNAME:CET
DTSTART:20271031T010000
END:STANDARD
END:VTIMEZONE
BEGIN:VEVENT
DTSTART;VALUE=DATE:20260403
DTEND;VALUE=DATE:20260420
DTSTAMP:20260423T123721
CREATED:20250924T123917Z
LAST-MODIFIED:20250924T123917Z
UID:10001782-1775174400-1776643199@ettiswil.ch
SUMMARY:Osterferien
DESCRIPTION:
URL:https://ettiswil.ch/event/osterferien-2/
CATEGORIES:Bildung
ORGANIZER;CN="Schule Ettiswil":MAILTO:sekretariat@schule-ettiswil.ch
END:VEVENT
BEGIN:VEVENT
DTSTART;VALUE=DATE:20260418
DTEND;VALUE=DATE:20260419
DTSTAMP:20260423T123721
CREATED:20241128T155950Z
LAST-MODIFIED:20241128T155950Z
UID:10001374-1776531591-1776531591@ettiswil.ch
SUMMARY:Konzert & Theater
DESCRIPTION:
URL:https://ettiswil.ch/event/konzert-theater/2026-04-18/
LOCATION:Alberswil
ORGANIZER;CN="Jodlerklub Edelweiss":MAILTO:kuedu.ramseier@bluewin.ch
END:VEVENT
BEGIN:VEVENT
DTSTART;TZID=Europe/Zurich:20260418T200000
DTEND;TZID=Europe/Zurich:20260418T200000
DTSTAMP:20260423T123721
CREATED:20251015T085650Z
LAST-MODIFIED:20251015T085650Z
UID:10001975-1776542400-1776542400@ettiswil.ch
SUMMARY:Schlusskonzert des Musiklagers der JM und BB Crescendo Hergiswil-Menznau
DESCRIPTION:Hier könnte Ihr Text stehen…
URL:https://ettiswil.ch/event/schlusskonzert-des-musiklagers-der-jm-und-bb-crescendo-hergiswil-menznau/
LOCATION:Hergiswil\, Mehrzweckhalle
CATEGORIES:Bildung
ORGANIZER;CN="Musikschule Region Willisau":MAILTO:info@msrwillisau.ch
END:VEVENT
BEGIN:VEVENT
DTSTART;TZID=Europe/Zurich:20260418T200000
DTEND;TZID=Europe/Zurich:20260418T230000
DTSTAMP:20260423T123721
CREATED:20251014T152354Z
LAST-MODIFIED:20251014T152354Z
UID:10001964-1776542400-1776553200@ettiswil.ch
SUMMARY:Turnshow STV Ettiswil
DESCRIPTION:Hier könnte Ihr Text stehen…
URL:https://ettiswil.ch/event/turnshow-stv-ettiswil-4/
LOCATION:Büelacherhalle\, Ettiswil
CATEGORIES:Verein
ORGANIZER;CN="STV Ettiswil":MAILTO:info@stv-ettiswil.ch
END:VEVENT
END:VCALENDAR