BEGIN:VCALENDAR
VERSION:2.0
PRODID:-//Gemeinde Ettiswil - ECPv6.15.20//NONSGML v1.0//EN
CALSCALE:GREGORIAN
METHOD:PUBLISH
X-WR-CALNAME:Gemeinde Ettiswil
X-ORIGINAL-URL:https://ettiswil.ch
X-WR-CALDESC:Veranstaltungen für Gemeinde Ettiswil
REFRESH-INTERVAL;VALUE=DURATION:PT1H
X-Robots-Tag:noindex
X-PUBLISHED-TTL:PT1H
BEGIN:VTIMEZONE
TZID:Europe/Zurich
BEGIN:DAYLIGHT
TZOFFSETFROM:+0100
TZOFFSETTO:+0200
TZNAME:CEST
DTSTART:20250330T010000
END:DAYLIGHT
BEGIN:STANDARD
TZOFFSETFROM:+0200
TZOFFSETTO:+0100
TZNAME:CET
DTSTART:20251026T010000
END:STANDARD
BEGIN:DAYLIGHT
TZOFFSETFROM:+0100
TZOFFSETTO:+0200
TZNAME:CEST
DTSTART:20260329T010000
END:DAYLIGHT
BEGIN:STANDARD
TZOFFSETFROM:+0200
TZOFFSETTO:+0100
TZNAME:CET
DTSTART:20261025T010000
END:STANDARD
BEGIN:DAYLIGHT
TZOFFSETFROM:+0100
TZOFFSETTO:+0200
TZNAME:CEST
DTSTART:20270328T010000
END:DAYLIGHT
BEGIN:STANDARD
TZOFFSETFROM:+0200
TZOFFSETTO:+0100
TZNAME:CET
DTSTART:20271031T010000
END:STANDARD
END:VTIMEZONE
BEGIN:VEVENT
DTSTART;VALUE=DATE:20260421
DTEND;VALUE=DATE:20260422
DTSTAMP:20260421T081228
CREATED:20251203T063632Z
LAST-MODIFIED:20251203T063632Z
UID:10002613-1776729600-1776815999@ettiswil.ch
SUMMARY:Redaktionsschluss Mai-Mobile
DESCRIPTION:
URL:https://ettiswil.ch/event/redaktionsschluss-mai-mobile/
CATEGORIES:Gemeinde
END:VEVENT
BEGIN:VEVENT
DTSTART;VALUE=DATE:20260422
DTEND;VALUE=DATE:20260423
DTSTAMP:20260421T081228
CREATED:20251021T160513Z
LAST-MODIFIED:20251121T191916Z
UID:10002061-1776816000-1776902399@ettiswil.ch
SUMMARY:Farb- und Raumgestaltung mit Expertin Christina Horber-Buser
DESCRIPTION:Hier könnte Ihr Text stehen…
URL:https://ettiswil.ch/event/farb-und-raumgestaltung-mit-einrichtungsgestalterin-christina-horber-buser/
CATEGORIES:Verein
ORGANIZER;CN="Treffpunkt Frauen":MAILTO:vorstand@treffpunktfrauen-ettiswil.ch
END:VEVENT
BEGIN:VEVENT
DTSTART;VALUE=DATE:20260422
DTEND;VALUE=DATE:20260423
DTSTAMP:20260421T081228
CREATED:20251211T092252Z
LAST-MODIFIED:20251211T092252Z
UID:10002734-1776844800-1776877200@ettiswil.ch
SUMMARY:Kehricht
DESCRIPTION:Beck Umweltservice AG\, Sursee
URL:https://ettiswil.ch/event/kehricht-3/2026-04-22/
LOCATION:Stelle Hauskehricht
END:VEVENT
BEGIN:VEVENT
DTSTART;TZID=Europe/Zurich:20260422T180000
DTEND;TZID=Europe/Zurich:20260422T200000
DTSTAMP:20260421T081228
CREATED:20251119T141254Z
LAST-MODIFIED:20251119T141657Z
UID:10002578-1776880800-1776888000@ettiswil.ch
SUMMARY:Training / Jungschützenkurs / Waldstrasse gesperrt
DESCRIPTION:Hier könnte Ihr Text stehen…
URL:https://ettiswil.ch/event/training-jungschuetzenkurs-waldstrasse-gesperrt-14/
LOCATION:Schiessanlage Wyden\, Ettiswil
CATEGORIES:Verein
ORGANIZER;CN="Feldsch%C3%BCtzen Ettiswil":MAILTO:maeggihaefliger@bluewin.ch
END:VEVENT
BEGIN:VEVENT
DTSTART;TZID=Europe/Zurich:20260422T183000
DTEND;TZID=Europe/Zurich:20260422T193000
DTSTAMP:20260421T081228
CREATED:20251112T101715Z
LAST-MODIFIED:20251112T101715Z
UID:10002566-1776882600-1776886200@ettiswil.ch
SUMMARY:Schülerkonzert; Sarah Ruf\, Gabriel Söllinger
DESCRIPTION:Hier könnte Ihr Text stehen…
URL:https://ettiswil.ch/event/schuelerkonzert-sarah-ruf-gabriel-soellinger/
LOCATION:Willisau\, Kanti Aula
CATEGORIES:Bildung
ORGANIZER;CN="Musikschule Region Willisau":MAILTO:info@msrwillisau.ch
END:VEVENT
BEGIN:VEVENT
DTSTART;TZID=Europe/Zurich:20260422T200000
DTEND;TZID=Europe/Zurich:20260422T220000
DTSTAMP:20260421T081228
CREATED:20251017T150914Z
LAST-MODIFIED:20251019T142438Z
UID:10002007-1776888000-1776895200@ettiswil.ch
SUMMARY:Vereinsübung
DESCRIPTION:
URL:https://ettiswil.ch/event/vereinsuebung/2026-04-22/
LOCATION:Gütschhalde 1\, Kottwil
CATEGORIES:Verein
ORGANIZER;CN="Sanit%C3%A4tsteam Ettiswil":MAILTO:info@sanitaetsteamettiswil.ch
END:VEVENT
BEGIN:VEVENT
DTSTART;TZID=Europe/Zurich:20260423T083000
DTEND;TZID=Europe/Zurich:20260423T093000
DTSTAMP:20260421T081228
CREATED:20251022T114358Z
LAST-MODIFIED:20251022T114445Z
UID:10002107-1776933000-1776936600@ettiswil.ch
SUMMARY:Qi Gong Ettiswil
DESCRIPTION:Ab Januar bietet die Gesundheitsförderung der Gemeinde Ettiswil wöchentliche Qi Gong Lektionen an. Qi Gong fördert die Beweglichkeit\, Balance und Entspannung. Das Angebot ist für alle Interessierten offen und kann kostenlos besucht werden. \nZeit: jeden Donnerstag\, 08:30 bis 09:30 Uhr (keine Lektionen während der Fasnachts- und Osterferien) \nOrt: Pfarrsaal / Wiese \nKursleitung: Barbara Burger \nAnmeldung: Telefon 079 829 31 13 oder E-Mail an sokuan@ettiswil.ch
URL:https://ettiswil.ch/event/qi-gong-ettiswil/2026-04-23/
LOCATION:Pfarrsaal\, Ettiswil
ORGANIZER;CN="Soziokulturelle Animation":MAILTO:sokuan@ettiswil.ch
END:VEVENT
BEGIN:VEVENT
DTSTART;TZID=Europe/Zurich:20260423T163000
DTEND;TZID=Europe/Zurich:20260423T183000
DTSTAMP:20260421T081228
CREATED:20251026T173554Z
LAST-MODIFIED:20251026T173554Z
UID:10002130-1776961800-1776969000@ettiswil.ch
SUMMARY:Boule-Spiel/Pétanque bei passender Witterung
DESCRIPTION:Hier könnte Ihr Text stehen…
URL:https://ettiswil.ch/event/boule-spiel-petanque-bei-passender-witterung/2026-04-23/
LOCATION:Sigristenhaus Ettiswil
CATEGORIES:Verein
ORGANIZER;CN="Silberstreifen 60 plus":MAILTO:vreni.korner@gmail.com
END:VEVENT
BEGIN:VEVENT
DTSTART;VALUE=DATE:20260424
DTEND;VALUE=DATE:20260425
DTSTAMP:20260421T081228
CREATED:20251209T092726Z
LAST-MODIFIED:20251209T093043Z
UID:10002628-1777017600-1777050000@ettiswil.ch
SUMMARY:Grüngutabfuhr
DESCRIPTION:Amstein Robert AG\, Willisau
URL:https://ettiswil.ch/event/gruengutabfuhr/2026-04-24/
LOCATION:Stelle Hauskehricht
END:VEVENT
BEGIN:VEVENT
DTSTART;TZID=Europe/Zurich:20260424T193000
DTEND;TZID=Europe/Zurich:20260424T220000
DTSTAMP:20260421T081228
CREATED:20241008T191030Z
LAST-MODIFIED:20250925T081330Z
UID:10001805-1777059000-1777068000@ettiswil.ch
SUMMARY:Atemschutzübung
DESCRIPTION:
URL:https://ettiswil.ch/event/atemschutzuebung-7/2026-04-24/
LOCATION:Feuerwehrmagazin Ettiswil
CATEGORIES:Organisation
ORGANIZER;CN="Feuerwehr Ettiswil-Alberswil":MAILTO:h.roeschu@gmail.com
END:VEVENT
BEGIN:VEVENT
DTSTART;TZID=Europe/Zurich:20260424T200000
DTEND;TZID=Europe/Zurich:20260424T235900
DTSTAMP:20260421T081228
CREATED:20250628T080102Z
LAST-MODIFIED:20251119T141745Z
UID:10001726-1777060800-1777075140@ettiswil.ch
SUMMARY:Feldschützenlotto
DESCRIPTION:Hier könnte Ihr Text stehen…
URL:https://ettiswil.ch/event/feldschuetzenlotto/
LOCATION:Restaurant Jlge Ettiswil
CATEGORIES:Verein
ORGANIZER;CN="Feldsch%C3%BCtzen Ettiswil":MAILTO:maeggihaefliger@bluewin.ch
END:VEVENT
BEGIN:VEVENT
DTSTART;TZID=Europe/Zurich:20260425T090000
DTEND;TZID=Europe/Zurich:20260425T120000
DTSTAMP:20260421T081228
CREATED:20250406T202011Z
LAST-MODIFIED:20260302T224457Z
UID:10001562-1777107600-1777118400@ettiswil.ch
SUMMARY:Mitwirkungstag auf der Kastelen
DESCRIPTION:Am Samstag\, 25. April 2026 findet unser alljährlicher Mitwirkungstag statt. Alle Vereinsmitglieder und weitere Interessierte sind eingeladen\, uns beim Aufräumen\, Mähen\, Laub sammeln und Holz beigen rund um die Kastelen zu unterstützen. Wir freuen uns auf viele helfende Hände! Start um 9:00 Uhr beim Unterstand. Für alle Teilnehmer*innen gibt es einen feines Zmittag. Versicherung ist Sache der Teilnehmer*innen.
URL:https://ettiswil.ch/event/mitwirkungstag-auf-der-kastelen/
LOCATION:Burgruine Kastelen
CATEGORIES:Verein
END:VEVENT
BEGIN:VEVENT
DTSTART;TZID=Europe/Zurich:20260425T180000
DTEND;TZID=Europe/Zurich:20260425T220000
DTSTAMP:20260421T081228
CREATED:20251119T080304Z
LAST-MODIFIED:20251119T080310Z
UID:10002573-1777140000-1777154400@ettiswil.ch
SUMMARY:46. Generalversammlung
DESCRIPTION:Hier könnte Ihr Text stehen…
URL:https://ettiswil.ch/event/46-generalversammlung/
CATEGORIES:Verein
ORGANIZER;CN="VBC Ettiswil":MAILTO:eaarnold@bluewin.ch
END:VEVENT
BEGIN:VEVENT
DTSTART;TZID=Europe/Zurich:20260425T200000
DTEND;TZID=Europe/Zurich:20260425T235900
DTSTAMP:20260421T081228
CREATED:20250628T080245Z
LAST-MODIFIED:20251119T141817Z
UID:10001727-1777147200-1777161540@ettiswil.ch
SUMMARY:Feldschützenlotto
DESCRIPTION:Hier könnte Ihr Text stehen…
URL:https://ettiswil.ch/event/feldschuetzenlotto-2/
LOCATION:Restaurant Jlge Ettiswil
CATEGORIES:Verein
ORGANIZER;CN="Feldsch%C3%BCtzen Ettiswil":MAILTO:maeggihaefliger@bluewin.ch
END:VEVENT
BEGIN:VEVENT
DTSTART;VALUE=DATE:20260427
DTEND;VALUE=DATE:20260428
DTSTAMP:20260421T081228
CREATED:20251209T093910Z
LAST-MODIFIED:20251209T093910Z
UID:10002654-1777276800-1777309200@ettiswil.ch
SUMMARY:Kartonsammlung
DESCRIPTION:Stöckli AG Entsorgung & Reccling\, Sursee
URL:https://ettiswil.ch/event/kartonsammlung/2026-04-27/
LOCATION:Werkhof
END:VEVENT
BEGIN:VEVENT
DTSTART;TZID=Europe/Zurich:20260427T190000
DTEND;TZID=Europe/Zurich:20260427T220000
DTSTAMP:20260421T081228
CREATED:20251105T044533Z
LAST-MODIFIED:20251105T044533Z
UID:10002286-1777316400-1777327200@ettiswil.ch
SUMMARY:Ausserordentliche GV Frauenriege Ettiswil
DESCRIPTION:Hier könnte Ihr Text stehen…
URL:https://ettiswil.ch/event/ausserordentliche-gv-frauenriege-ettiswil/
LOCATION:Alte Turnhalle / Büelacherhalle
CATEGORIES:Verein
ORGANIZER;CN="Frauenriege Ettiswil":MAILTO:hschurtenberg@bluewin.ch
END:VEVENT
BEGIN:VEVENT
DTSTART;VALUE=DATE:20260428
DTEND;VALUE=DATE:20260429
DTSTAMP:20260421T081228
CREATED:20251026T181142Z
LAST-MODIFIED:20260203T162557Z
UID:10002798-1777334400-1777420799@ettiswil.ch
SUMMARY:Tageswanderung
DESCRIPTION:Hier könnte Ihr Text stehen…
URL:https://ettiswil.ch/event/adventsspaziergang/2026-04-28/
LOCATION:Postplatz Ettiswil\, Postplatz (Bushaltestelle)\, Ettiswil\, Switzerland
CATEGORIES:Verein
ORGANIZER;CN="Silberstreifen 60 plus":MAILTO:vreni.korner@gmail.com
END:VEVENT
BEGIN:VEVENT
DTSTART;TZID=Europe/Zurich:20260428T183000
DTEND;TZID=Europe/Zurich:20260428T193000
DTSTAMP:20260421T081228
CREATED:20251015T085909Z
LAST-MODIFIED:20251015T085909Z
UID:10001976-1777401000-1777404600@ettiswil.ch
SUMMARY:Schülerkonzert; Karin Gachet
DESCRIPTION:Hier könnte Ihr Text stehen…
URL:https://ettiswil.ch/event/schuelerkonzert-karin-gachet-2/
LOCATION:Willisau\, Kanti Aula
CATEGORIES:Bildung
ORGANIZER;CN="Musikschule Region Willisau":MAILTO:info@msrwillisau.ch
END:VEVENT
BEGIN:VEVENT
DTSTART;VALUE=DATE:20260429
DTEND;VALUE=DATE:20260430
DTSTAMP:20260421T081228
CREATED:20251211T092252Z
LAST-MODIFIED:20251211T092252Z
UID:10002735-1777449600-1777482000@ettiswil.ch
SUMMARY:Kehricht
DESCRIPTION:Beck Umweltservice AG\, Sursee
URL:https://ettiswil.ch/event/kehricht-3/2026-04-29/
LOCATION:Stelle Hauskehricht
END:VEVENT
BEGIN:VEVENT
DTSTART;TZID=Europe/Zurich:20260429T170000
DTEND;TZID=Europe/Zurich:20260429T200000
DTSTAMP:20260421T081228
CREATED:20251008T132354Z
LAST-MODIFIED:20251008T132354Z
UID:10001931-1777482000-1777492800@ettiswil.ch
SUMMARY:Delegiertenversammlung KGL
DESCRIPTION:Hier könnte Ihr Text stehen…
URL:https://ettiswil.ch/event/delegiertenversammlung-kgl/
LOCATION:Schötz
CATEGORIES:Verein
ORGANIZER;CN="Gewerbeverein Ettiswil-Alberswil":MAILTO:michelle.mueller@mobiliar.ch
END:VEVENT
BEGIN:VEVENT
DTSTART;TZID=Europe/Zurich:20260429T180000
DTEND;TZID=Europe/Zurich:20260429T200000
DTSTAMP:20260421T081228
CREATED:20251119T142016Z
LAST-MODIFIED:20251119T142019Z
UID:10002580-1777485600-1777492800@ettiswil.ch
SUMMARY:Training / Jungschützenkurs / Waldstrasse gesperrt
DESCRIPTION:Hier könnte Ihr Text stehen…
URL:https://ettiswil.ch/event/training-jungschuetzenkurs-waldstrasse-gesperrt-15/
LOCATION:Schiessanlage Wyden\, Ettiswil
CATEGORIES:Verein
ORGANIZER;CN="Feldsch%C3%BCtzen Ettiswil":MAILTO:maeggihaefliger@bluewin.ch
END:VEVENT
BEGIN:VEVENT
DTSTART;TZID=Europe/Zurich:20260429T183000
DTEND;TZID=Europe/Zurich:20260429T193000
DTSTAMP:20260421T081228
CREATED:20251015T090021Z
LAST-MODIFIED:20251015T090021Z
UID:10001977-1777487400-1777491000@ettiswil.ch
SUMMARY:Schülerkonzert; Josefiina Dunder\, Claudia Vollenweider
DESCRIPTION:Hier könnte Ihr Text stehen…
URL:https://ettiswil.ch/event/schuelerkonzert-josefiina-dunder-claudia-vollenweider/
LOCATION:Willisau\, Rathaus Bürgersaal
CATEGORIES:Bildung
ORGANIZER;CN="Musikschule Region Willisau":MAILTO:info@msrwillisau.ch
END:VEVENT
BEGIN:VEVENT
DTSTART;TZID=Europe/Zurich:20260429T193000
DTEND;TZID=Europe/Zurich:20260429T220000
DTSTAMP:20260421T081228
CREATED:20241008T191531Z
LAST-MODIFIED:20250925T081758Z
UID:10001816-1777491000-1777500000@ettiswil.ch
SUMMARY:Gesamtübung
DESCRIPTION:
URL:https://ettiswil.ch/event/gesamtuebung-6/2026-04-29/
LOCATION:Feuerwehrmagazin Ettiswil
CATEGORIES:Organisation
ORGANIZER;CN="Feuerwehr Ettiswil-Alberswil":MAILTO:h.roeschu@gmail.com
END:VEVENT
BEGIN:VEVENT
DTSTART;TZID=Europe/Zurich:20260430T083000
DTEND;TZID=Europe/Zurich:20260430T093000
DTSTAMP:20260421T081228
CREATED:20251022T114358Z
LAST-MODIFIED:20251022T114445Z
UID:10002108-1777537800-1777541400@ettiswil.ch
SUMMARY:Qi Gong Ettiswil
DESCRIPTION:Ab Januar bietet die Gesundheitsförderung der Gemeinde Ettiswil wöchentliche Qi Gong Lektionen an. Qi Gong fördert die Beweglichkeit\, Balance und Entspannung. Das Angebot ist für alle Interessierten offen und kann kostenlos besucht werden. \nZeit: jeden Donnerstag\, 08:30 bis 09:30 Uhr (keine Lektionen während der Fasnachts- und Osterferien) \nOrt: Pfarrsaal / Wiese \nKursleitung: Barbara Burger \nAnmeldung: Telefon 079 829 31 13 oder E-Mail an sokuan@ettiswil.ch
URL:https://ettiswil.ch/event/qi-gong-ettiswil/2026-04-30/
LOCATION:Pfarrsaal\, Ettiswil
ORGANIZER;CN="Soziokulturelle Animation":MAILTO:sokuan@ettiswil.ch
END:VEVENT
BEGIN:VEVENT
DTSTART;TZID=Europe/Zurich:20260430T163000
DTEND;TZID=Europe/Zurich:20260430T183000
DTSTAMP:20260421T081228
CREATED:20251026T173554Z
LAST-MODIFIED:20251026T173554Z
UID:10002131-1777566600-1777573800@ettiswil.ch
SUMMARY:Boule-Spiel/Pétanque bei passender Witterung
DESCRIPTION:Hier könnte Ihr Text stehen…
URL:https://ettiswil.ch/event/boule-spiel-petanque-bei-passender-witterung/2026-04-30/
LOCATION:Sigristenhaus Ettiswil
CATEGORIES:Verein
ORGANIZER;CN="Silberstreifen 60 plus":MAILTO:vreni.korner@gmail.com
END:VEVENT
BEGIN:VEVENT
DTSTART;TZID=Europe/Zurich:20260430T170000
DTEND;TZID=Europe/Zurich:20260430T230000
DTSTAMP:20260421T081228
CREATED:20250402T144048Z
LAST-MODIFIED:20260302T223716Z
UID:10001561-1777568400-1777590000@ettiswil.ch
SUMMARY:Walpurgisnacht
DESCRIPTION:Am Donnerstag\, 30. April 2026 laden wir zur traditionellen Walpurgisnacht auf die Kastelen ein. Start um 17 Uhr mit Festwirtschaft und Würsten vom Grill. Der Abend wird musikalisch von der Alphorngruppe Chastelebleck umrahmt. Verkleidete Personen erhalten ein Gratisgetränk. Das Hexenfeuer wird um ca. 20 Uhr entzündet. Sie dürfen sich auf einen tollen Abend mit bester Verpflegung\, wunderbaren Alphornklängen und schönster Ambiance freuen! 
URL:https://ettiswil.ch/event/walpurgisnacht-2/
LOCATION:Burgruine Kastelen
CATEGORIES:Verein
END:VEVENT
BEGIN:VEVENT
DTSTART;TZID=Europe/Zurich:20260501T183000
DTEND;TZID=Europe/Zurich:20260501T203000
DTSTAMP:20260421T081228
CREATED:20251021T161450Z
LAST-MODIFIED:20251021T161450Z
UID:10002065-1777660200-1777667400@ettiswil.ch
SUMMARY:Vereinsübung
DESCRIPTION:
URL:https://ettiswil.ch/event/vereinsuebung-11/
LOCATION:Sigristenhaus Ettiswil
CATEGORIES:Verein
ORGANIZER;CN="Jugend-Sanit%C3%A4tsteam Ettiswil":MAILTO:jugend@sanitaetsteamettiswil.ch
END:VEVENT
BEGIN:VEVENT
DTSTART;VALUE=DATE:20260502
DTEND;VALUE=DATE:20260503
DTSTAMP:20260421T081228
CREATED:20250104T110106Z
LAST-MODIFIED:20250104T120328Z
UID:10001461-1777680000-1777766399@ettiswil.ch
SUMMARY:Unterhaltungskonzert Burgrain-Musikanten Ettiswil
DESCRIPTION:Hier könnte Ihr Text stehen…
URL:https://ettiswil.ch/event/6630/
LOCATION:Büelacherhalle\, Ettiswil
CATEGORIES:Verein
ORGANIZER;CN="Burgrain-Musikanten":MAILTO:balmweg3@bluewin.ch
END:VEVENT
BEGIN:VEVENT
DTSTART;VALUE=DATE:20260502
DTEND;VALUE=DATE:20260503
DTSTAMP:20260421T081228
CREATED:20251017T184245Z
LAST-MODIFIED:20251121T191819Z
UID:10002015-1777680000-1777766399@ettiswil.ch
SUMMARY:Apéro Riche Workshop mit Daniela Petermann
DESCRIPTION:Hier könnte Ihr Text stehen…
URL:https://ettiswil.ch/event/apero-riche-mit-daniela-petermann/
CATEGORIES:Verein
ORGANIZER;CN="Treffpunkt Frauen":MAILTO:vorstand@treffpunktfrauen-ettiswil.ch
END:VEVENT
BEGIN:VEVENT
DTSTART;TZID=Europe/Zurich:20260502T133000
DTEND;TZID=Europe/Zurich:20260502T150000
DTSTAMP:20260421T081228
CREATED:20251119T142209Z
LAST-MODIFIED:20251119T142213Z
UID:10002581-1777728600-1777734000@ettiswil.ch
SUMMARY:Obligatorisch / Waldstrasse gesperrt
DESCRIPTION:Hier könnte Ihr Text stehen…
URL:https://ettiswil.ch/event/obligatorisch-waldstrasse-gesperrt-7/
LOCATION:Schiessanlage Wyden\, Ettiswil
CATEGORIES:Verein
ORGANIZER;CN="Feldsch%C3%BCtzen Ettiswil":MAILTO:maeggihaefliger@bluewin.ch
END:VEVENT
END:VCALENDAR