BEGIN:VCALENDAR
VERSION:2.0
PRODID:-//Gemeinde Ettiswil - ECPv6.15.20//NONSGML v1.0//EN
CALSCALE:GREGORIAN
METHOD:PUBLISH
X-WR-CALNAME:Gemeinde Ettiswil
X-ORIGINAL-URL:https://ettiswil.ch
X-WR-CALDESC:Veranstaltungen für Gemeinde Ettiswil
REFRESH-INTERVAL;VALUE=DURATION:PT1H
X-Robots-Tag:noindex
X-PUBLISHED-TTL:PT1H
BEGIN:VTIMEZONE
TZID:Europe/Zurich
BEGIN:DAYLIGHT
TZOFFSETFROM:+0100
TZOFFSETTO:+0200
TZNAME:CEST
DTSTART:20250330T010000
END:DAYLIGHT
BEGIN:STANDARD
TZOFFSETFROM:+0200
TZOFFSETTO:+0100
TZNAME:CET
DTSTART:20251026T010000
END:STANDARD
BEGIN:DAYLIGHT
TZOFFSETFROM:+0100
TZOFFSETTO:+0200
TZNAME:CEST
DTSTART:20260329T010000
END:DAYLIGHT
BEGIN:STANDARD
TZOFFSETFROM:+0200
TZOFFSETTO:+0100
TZNAME:CET
DTSTART:20261025T010000
END:STANDARD
BEGIN:DAYLIGHT
TZOFFSETFROM:+0100
TZOFFSETTO:+0200
TZNAME:CEST
DTSTART:20270328T010000
END:DAYLIGHT
BEGIN:STANDARD
TZOFFSETFROM:+0200
TZOFFSETTO:+0100
TZNAME:CET
DTSTART:20271031T010000
END:STANDARD
END:VTIMEZONE
BEGIN:VEVENT
DTSTART;TZID=Europe/Zurich:20260618T163000
DTEND;TZID=Europe/Zurich:20260618T183000
DTSTAMP:20260423T230808
CREATED:20251026T173554Z
LAST-MODIFIED:20251026T173554Z
UID:10002138-1781800200-1781807400@ettiswil.ch
SUMMARY:Boule-Spiel/Pétanque bei passender Witterung
DESCRIPTION:Hier könnte Ihr Text stehen…
URL:https://ettiswil.ch/event/boule-spiel-petanque-bei-passender-witterung/2026-06-18/
LOCATION:Sigristenhaus Ettiswil
CATEGORIES:Verein
ORGANIZER;CN="Silberstreifen 60 plus":MAILTO:vreni.korner@gmail.com
END:VEVENT
BEGIN:VEVENT
DTSTART;TZID=Europe/Zurich:20260618T193000
DTEND;TZID=Europe/Zurich:20260618T210000
DTSTAMP:20260423T230808
CREATED:20260305T103516Z
LAST-MODIFIED:20260305T103735Z
UID:10002810-1781811000-1781816400@ettiswil.ch
SUMMARY:Netzball
DESCRIPTION:Hier könnte Ihr Text stehen…
URL:https://ettiswil.ch/event/spezialprogramm-pistolenschiessen/
LOCATION:Willisau\, Badi
CATEGORIES:Verein
ORGANIZER;CN="Frauen Sportgruppe Kottwil":MAILTO:sibylle.heller@bluewin.ch
END:VEVENT
BEGIN:VEVENT
DTSTART;VALUE=DATE:20260619
DTEND;VALUE=DATE:20260620
DTSTAMP:20260423T230808
CREATED:20251203T063726Z
LAST-MODIFIED:20251203T063726Z
UID:10002615-1781827200-1781913599@ettiswil.ch
SUMMARY:Redaktionsschluss Juli-Mobile
DESCRIPTION:
URL:https://ettiswil.ch/event/redaktionsschluss-juli-mobile/
CATEGORIES:Gemeinde
END:VEVENT
BEGIN:VEVENT
DTSTART;VALUE=DATE:20260619
DTEND;VALUE=DATE:20260620
DTSTAMP:20260423T230808
CREATED:20251209T092726Z
LAST-MODIFIED:20251209T093043Z
UID:10002632-1781856000-1781888400@ettiswil.ch
SUMMARY:Grüngutabfuhr
DESCRIPTION:Amstein Robert AG\, Willisau
URL:https://ettiswil.ch/event/gruengutabfuhr/2026-06-19/
LOCATION:Stelle Hauskehricht
END:VEVENT
BEGIN:VEVENT
DTSTART;VALUE=DATE:20260620
DTEND;VALUE=DATE:20260621
DTSTAMP:20260423T230808
CREATED:20251021T162242Z
LAST-MODIFIED:20251021T162335Z
UID:10002066-1781913600-1781999999@ettiswil.ch
SUMMARY:Exkursion
DESCRIPTION:
URL:https://ettiswil.ch/event/exkursion-3/
LOCATION:gemäss Einladung
CATEGORIES:Verein
ORGANIZER;CN="Jugend-Sanit%C3%A4tsteam Ettiswil":MAILTO:jugend@sanitaetsteamettiswil.ch
END:VEVENT
BEGIN:VEVENT
DTSTART;TZID=Europe/Zurich:20260620T103000
DTEND;TZID=Europe/Zurich:20260620T103000
DTSTAMP:20260423T230808
CREATED:20251015T093424Z
LAST-MODIFIED:20251015T093424Z
UID:10001991-1781951400-1781951400@ettiswil.ch
SUMMARY:Grundschulkonzert; Franziska Lienhard\, Matias Troncoso\, Claudia Vollenweider
DESCRIPTION:Hier könnte Ihr Text stehen…
URL:https://ettiswil.ch/event/grundschulkonzert-franziska-lienhard-matias-troncoso-claudia-vollenweider/2026-06-20/1/
LOCATION:Willisau\, Pfarreizentrum Maria von Magdala
CATEGORIES:Bildung
ORGANIZER;CN="Musikschule Region Willisau":MAILTO:info@msrwillisau.ch
END:VEVENT
BEGIN:VEVENT
DTSTART;TZID=Europe/Zurich:20260620T130000
DTEND;TZID=Europe/Zurich:20260620T140000
DTSTAMP:20260423T230808
CREATED:20251105T101625Z
LAST-MODIFIED:20251105T101625Z
UID:10002292-1781960400-1781964000@ettiswil.ch
SUMMARY:Grundschulkonzert; Franziska Lienhard\, Matias Troncoso\, Claudia Vollenweider
DESCRIPTION:Hier könnte Ihr Text stehen…
URL:https://ettiswil.ch/event/grundschulkonzert-franziska-lienhard-matias-troncoso-claudia-vollenweider-2/
LOCATION:Willisau\, Pfarreizentrum Maria von Magdala
CATEGORIES:Bildung
ORGANIZER;CN="Musikschule Region Willisau":MAILTO:info@msrwillisau.ch
END:VEVENT
BEGIN:VEVENT
DTSTART;TZID=Europe/Zurich:20260620T130000
DTEND;TZID=Europe/Zurich:20260620T170000
DTSTAMP:20260423T230808
CREATED:20251015T093424Z
LAST-MODIFIED:20251015T093424Z
UID:10001992-1781960400-1781974800@ettiswil.ch
SUMMARY:Grundschulkonzert; Franziska Lienhard\, Matias Troncoso\, Claudia Vollenweider
DESCRIPTION:Hier könnte Ihr Text stehen…
URL:https://ettiswil.ch/event/grundschulkonzert-franziska-lienhard-matias-troncoso-claudia-vollenweider/2026-06-20/2/
LOCATION:Willisau\, Pfarreizentrum Maria von Magdala
CATEGORIES:Bildung
ORGANIZER;CN="Musikschule Region Willisau":MAILTO:info@msrwillisau.ch
END:VEVENT
BEGIN:VEVENT
DTSTART;VALUE=DATE:20260621
DTEND;VALUE=DATE:20260622
DTSTAMP:20260423T230808
CREATED:20251104T100340Z
LAST-MODIFIED:20251105T093227Z
UID:10002271-1782000000-1782086399@ettiswil.ch
SUMMARY:Picknick
DESCRIPTION:
URL:https://ettiswil.ch/event/picknick-3/
CATEGORIES:Verein
ORGANIZER;CN="M%C3%A4nnerchor Ettiswil":MAILTO:praesident@maennerchor-ettiswil.ch
END:VEVENT
BEGIN:VEVENT
DTSTART;VALUE=DATE:20260623
DTEND;VALUE=DATE:20260624
DTSTAMP:20260423T230808
CREATED:20251026T181142Z
LAST-MODIFIED:20260203T162557Z
UID:10002800-1782172800-1782259199@ettiswil.ch
SUMMARY:Tageswanderung
DESCRIPTION:Hier könnte Ihr Text stehen…
URL:https://ettiswil.ch/event/adventsspaziergang/2026-06-23/
LOCATION:Postplatz Ettiswil\, Postplatz (Bushaltestelle)\, Ettiswil\, Switzerland
CATEGORIES:Verein
ORGANIZER;CN="Silberstreifen 60 plus":MAILTO:vreni.korner@gmail.com
END:VEVENT
BEGIN:VEVENT
DTSTART;VALUE=DATE:20260624
DTEND;VALUE=DATE:20260625
DTSTAMP:20260423T230808
CREATED:20251211T092252Z
LAST-MODIFIED:20251211T092252Z
UID:10002743-1782288000-1782320400@ettiswil.ch
SUMMARY:Kehricht
DESCRIPTION:Beck Umweltservice AG\, Sursee
URL:https://ettiswil.ch/event/kehricht-3/2026-06-24/
LOCATION:Stelle Hauskehricht
END:VEVENT
BEGIN:VEVENT
DTSTART;TZID=Europe/Zurich:20260624T133000
DTEND;TZID=Europe/Zurich:20260624T171500
DTSTAMP:20260423T230808
CREATED:20251215T083617Z
LAST-MODIFIED:20260421T113419Z
UID:10002831-1782307800-1782321300@ettiswil.ch
SUMMARY:Beratung Frühe Kindheit / Mütter- und Väterberatung
DESCRIPTION:Die Beratung Frühe Kindheit (Mütter- und Väterberatung) des Sozialberatungszentrum Willisau-Wiggertal ist eine Anlaufstelle für Familien mit Kindern von der Geburt bis zum Eintritt in den Kindergarten. Wir Fachpersonen der Frühen Kindheit beraten Sie bei Unsicherheiten und Fragen zur Entwicklung\, Ernährung\, Schlaf und Erziehung Ihres Kindes oder Ihren Elternaufgabe. Wir können Ihnen Auskunft über Angebote für Familien in der Region geben oder Sie bei Bedarf an Fachstellen weiterleiten. Die Beratungen werden vollumfänglich von der Gemeinde finanziert und sind somit für Sie kostenlos. Um eine Beratung in Ihrer Sprache durchführen zu können\, arbeiten wir bei Bedarf auch mit Dolmetschenden zusammen.\nFremdsprachige Erklärvideos zur Mütter- und Väterberatung\n\n\nDie Beratungen finden in Ettiswil\, Dorf 21 (im Schulhaus neben der Spielgruppe\, Räumlichkeiten Chäferli) statt. Sie können sich online auf unserer Homepage oder direkt über folgenden Link anmelden. Telefonberatungen können Sie von Montag bis Donnerstag von 8:30 bis 11:30 Uhr unter 041 972 56 30 in Anspruch nehmen. Wir freuen uns auf Sie.\n\n\nDas Team der Mütter- und Väterberatung Willisau-Wiggertal
URL:https://ettiswil.ch/event/beratung-fruehe-kindheit-muetter-und-vaeterberatung/2026-06-24/
CATEGORIES:Dienststellen
ATTACH;FMTTYPE=image/jpeg:https://ettiswil.ch/wp-content/uploads/2024/08/bfk-willisau-wiggertal-eyecatcher-RGB-farbe-e1765789703843.jpg
ORGANIZER;CN="Beratung Fr%C3%BChe Kindheit (MVB)":MAILTO:mvb.willisau@sobz-willisau.ch
END:VEVENT
BEGIN:VEVENT
DTSTART;TZID=Europe/Zurich:20260624T180000
DTEND;TZID=Europe/Zurich:20260624T200000
DTSTAMP:20260423T230808
CREATED:20251119T143358Z
LAST-MODIFIED:20251119T143402Z
UID:10002589-1782324000-1782331200@ettiswil.ch
SUMMARY:Training / Jungschützenkurs / Waldstrasse gesperrt
DESCRIPTION:Hier könnte Ihr Text stehen…
URL:https://ettiswil.ch/event/training-jungschuetzenkurs-waldstrasse-gesperrt-22/
LOCATION:Schiessanlage Wyden\, Ettiswil
CATEGORIES:Verein
ORGANIZER;CN="Feldsch%C3%BCtzen Ettiswil":MAILTO:maeggihaefliger@bluewin.ch
END:VEVENT
BEGIN:VEVENT
DTSTART;TZID=Europe/Zurich:20260624T183000
DTEND;TZID=Europe/Zurich:20260624T203000
DTSTAMP:20260423T230808
CREATED:20250929T194952Z
LAST-MODIFIED:20251107T105113Z
UID:10001869-1782325800-1782333000@ettiswil.ch
SUMMARY:Sommerkurse Reitverein Ettiswil
DESCRIPTION:Hier könnte Ihr Text stehen…
URL:https://ettiswil.ch/event/sommerkurse-im-ausserdorf-des-reitverein-ettiswil-mit-anja-sanchez/2026-06-24/
CATEGORIES:Verein
ORGANIZER;CN="Reitverein Schloss Wyher":MAILTO:manuela.muff@rv-ettiswil.ch
END:VEVENT
BEGIN:VEVENT
DTSTART;VALUE=DATE:20260625
DTEND;VALUE=DATE:20260626
DTSTAMP:20260423T230808
CREATED:20251121T191319Z
LAST-MODIFIED:20251121T191604Z
UID:10002604-1782345600-1782431999@ettiswil.ch
SUMMARY:Ächt Lozärn - Stadtführung
DESCRIPTION:Hier könnte Ihr Text stehen…
URL:https://ettiswil.ch/event/aecht-lozaern-stadtfuehrung/
CATEGORIES:Verein
ORGANIZER;CN="Treffpunkt Frauen":MAILTO:vorstand@treffpunktfrauen-ettiswil.ch
END:VEVENT
BEGIN:VEVENT
DTSTART;TZID=Europe/Zurich:20260625T163000
DTEND;TZID=Europe/Zurich:20260625T183000
DTSTAMP:20260423T230808
CREATED:20251026T173554Z
LAST-MODIFIED:20251026T173554Z
UID:10002139-1782405000-1782412200@ettiswil.ch
SUMMARY:Boule-Spiel/Pétanque bei passender Witterung
DESCRIPTION:Hier könnte Ihr Text stehen…
URL:https://ettiswil.ch/event/boule-spiel-petanque-bei-passender-witterung/2026-06-25/
LOCATION:Sigristenhaus Ettiswil
CATEGORIES:Verein
ORGANIZER;CN="Silberstreifen 60 plus":MAILTO:vreni.korner@gmail.com
END:VEVENT
BEGIN:VEVENT
DTSTART;TZID=Europe/Zurich:20260625T190000
DTEND;TZID=Europe/Zurich:20260625T200000
DTSTAMP:20260423T230808
CREATED:20251015T093758Z
LAST-MODIFIED:20251015T093758Z
UID:10001993-1782414000-1782417600@ettiswil.ch
SUMMARY:Schülerkonzert; Andrea De Moliner
DESCRIPTION:Hier könnte Ihr Text stehen…
URL:https://ettiswil.ch/event/schuelerkonzert-andrea-de-moliner/
LOCATION:Willisau\, Kanti Aula
CATEGORIES:Bildung
ORGANIZER;CN="Musikschule Region Willisau":MAILTO:info@msrwillisau.ch
END:VEVENT
BEGIN:VEVENT
DTSTART;TZID=Europe/Zurich:20260625T190000
DTEND;TZID=Europe/Zurich:20260625T220000
DTSTAMP:20260423T230808
CREATED:20251029T204300Z
LAST-MODIFIED:20251029T205105Z
UID:10002241-1782414000-1782424800@ettiswil.ch
SUMMARY:Picknick
DESCRIPTION:Hier könnte Ihr Text stehen…
URL:https://ettiswil.ch/event/vereinspicknick-2/
LOCATION:Kottwil
CATEGORIES:Verein
ORGANIZER;CN="Frauen Sportgruppe Kottwil":MAILTO:sibylle.heller@bluewin.ch
END:VEVENT
BEGIN:VEVENT
DTSTART;VALUE=DATE:20260626
DTEND;VALUE=DATE:20260629
DTSTAMP:20260423T230808
CREATED:20251027T070331Z
LAST-MODIFIED:20251027T070331Z
UID:10002191-1782432000-1782691199@ettiswil.ch
SUMMARY:Eidg. Fest Jodlerfest Basel
DESCRIPTION:
URL:https://ettiswil.ch/event/eidg-fest-jodlerfest-basel/
LOCATION:Basel
ORGANIZER;CN="Jodlerklub Edelweiss":MAILTO:kuedu.ramseier@bluewin.ch
END:VEVENT
BEGIN:VEVENT
DTSTART;TZID=Europe/Zurich:20260626T080000
DTEND;TZID=Europe/Zurich:20260626T170000
DTSTAMP:20260423T230808
CREATED:20251106T132423Z
LAST-MODIFIED:20251106T132423Z
UID:10002298-1782460800-1782493200@ettiswil.ch
SUMMARY:Jubilarenabend
DESCRIPTION:Hier könnte Ihr Text stehen…
URL:https://ettiswil.ch/event/jubilarenabend-2/
LOCATION:Armbrustschützenhaus Brestenegg
CATEGORIES:Verein
ORGANIZER;CN="Armbrustsch%C3%BCtzen Brestenegg":MAILTO:wdhlauda@bluewin.ch
END:VEVENT
BEGIN:VEVENT
DTSTART;TZID=Europe/Zurich:20260626T173000
DTEND;TZID=Europe/Zurich:20260626T233000
DTSTAMP:20260423T230808
CREATED:20250929T194700Z
LAST-MODIFIED:20250929T194700Z
UID:10001864-1782495000-1782516600@ettiswil.ch
SUMMARY:Vereinsmeisterschaft mit Becherspringen des Reitverein Ettiswil mit dem KRV Willisau und KRV Oberwiggertal
DESCRIPTION:Hier könnte Ihr Text stehen…
URL:https://ettiswil.ch/event/vereinsmeisterschaft-mit-becherspringen-des-reitverein-ettiswil-mit-dem-krv-willisau-und-krv-oberwiggertal/
LOCATION:Ausserdorf\, Ausserdorf
CATEGORIES:Verein
ORGANIZER;CN="Reitverein Schloss Wyher":MAILTO:manuela.muff@rv-ettiswil.ch
END:VEVENT
BEGIN:VEVENT
DTSTART;TZID=Europe/Zurich:20260626T180000
DTEND;TZID=Europe/Zurich:20260626T200000
DTSTAMP:20260423T230808
CREATED:20251119T143505Z
LAST-MODIFIED:20251119T143509Z
UID:10002590-1782496800-1782504000@ettiswil.ch
SUMMARY:Obligatorisch / Waldtrasse gesperrt
DESCRIPTION:Hier könnte Ihr Text stehen…
URL:https://ettiswil.ch/event/obligatorisch-waldtrasse-gesperrt/
LOCATION:Schiessanlage Wyden\, Ettiswil
CATEGORIES:Verein
ORGANIZER;CN="Feldsch%C3%BCtzen Ettiswil":MAILTO:maeggihaefliger@bluewin.ch
END:VEVENT
BEGIN:VEVENT
DTSTART;TZID=Europe/Zurich:20260626T190000
DTEND;TZID=Europe/Zurich:20260626T200000
DTSTAMP:20260423T230808
CREATED:20260423T061809Z
LAST-MODIFIED:20260423T062136Z
UID:10002843-1782500400-1782504000@ettiswil.ch
SUMMARY:Schülerkonzert; Melanie Bigler
DESCRIPTION:Hier könnte Ihr Text stehen…
URL:https://ettiswil.ch/event/schuelerkonzert-melanie-bigler/
LOCATION:Ettiswil\, Singsaal
CATEGORIES:Bildung
ORGANIZER;CN="Musikschule Region Willisau":MAILTO:info@msrwillisau.ch
END:VEVENT
BEGIN:VEVENT
DTSTART;TZID=Europe/Zurich:20260627T080000
DTEND;TZID=Europe/Zurich:20260628T170000
DTSTAMP:20260423T230808
CREATED:20251014T152601Z
LAST-MODIFIED:20251014T152601Z
UID:10001965-1782547200-1782666000@ettiswil.ch
SUMMARY:Turnfest Kerzers
DESCRIPTION:Hier könnte Ihr Text stehen…
URL:https://ettiswil.ch/event/turnfest-kerzers/
CATEGORIES:Verein
ORGANIZER;CN="STV Ettiswil":MAILTO:info@stv-ettiswil.ch
END:VEVENT
BEGIN:VEVENT
DTSTART;TZID=Europe/Zurich:20260627T103000
DTEND;TZID=Europe/Zurich:20260627T103000
DTSTAMP:20260423T230808
CREATED:20251015T093931Z
LAST-MODIFIED:20251015T093931Z
UID:10001994-1782556200-1782556200@ettiswil.ch
SUMMARY:Schülerkonzert; Karin Gachet\, Nayoung Yoon\, Stefano Zoller
DESCRIPTION:Hier könnte Ihr Text stehen…
URL:https://ettiswil.ch/event/schuelerkonzert-karin-gachet-nayoung-yoon-stefano-zoller/
LOCATION:Willisau\, Rathaus
CATEGORIES:Bildung
ORGANIZER;CN="Musikschule Region Willisau":MAILTO:info@msrwillisau.ch
END:VEVENT
BEGIN:VEVENT
DTSTART;TZID=Europe/Zurich:20260627T200000
DTEND;TZID=Europe/Zurich:20260627T200000
DTSTAMP:20260423T230808
CREATED:20251015T094112Z
LAST-MODIFIED:20251015T094112Z
UID:10001995-1782590400-1782590400@ettiswil.ch
SUMMARY:Jahreskonzert JM und Startup Band Willisau; Lukas Erni\, Matthias Koch
DESCRIPTION:Hier könnte Ihr Text stehen…
URL:https://ettiswil.ch/event/jahreskonzert-jm-und-startup-band-willisau-lukas-erni-matthias-koch/
LOCATION:Willisau\, Festhalle
CATEGORIES:Bildung
ORGANIZER;CN="Musikschule Region Willisau":MAILTO:info@msrwillisau.ch
END:VEVENT
BEGIN:VEVENT
DTSTART;VALUE=DATE:20260629
DTEND;VALUE=DATE:20260630
DTSTAMP:20260423T230808
CREATED:20251209T093910Z
LAST-MODIFIED:20251209T093910Z
UID:10002656-1782720000-1782752400@ettiswil.ch
SUMMARY:Kartonsammlung
DESCRIPTION:Stöckli AG Entsorgung & Reccling\, Sursee
URL:https://ettiswil.ch/event/kartonsammlung/2026-06-29/
LOCATION:Werkhof
END:VEVENT
BEGIN:VEVENT
DTSTART;VALUE=DATE:20260701
DTEND;VALUE=DATE:20260702
DTSTAMP:20260423T230808
CREATED:20251211T092252Z
LAST-MODIFIED:20251211T092252Z
UID:10002744-1782892800-1782925200@ettiswil.ch
SUMMARY:Kehricht
DESCRIPTION:Beck Umweltservice AG\, Sursee
URL:https://ettiswil.ch/event/kehricht-3/2026-07-01/
LOCATION:Stelle Hauskehricht
END:VEVENT
BEGIN:VEVENT
DTSTART;TZID=Europe/Zurich:20260701T180000
DTEND;TZID=Europe/Zurich:20260701T200000
DTSTAMP:20260423T230808
CREATED:20251119T143608Z
LAST-MODIFIED:20251119T143612Z
UID:10002591-1782928800-1782936000@ettiswil.ch
SUMMARY:Training / Waldstrasse gesperrt
DESCRIPTION:Hier könnte Ihr Text stehen…
URL:https://ettiswil.ch/event/training-waldstrasse-gesperrt-9/
LOCATION:Schiessanlage Wyden\, Ettiswil
CATEGORIES:Verein
ORGANIZER;CN="Feldsch%C3%BCtzen Ettiswil":MAILTO:maeggihaefliger@bluewin.ch
END:VEVENT
BEGIN:VEVENT
DTSTART;TZID=Europe/Zurich:20260701T183000
DTEND;TZID=Europe/Zurich:20260701T203000
DTSTAMP:20260423T230808
CREATED:20250929T194952Z
LAST-MODIFIED:20251107T105113Z
UID:10001870-1782930600-1782937800@ettiswil.ch
SUMMARY:Sommerkurse Reitverein Ettiswil
DESCRIPTION:Hier könnte Ihr Text stehen…
URL:https://ettiswil.ch/event/sommerkurse-im-ausserdorf-des-reitverein-ettiswil-mit-anja-sanchez/2026-07-01/
CATEGORIES:Verein
ORGANIZER;CN="Reitverein Schloss Wyher":MAILTO:manuela.muff@rv-ettiswil.ch
END:VEVENT
END:VCALENDAR