BEGIN:VCALENDAR
VERSION:2.0
PRODID:-//Gemeinde Ettiswil - ECPv6.15.20//NONSGML v1.0//EN
CALSCALE:GREGORIAN
METHOD:PUBLISH
X-WR-CALNAME:Gemeinde Ettiswil
X-ORIGINAL-URL:https://ettiswil.ch
X-WR-CALDESC:Veranstaltungen für Gemeinde Ettiswil
REFRESH-INTERVAL;VALUE=DURATION:PT1H
X-Robots-Tag:noindex
X-PUBLISHED-TTL:PT1H
BEGIN:VTIMEZONE
TZID:Europe/Zurich
BEGIN:DAYLIGHT
TZOFFSETFROM:+0100
TZOFFSETTO:+0200
TZNAME:CEST
DTSTART:20250330T010000
END:DAYLIGHT
BEGIN:STANDARD
TZOFFSETFROM:+0200
TZOFFSETTO:+0100
TZNAME:CET
DTSTART:20251026T010000
END:STANDARD
BEGIN:DAYLIGHT
TZOFFSETFROM:+0100
TZOFFSETTO:+0200
TZNAME:CEST
DTSTART:20260329T010000
END:DAYLIGHT
BEGIN:STANDARD
TZOFFSETFROM:+0200
TZOFFSETTO:+0100
TZNAME:CET
DTSTART:20261025T010000
END:STANDARD
BEGIN:DAYLIGHT
TZOFFSETFROM:+0100
TZOFFSETTO:+0200
TZNAME:CEST
DTSTART:20270328T010000
END:DAYLIGHT
BEGIN:STANDARD
TZOFFSETFROM:+0200
TZOFFSETTO:+0100
TZNAME:CET
DTSTART:20271031T010000
END:STANDARD
END:VTIMEZONE
BEGIN:VEVENT
DTSTART;VALUE=DATE:20260715
DTEND;VALUE=DATE:20260716
DTSTAMP:20260424T032405
CREATED:20251211T092252Z
LAST-MODIFIED:20251211T092252Z
UID:10002746-1784102400-1784134800@ettiswil.ch
SUMMARY:Kehricht
DESCRIPTION:Beck Umweltservice AG\, Sursee
URL:https://ettiswil.ch/event/kehricht-3/2026-07-15/
LOCATION:Stelle Hauskehricht
END:VEVENT
BEGIN:VEVENT
DTSTART;TZID=Europe/Zurich:20260715T133000
DTEND;TZID=Europe/Zurich:20260715T171500
DTSTAMP:20260424T032405
CREATED:20251215T083617Z
LAST-MODIFIED:20260421T113419Z
UID:10002833-1784122200-1784135700@ettiswil.ch
SUMMARY:Beratung Frühe Kindheit / Mütter- und Väterberatung
DESCRIPTION:Die Beratung Frühe Kindheit (Mütter- und Väterberatung) des Sozialberatungszentrum Willisau-Wiggertal ist eine Anlaufstelle für Familien mit Kindern von der Geburt bis zum Eintritt in den Kindergarten. Wir Fachpersonen der Frühen Kindheit beraten Sie bei Unsicherheiten und Fragen zur Entwicklung\, Ernährung\, Schlaf und Erziehung Ihres Kindes oder Ihren Elternaufgabe. Wir können Ihnen Auskunft über Angebote für Familien in der Region geben oder Sie bei Bedarf an Fachstellen weiterleiten. Die Beratungen werden vollumfänglich von der Gemeinde finanziert und sind somit für Sie kostenlos. Um eine Beratung in Ihrer Sprache durchführen zu können\, arbeiten wir bei Bedarf auch mit Dolmetschenden zusammen.\nFremdsprachige Erklärvideos zur Mütter- und Väterberatung\n\n\nDie Beratungen finden in Ettiswil\, Dorf 21 (im Schulhaus neben der Spielgruppe\, Räumlichkeiten Chäferli) statt. Sie können sich online auf unserer Homepage oder direkt über folgenden Link anmelden. Telefonberatungen können Sie von Montag bis Donnerstag von 8:30 bis 11:30 Uhr unter 041 972 56 30 in Anspruch nehmen. Wir freuen uns auf Sie.\n\n\nDas Team der Mütter- und Väterberatung Willisau-Wiggertal
URL:https://ettiswil.ch/event/beratung-fruehe-kindheit-muetter-und-vaeterberatung/2026-07-15/
CATEGORIES:Dienststellen
ATTACH;FMTTYPE=image/jpeg:https://ettiswil.ch/wp-content/uploads/2024/08/bfk-willisau-wiggertal-eyecatcher-RGB-farbe-e1765789703843.jpg
ORGANIZER;CN="Beratung Fr%C3%BChe Kindheit (MVB)":MAILTO:mvb.willisau@sobz-willisau.ch
END:VEVENT
BEGIN:VEVENT
DTSTART;TZID=Europe/Zurich:20260715T183000
DTEND;TZID=Europe/Zurich:20260715T203000
DTSTAMP:20260424T032405
CREATED:20250929T194952Z
LAST-MODIFIED:20251107T105113Z
UID:10001872-1784140200-1784147400@ettiswil.ch
SUMMARY:Sommerkurse Reitverein Ettiswil
DESCRIPTION:Hier könnte Ihr Text stehen…
URL:https://ettiswil.ch/event/sommerkurse-im-ausserdorf-des-reitverein-ettiswil-mit-anja-sanchez/2026-07-15/
CATEGORIES:Verein
ORGANIZER;CN="Reitverein Schloss Wyher":MAILTO:manuela.muff@rv-ettiswil.ch
END:VEVENT
BEGIN:VEVENT
DTSTART;VALUE=DATE:20260716
DTEND;VALUE=DATE:20260717
DTSTAMP:20260424T032405
CREATED:20251209T093440Z
LAST-MODIFIED:20251209T093440Z
UID:10002648-1784188800-1784221200@ettiswil.ch
SUMMARY:Papiersammlung
DESCRIPTION:Amstein Robert AG\, Willisau
URL:https://ettiswil.ch/event/papiersammlung/2026-07-16/
LOCATION:Stelle Hauskehricht
END:VEVENT
BEGIN:VEVENT
DTSTART;TZID=Europe/Zurich:20260716T120000
DTEND;TZID=Europe/Zurich:20260716T170000
DTSTAMP:20260424T032405
CREATED:20251026T153053Z
LAST-MODIFIED:20251026T153053Z
UID:10002114-1784203200-1784221200@ettiswil.ch
SUMMARY:Mittagstisch/Jassen/Spielen
DESCRIPTION:Hier könnte Ihr Text stehen…
URL:https://ettiswil.ch/event/mittagstisch-jassen-spielen/2026-07-16/
LOCATION:Cafeteria Sonnbühl
CATEGORIES:Verein
ORGANIZER;CN="Silberstreifen 60 plus":MAILTO:vreni.korner@gmail.com
END:VEVENT
BEGIN:VEVENT
DTSTART;TZID=Europe/Zurich:20260716T163000
DTEND;TZID=Europe/Zurich:20260716T183000
DTSTAMP:20260424T032405
CREATED:20251026T173554Z
LAST-MODIFIED:20251026T173554Z
UID:10002142-1784219400-1784226600@ettiswil.ch
SUMMARY:Boule-Spiel/Pétanque bei passender Witterung
DESCRIPTION:Hier könnte Ihr Text stehen…
URL:https://ettiswil.ch/event/boule-spiel-petanque-bei-passender-witterung/2026-07-16/
LOCATION:Sigristenhaus Ettiswil
CATEGORIES:Verein
ORGANIZER;CN="Silberstreifen 60 plus":MAILTO:vreni.korner@gmail.com
END:VEVENT
BEGIN:VEVENT
DTSTART;VALUE=DATE:20260717
DTEND;VALUE=DATE:20260718
DTSTAMP:20260424T032405
CREATED:20251203T063754Z
LAST-MODIFIED:20251203T063754Z
UID:10002616-1784246400-1784332799@ettiswil.ch
SUMMARY:Redaktionsschluss August-Mobile
DESCRIPTION:
URL:https://ettiswil.ch/event/redaktionsschluss-august-mobile/
CATEGORIES:Gemeinde
END:VEVENT
BEGIN:VEVENT
DTSTART;VALUE=DATE:20260717
DTEND;VALUE=DATE:20260718
DTSTAMP:20260424T032405
CREATED:20251209T092726Z
LAST-MODIFIED:20251209T093043Z
UID:10002634-1784275200-1784307600@ettiswil.ch
SUMMARY:Grüngutabfuhr
DESCRIPTION:Amstein Robert AG\, Willisau
URL:https://ettiswil.ch/event/gruengutabfuhr/2026-07-17/
LOCATION:Stelle Hauskehricht
END:VEVENT
BEGIN:VEVENT
DTSTART;TZID=Europe/Zurich:20260720T133000
DTEND;TZID=Europe/Zurich:20260720T170000
DTSTAMP:20260424T032405
CREATED:20251029T132225Z
LAST-MODIFIED:20251029T132225Z
UID:10002232-1784554200-1784566800@ettiswil.ch
SUMMARY:E-Bike-Tour
DESCRIPTION:Hier könnte Ihr Text stehen…
URL:https://ettiswil.ch/event/e-bike-tour-2/2026-07-20/
LOCATION:Gemeindeparkplatz
CATEGORIES:Verein
ORGANIZER;CN="Silberstreifen 60 plus":MAILTO:vreni.korner@gmail.com
END:VEVENT
BEGIN:VEVENT
DTSTART;VALUE=DATE:20260722
DTEND;VALUE=DATE:20260723
DTSTAMP:20260424T032405
CREATED:20251211T092252Z
LAST-MODIFIED:20251211T092252Z
UID:10002747-1784707200-1784739600@ettiswil.ch
SUMMARY:Kehricht
DESCRIPTION:Beck Umweltservice AG\, Sursee
URL:https://ettiswil.ch/event/kehricht-3/2026-07-22/
LOCATION:Stelle Hauskehricht
END:VEVENT
BEGIN:VEVENT
DTSTART;TZID=Europe/Zurich:20260722T183000
DTEND;TZID=Europe/Zurich:20260722T203000
DTSTAMP:20260424T032405
CREATED:20250929T194952Z
LAST-MODIFIED:20251107T105113Z
UID:10002543-1784745000-1784752200@ettiswil.ch
SUMMARY:Sommerkurse Reitverein Ettiswil
DESCRIPTION:Hier könnte Ihr Text stehen…
URL:https://ettiswil.ch/event/sommerkurse-im-ausserdorf-des-reitverein-ettiswil-mit-anja-sanchez/2026-07-22/
CATEGORIES:Verein
ORGANIZER;CN="Reitverein Schloss Wyher":MAILTO:manuela.muff@rv-ettiswil.ch
END:VEVENT
BEGIN:VEVENT
DTSTART;TZID=Europe/Zurich:20260723T163000
DTEND;TZID=Europe/Zurich:20260723T183000
DTSTAMP:20260424T032405
CREATED:20251026T173554Z
LAST-MODIFIED:20251026T173554Z
UID:10002143-1784824200-1784831400@ettiswil.ch
SUMMARY:Boule-Spiel/Pétanque bei passender Witterung
DESCRIPTION:Hier könnte Ihr Text stehen…
URL:https://ettiswil.ch/event/boule-spiel-petanque-bei-passender-witterung/2026-07-23/
LOCATION:Sigristenhaus Ettiswil
CATEGORIES:Verein
ORGANIZER;CN="Silberstreifen 60 plus":MAILTO:vreni.korner@gmail.com
END:VEVENT
BEGIN:VEVENT
DTSTART;VALUE=DATE:20260727
DTEND;VALUE=DATE:20260728
DTSTAMP:20260424T032405
CREATED:20251209T093910Z
LAST-MODIFIED:20251209T093910Z
UID:10002657-1785139200-1785171600@ettiswil.ch
SUMMARY:Kartonsammlung
DESCRIPTION:Stöckli AG Entsorgung & Reccling\, Sursee
URL:https://ettiswil.ch/event/kartonsammlung/2026-07-27/
LOCATION:Werkhof
END:VEVENT
BEGIN:VEVENT
DTSTART;VALUE=DATE:20260728
DTEND;VALUE=DATE:20260729
DTSTAMP:20260424T032405
CREATED:20251026T181142Z
LAST-MODIFIED:20260203T162557Z
UID:10002801-1785196800-1785283199@ettiswil.ch
SUMMARY:Tageswanderung
DESCRIPTION:Hier könnte Ihr Text stehen…
URL:https://ettiswil.ch/event/adventsspaziergang/2026-07-28/
LOCATION:Postplatz Ettiswil\, Postplatz (Bushaltestelle)\, Ettiswil\, Switzerland
CATEGORIES:Verein
ORGANIZER;CN="Silberstreifen 60 plus":MAILTO:vreni.korner@gmail.com
END:VEVENT
BEGIN:VEVENT
DTSTART;VALUE=DATE:20260729
DTEND;VALUE=DATE:20260730
DTSTAMP:20260424T032405
CREATED:20251211T092252Z
LAST-MODIFIED:20251211T092252Z
UID:10002748-1785312000-1785344400@ettiswil.ch
SUMMARY:Kehricht
DESCRIPTION:Beck Umweltservice AG\, Sursee
URL:https://ettiswil.ch/event/kehricht-3/2026-07-29/
LOCATION:Stelle Hauskehricht
END:VEVENT
BEGIN:VEVENT
DTSTART;TZID=Europe/Zurich:20260730T080000
DTEND;TZID=Europe/Zurich:20260730T170000
DTSTAMP:20260424T032405
CREATED:20251106T132543Z
LAST-MODIFIED:20251106T132543Z
UID:10002299-1785398400-1785430800@ettiswil.ch
SUMMARY:Donnstighöck
DESCRIPTION:Hier könnte Ihr Text stehen…
URL:https://ettiswil.ch/event/donnstighoeck/
LOCATION:Armbrustschützenhaus Brestenegg
CATEGORIES:Verein
ORGANIZER;CN="Armbrustsch%C3%BCtzen Brestenegg":MAILTO:wdhlauda@bluewin.ch
END:VEVENT
BEGIN:VEVENT
DTSTART;TZID=Europe/Zurich:20260730T163000
DTEND;TZID=Europe/Zurich:20260730T183000
DTSTAMP:20260424T032405
CREATED:20251026T173554Z
LAST-MODIFIED:20251026T173554Z
UID:10002144-1785429000-1785436200@ettiswil.ch
SUMMARY:Boule-Spiel/Pétanque bei passender Witterung
DESCRIPTION:Hier könnte Ihr Text stehen…
URL:https://ettiswil.ch/event/boule-spiel-petanque-bei-passender-witterung/2026-07-30/
LOCATION:Sigristenhaus Ettiswil
CATEGORIES:Verein
ORGANIZER;CN="Silberstreifen 60 plus":MAILTO:vreni.korner@gmail.com
END:VEVENT
BEGIN:VEVENT
DTSTART;VALUE=DATE:20260731
DTEND;VALUE=DATE:20260801
DTSTAMP:20260424T032405
CREATED:20251209T092726Z
LAST-MODIFIED:20251209T093043Z
UID:10002635-1785484800-1785517200@ettiswil.ch
SUMMARY:Grüngutabfuhr
DESCRIPTION:Amstein Robert AG\, Willisau
URL:https://ettiswil.ch/event/gruengutabfuhr/2026-07-31/
LOCATION:Stelle Hauskehricht
END:VEVENT
BEGIN:VEVENT
DTSTART;VALUE=DATE:20260803
DTEND;VALUE=DATE:20260808
DTSTAMP:20260424T032405
CREATED:20251017T184841Z
LAST-MODIFIED:20251105T093227Z
UID:10002018-1785715200-1786147199@ettiswil.ch
SUMMARY:Ferienpass
DESCRIPTION:Hier könnte Ihr Text stehen…
URL:https://ettiswil.ch/event/ferienpass/
CATEGORIES:Verein
ORGANIZER;CN="Treffpunkt Frauen":MAILTO:vorstand@treffpunktfrauen-ettiswil.ch
END:VEVENT
BEGIN:VEVENT
DTSTART;TZID=Europe/Zurich:20260803T110000
DTEND;TZID=Europe/Zurich:20260803T170000
DTSTAMP:20260424T032405
CREATED:20251029T132405Z
LAST-MODIFIED:20251029T132405Z
UID:10002234-1785754800-1785776400@ettiswil.ch
SUMMARY:Grillplausch
DESCRIPTION:Hier könnte Ihr Text stehen…
URL:https://ettiswil.ch/event/grillplausch/
LOCATION:Burgrain\, Alberswil
CATEGORIES:Verein
ORGANIZER;CN="Silberstreifen 60 plus":MAILTO:vreni.korner@gmail.com
END:VEVENT
BEGIN:VEVENT
DTSTART;VALUE=DATE:20260805
DTEND;VALUE=DATE:20260806
DTSTAMP:20260424T032405
CREATED:20251211T092252Z
LAST-MODIFIED:20251211T092252Z
UID:10002749-1785916800-1785949200@ettiswil.ch
SUMMARY:Kehricht
DESCRIPTION:Beck Umweltservice AG\, Sursee
URL:https://ettiswil.ch/event/kehricht-3/2026-08-05/
LOCATION:Stelle Hauskehricht
END:VEVENT
BEGIN:VEVENT
DTSTART;TZID=Europe/Zurich:20260806T163000
DTEND;TZID=Europe/Zurich:20260806T183000
DTSTAMP:20260424T032405
CREATED:20251026T173554Z
LAST-MODIFIED:20251026T173554Z
UID:10002145-1786033800-1786041000@ettiswil.ch
SUMMARY:Boule-Spiel/Pétanque bei passender Witterung
DESCRIPTION:Hier könnte Ihr Text stehen…
URL:https://ettiswil.ch/event/boule-spiel-petanque-bei-passender-witterung/2026-08-06/
LOCATION:Sigristenhaus Ettiswil
CATEGORIES:Verein
ORGANIZER;CN="Silberstreifen 60 plus":MAILTO:vreni.korner@gmail.com
END:VEVENT
BEGIN:VEVENT
DTSTART;TZID=Europe/Zurich:20260810T133000
DTEND;TZID=Europe/Zurich:20260810T171500
DTSTAMP:20260424T032405
CREATED:20251215T083617Z
LAST-MODIFIED:20260421T113419Z
UID:10002834-1786368600-1786382100@ettiswil.ch
SUMMARY:Beratung Frühe Kindheit / Mütter- und Väterberatung
DESCRIPTION:Die Beratung Frühe Kindheit (Mütter- und Väterberatung) des Sozialberatungszentrum Willisau-Wiggertal ist eine Anlaufstelle für Familien mit Kindern von der Geburt bis zum Eintritt in den Kindergarten. Wir Fachpersonen der Frühen Kindheit beraten Sie bei Unsicherheiten und Fragen zur Entwicklung\, Ernährung\, Schlaf und Erziehung Ihres Kindes oder Ihren Elternaufgabe. Wir können Ihnen Auskunft über Angebote für Familien in der Region geben oder Sie bei Bedarf an Fachstellen weiterleiten. Die Beratungen werden vollumfänglich von der Gemeinde finanziert und sind somit für Sie kostenlos. Um eine Beratung in Ihrer Sprache durchführen zu können\, arbeiten wir bei Bedarf auch mit Dolmetschenden zusammen.\nFremdsprachige Erklärvideos zur Mütter- und Väterberatung\n\n\nDie Beratungen finden in Ettiswil\, Dorf 21 (im Schulhaus neben der Spielgruppe\, Räumlichkeiten Chäferli) statt. Sie können sich online auf unserer Homepage oder direkt über folgenden Link anmelden. Telefonberatungen können Sie von Montag bis Donnerstag von 8:30 bis 11:30 Uhr unter 041 972 56 30 in Anspruch nehmen. Wir freuen uns auf Sie.\n\n\nDas Team der Mütter- und Väterberatung Willisau-Wiggertal
URL:https://ettiswil.ch/event/beratung-fruehe-kindheit-muetter-und-vaeterberatung/2026-08-10/
CATEGORIES:Dienststellen
ATTACH;FMTTYPE=image/jpeg:https://ettiswil.ch/wp-content/uploads/2024/08/bfk-willisau-wiggertal-eyecatcher-RGB-farbe-e1765789703843.jpg
ORGANIZER;CN="Beratung Fr%C3%BChe Kindheit (MVB)":MAILTO:mvb.willisau@sobz-willisau.ch
END:VEVENT
BEGIN:VEVENT
DTSTART;VALUE=DATE:20260812
DTEND;VALUE=DATE:20260813
DTSTAMP:20260424T032405
CREATED:20251211T092252Z
LAST-MODIFIED:20251211T092252Z
UID:10002750-1786521600-1786554000@ettiswil.ch
SUMMARY:Kehricht
DESCRIPTION:Beck Umweltservice AG\, Sursee
URL:https://ettiswil.ch/event/kehricht-3/2026-08-12/
LOCATION:Stelle Hauskehricht
END:VEVENT
BEGIN:VEVENT
DTSTART;TZID=Europe/Zurich:20260812T180000
DTEND;TZID=Europe/Zurich:20260812T200000
DTSTAMP:20260424T032405
CREATED:20251119T143809Z
LAST-MODIFIED:20251119T143809Z
UID:10002593-1786557600-1786564800@ettiswil.ch
SUMMARY:Training / Waldstrasse gesperrt
DESCRIPTION:Hier könnte Ihr Text stehen…
URL:https://ettiswil.ch/event/training-waldstrasse-gesperrt-11/
LOCATION:Schiessanlage Wyden\, Ettiswil
CATEGORIES:Verein
ORGANIZER;CN="Feldsch%C3%BCtzen Ettiswil":MAILTO:maeggihaefliger@bluewin.ch
END:VEVENT
BEGIN:VEVENT
DTSTART;TZID=Europe/Zurich:20260813T163000
DTEND;TZID=Europe/Zurich:20260813T183000
DTSTAMP:20260424T032405
CREATED:20251026T173554Z
LAST-MODIFIED:20251026T173554Z
UID:10002146-1786638600-1786645800@ettiswil.ch
SUMMARY:Boule-Spiel/Pétanque bei passender Witterung
DESCRIPTION:Hier könnte Ihr Text stehen…
URL:https://ettiswil.ch/event/boule-spiel-petanque-bei-passender-witterung/2026-08-13/
LOCATION:Sigristenhaus Ettiswil
CATEGORIES:Verein
ORGANIZER;CN="Silberstreifen 60 plus":MAILTO:vreni.korner@gmail.com
END:VEVENT
BEGIN:VEVENT
DTSTART;VALUE=DATE:20260814
DTEND;VALUE=DATE:20260815
DTSTAMP:20260424T032405
CREATED:20251209T092726Z
LAST-MODIFIED:20251209T093043Z
UID:10002636-1786694400-1786726800@ettiswil.ch
SUMMARY:Grüngutabfuhr
DESCRIPTION:Amstein Robert AG\, Willisau
URL:https://ettiswil.ch/event/gruengutabfuhr/2026-08-14/
LOCATION:Stelle Hauskehricht
END:VEVENT
BEGIN:VEVENT
DTSTART;TZID=Europe/Zurich:20260814T180000
DTEND;TZID=Europe/Zurich:20260814T200000
DTSTAMP:20260424T032405
CREATED:20251119T143906Z
LAST-MODIFIED:20251119T143909Z
UID:10002594-1786730400-1786737600@ettiswil.ch
SUMMARY:Obligatorisch / Waldstrasse gesperrt
DESCRIPTION:Hier könnte Ihr Text stehen…
URL:https://ettiswil.ch/event/obligatorisch-waldstrasse-gesperrt-9/
LOCATION:Schiessanlage Wyden\, Ettiswil
CATEGORIES:Verein
ORGANIZER;CN="Feldsch%C3%BCtzen Ettiswil":MAILTO:maeggihaefliger@bluewin.ch
END:VEVENT
BEGIN:VEVENT
DTSTART;VALUE=DATE:20260817
DTEND;VALUE=DATE:20260818
DTSTAMP:20260424T032405
CREATED:20251029T132545Z
LAST-MODIFIED:20260203T162802Z
UID:10002235-1786924800-1787011199@ettiswil.ch
SUMMARY:E-Bike-Tages-Tour
DESCRIPTION:Hier könnte Ihr Text stehen…
URL:https://ettiswil.ch/event/e-bike-tages-tour-2/
LOCATION:Gemeindeparkplatz
CATEGORIES:Verein
ORGANIZER;CN="Silberstreifen 60 plus":MAILTO:vreni.korner@gmail.com
END:VEVENT
BEGIN:VEVENT
DTSTART;VALUE=DATE:20260817
DTEND;VALUE=DATE:20260818
DTSTAMP:20260424T032405
CREATED:20250924T124930Z
LAST-MODIFIED:20250924T124930Z
UID:10001784-1786924800-1787011199@ettiswil.ch
SUMMARY:Erster Schultag Schuljahr 2026/27
DESCRIPTION:
URL:https://ettiswil.ch/event/erster-schultag-schuljahr-2026-27/
CATEGORIES:Bildung
ORGANIZER;CN="Schule Ettiswil":MAILTO:sekretariat@schule-ettiswil.ch
END:VEVENT
END:VCALENDAR