BEGIN:VCALENDAR
VERSION:2.0
PRODID:-//Gemeinde Ettiswil - ECPv6.15.20//NONSGML v1.0//EN
CALSCALE:GREGORIAN
METHOD:PUBLISH
X-WR-CALNAME:Gemeinde Ettiswil
X-ORIGINAL-URL:https://ettiswil.ch
X-WR-CALDESC:Veranstaltungen für Gemeinde Ettiswil
REFRESH-INTERVAL;VALUE=DURATION:PT1H
X-Robots-Tag:noindex
X-PUBLISHED-TTL:PT1H
BEGIN:VTIMEZONE
TZID:Europe/Zurich
BEGIN:DAYLIGHT
TZOFFSETFROM:+0100
TZOFFSETTO:+0200
TZNAME:CEST
DTSTART:20250330T010000
END:DAYLIGHT
BEGIN:STANDARD
TZOFFSETFROM:+0200
TZOFFSETTO:+0100
TZNAME:CET
DTSTART:20251026T010000
END:STANDARD
BEGIN:DAYLIGHT
TZOFFSETFROM:+0100
TZOFFSETTO:+0200
TZNAME:CEST
DTSTART:20260329T010000
END:DAYLIGHT
BEGIN:STANDARD
TZOFFSETFROM:+0200
TZOFFSETTO:+0100
TZNAME:CET
DTSTART:20261025T010000
END:STANDARD
BEGIN:DAYLIGHT
TZOFFSETFROM:+0100
TZOFFSETTO:+0200
TZNAME:CEST
DTSTART:20270328T010000
END:DAYLIGHT
BEGIN:STANDARD
TZOFFSETFROM:+0200
TZOFFSETTO:+0100
TZNAME:CET
DTSTART:20271031T010000
END:STANDARD
END:VTIMEZONE
BEGIN:VEVENT
DTSTART;VALUE=DATE:20260831
DTEND;VALUE=DATE:20260901
DTSTAMP:20260424T074627
CREATED:20251209T093910Z
LAST-MODIFIED:20251209T093910Z
UID:10002658-1788163200-1788195600@ettiswil.ch
SUMMARY:Kartonsammlung
DESCRIPTION:Stöckli AG Entsorgung & Reccling\, Sursee
URL:https://ettiswil.ch/event/kartonsammlung/2026-08-31/
LOCATION:Werkhof
END:VEVENT
BEGIN:VEVENT
DTSTART;TZID=Europe/Zurich:20260831T180000
DTEND;TZID=Europe/Zurich:20260831T200000
DTSTAMP:20260424T074627
CREATED:20251119T144337Z
LAST-MODIFIED:20251119T144342Z
UID:10002598-1788199200-1788206400@ettiswil.ch
SUMMARY:Obligatorisch / Waldstrasse gesperrt
DESCRIPTION:Hier könnte Ihr Text stehen…
URL:https://ettiswil.ch/event/obligatorisch-waldstrasse-gesperrt-11/
LOCATION:Schiessanlage Wyden\, Ettiswil
CATEGORIES:Verein
ORGANIZER;CN="Feldsch%C3%BCtzen Ettiswil":MAILTO:maeggihaefliger@bluewin.ch
END:VEVENT
BEGIN:VEVENT
DTSTART;TZID=Europe/Zurich:20260901T163000
DTEND;TZID=Europe/Zurich:20260901T180000
DTSTAMP:20260424T074627
CREATED:20251029T130538Z
LAST-MODIFIED:20251029T130538Z
UID:10002219-1788280200-1788285600@ettiswil.ch
SUMMARY:Freies Singen
DESCRIPTION:Hier könnte Ihr Text stehen…
URL:https://ettiswil.ch/event/freies-singen/2026-09-01/
LOCATION:Ettiswil\, Singsaal
CATEGORIES:Verein
ORGANIZER;CN="Silberstreifen 60 plus":MAILTO:vreni.korner@gmail.com
END:VEVENT
BEGIN:VEVENT
DTSTART;VALUE=DATE:20260902
DTEND;VALUE=DATE:20260903
DTSTAMP:20260424T074627
CREATED:20251211T092252Z
LAST-MODIFIED:20251211T092252Z
UID:10002753-1788336000-1788368400@ettiswil.ch
SUMMARY:Kehricht
DESCRIPTION:Beck Umweltservice AG\, Sursee
URL:https://ettiswil.ch/event/kehricht-3/2026-09-02/
LOCATION:Stelle Hauskehricht
END:VEVENT
BEGIN:VEVENT
DTSTART;TZID=Europe/Zurich:20260902T180000
DTEND;TZID=Europe/Zurich:20260902T200000
DTSTAMP:20260424T074627
CREATED:20251119T144447Z
LAST-MODIFIED:20251119T144451Z
UID:10002599-1788372000-1788379200@ettiswil.ch
SUMMARY:Training / Waldstrasse gesperrt
DESCRIPTION:Hier könnte Ihr Text stehen…
URL:https://ettiswil.ch/event/training-waldstrasse-gesperrt-14/
LOCATION:Schiessanlage Wyden\, Ettiswil
CATEGORIES:Verein
ORGANIZER;CN="Feldsch%C3%BCtzen Ettiswil":MAILTO:maeggihaefliger@bluewin.ch
END:VEVENT
BEGIN:VEVENT
DTSTART;TZID=Europe/Zurich:20260902T200000
DTEND;TZID=Europe/Zurich:20260902T220000
DTSTAMP:20260424T074627
CREATED:20251017T150914Z
LAST-MODIFIED:20251019T142438Z
UID:10002010-1788379200-1788386400@ettiswil.ch
SUMMARY:Vereinsübung
DESCRIPTION:
URL:https://ettiswil.ch/event/vereinsuebung/2026-09-02/
LOCATION:Gütschhalde 1\, Kottwil
CATEGORIES:Verein
ORGANIZER;CN="Sanit%C3%A4tsteam Ettiswil":MAILTO:info@sanitaetsteamettiswil.ch
END:VEVENT
BEGIN:VEVENT
DTSTART;TZID=Europe/Zurich:20260903T163000
DTEND;TZID=Europe/Zurich:20260903T183000
DTSTAMP:20260424T074627
CREATED:20251026T173554Z
LAST-MODIFIED:20251026T173554Z
UID:10002149-1788453000-1788460200@ettiswil.ch
SUMMARY:Boule-Spiel/Pétanque bei passender Witterung
DESCRIPTION:Hier könnte Ihr Text stehen…
URL:https://ettiswil.ch/event/boule-spiel-petanque-bei-passender-witterung/2026-09-03/
LOCATION:Sigristenhaus Ettiswil
CATEGORIES:Verein
ORGANIZER;CN="Silberstreifen 60 plus":MAILTO:vreni.korner@gmail.com
END:VEVENT
BEGIN:VEVENT
DTSTART;TZID=Europe/Zurich:20260903T193000
DTEND;TZID=Europe/Zurich:20260903T220000
DTSTAMP:20260424T074627
CREATED:20241008T191531Z
LAST-MODIFIED:20250925T081758Z
UID:10001817-1788463800-1788472800@ettiswil.ch
SUMMARY:Gesamtübung
DESCRIPTION:
URL:https://ettiswil.ch/event/gesamtuebung-6/2026-09-03/
LOCATION:Feuerwehrmagazin Ettiswil
CATEGORIES:Organisation
ORGANIZER;CN="Feuerwehr Ettiswil-Alberswil":MAILTO:h.roeschu@gmail.com
END:VEVENT
BEGIN:VEVENT
DTSTART;VALUE=DATE:20260904
DTEND;VALUE=DATE:20260905
DTSTAMP:20260424T074627
CREATED:20251028T145032Z
LAST-MODIFIED:20251028T145032Z
UID:10002206-1788480000-1788566399@ettiswil.ch
SUMMARY:Grill & Chill
DESCRIPTION:
URL:https://ettiswil.ch/event/grill-chill/
CATEGORIES:Partei
END:VEVENT
BEGIN:VEVENT
DTSTART;VALUE=DATE:20260904
DTEND;VALUE=DATE:20260905
DTSTAMP:20260424T074627
CREATED:20251118T145347Z
LAST-MODIFIED:20251118T145407Z
UID:10002571-1788480000-1788566399@ettiswil.ch
SUMMARY:Volley Night
DESCRIPTION:Hier könnte Ihr Text stehen…
URL:https://ettiswil.ch/event/volley-night/
LOCATION:Alte TH / Büelacherhalle
CATEGORIES:Verein
ORGANIZER;CN="VBC Ettiswil":MAILTO:eaarnold@bluewin.ch
END:VEVENT
BEGIN:VEVENT
DTSTART;TZID=Europe/Zurich:20260904T190000
DTEND;TZID=Europe/Zurich:20260904T220000
DTSTAMP:20260424T074627
CREATED:20251020T183916Z
LAST-MODIFIED:20251121T190913Z
UID:10002052-1788548400-1788559200@ettiswil.ch
SUMMARY:Rebbergwanderung inkl. Degustation und ApéroRiche - auch Männer sind willkommen
DESCRIPTION:Hier könnte Ihr Text stehen…
URL:https://ettiswil.ch/event/weinwanderung-inkl-degustation-und-apero/
CATEGORIES:Verein
ORGANIZER;CN="Treffpunkt Frauen":MAILTO:vorstand@treffpunktfrauen-ettiswil.ch
END:VEVENT
BEGIN:VEVENT
DTSTART;VALUE=DATE:20260905
DTEND;VALUE=DATE:20260906
DTSTAMP:20260424T074627
CREATED:20251106T132713Z
LAST-MODIFIED:20251106T132713Z
UID:10002300-1788566400-1788652799@ettiswil.ch
SUMMARY:Veteranenmeisterschaft ZSAV
DESCRIPTION:Hier könnte Ihr Text stehen…
URL:https://ettiswil.ch/event/veteranenmeisterschaft-zsav/
LOCATION:Armbrustschützenhaus Brestenegg
CATEGORIES:Verein
ORGANIZER;CN="Armbrustsch%C3%BCtzen Brestenegg":MAILTO:wdhlauda@bluewin.ch
END:VEVENT
BEGIN:VEVENT
DTSTART;TZID=Europe/Zurich:20260905T080000
DTEND;TZID=Europe/Zurich:20260905T121500
DTSTAMP:20260424T074627
CREATED:20251017T154308Z
LAST-MODIFIED:20251018T140936Z
UID:10002035-1788595200-1788610500@ettiswil.ch
SUMMARY:Reanimationskurs BLS-AED-SRC
DESCRIPTION:
URL:https://ettiswil.ch/event/reanimationskurs-bls-aed-src-2/2026-09-05/
LOCATION:Gütschhalde 1\, Kottwil
CATEGORIES:Verein
ORGANIZER;CN="Sanit%C3%A4tsteam Ettiswil":MAILTO:info@sanitaetsteamettiswil.ch
END:VEVENT
BEGIN:VEVENT
DTSTART;VALUE=DATE:20260906
DTEND;VALUE=DATE:20260907
DTSTAMP:20260424T074627
CREATED:20251104T161650Z
LAST-MODIFIED:20251105T093226Z
UID:10002282-1788652800-1788739199@ettiswil.ch
SUMMARY:3. Töffli Ride
DESCRIPTION:
URL:https://ettiswil.ch/event/3-toeffli-ride/
LOCATION:Schloss Wyher
CATEGORIES:Verein
ORGANIZER;CN="T%C3%B6ffli Ride Schloss Wyher":MAILTO:peter.obi@mey-ble.ch
END:VEVENT
BEGIN:VEVENT
DTSTART;VALUE=DATE:20260906
DTEND;VALUE=DATE:20260907
DTSTAMP:20260424T074627
CREATED:20251118T145803Z
LAST-MODIFIED:20251118T145806Z
UID:10002572-1788652800-1788739199@ettiswil.ch
SUMMARY:Turniersonntag
DESCRIPTION:Hier könnte Ihr Text stehen…
URL:https://ettiswil.ch/event/turniersonntag-3/
LOCATION:Alte TH / Büelacherhalle
CATEGORIES:Verein
ORGANIZER;CN="VBC Ettiswil":MAILTO:eaarnold@bluewin.ch
END:VEVENT
BEGIN:VEVENT
DTSTART;VALUE=DATE:20260907
DTEND;VALUE=DATE:20260908
DTSTAMP:20260424T074627
CREATED:20251209T094203Z
LAST-MODIFIED:20251209T094203Z
UID:10002664-1788768000-1788800400@ettiswil.ch
SUMMARY:Häckseldienst
DESCRIPTION:
URL:https://ettiswil.ch/event/haeckseldienst/2026-09-07/
LOCATION:Strassenrand
END:VEVENT
BEGIN:VEVENT
DTSTART;TZID=Europe/Zurich:20260907T090000
DTEND;TZID=Europe/Zurich:20260907T171500
DTSTAMP:20260424T074627
CREATED:20251215T083617Z
LAST-MODIFIED:20260421T113419Z
UID:10002784-1788771600-1788801300@ettiswil.ch
SUMMARY:Beratung Frühe Kindheit / Mütter- und Väterberatung
DESCRIPTION:Die Beratung Frühe Kindheit (Mütter- und Väterberatung) des Sozialberatungszentrum Willisau-Wiggertal ist eine Anlaufstelle für Familien mit Kindern von der Geburt bis zum Eintritt in den Kindergarten. Wir Fachpersonen der Frühen Kindheit beraten Sie bei Unsicherheiten und Fragen zur Entwicklung\, Ernährung\, Schlaf und Erziehung Ihres Kindes oder Ihren Elternaufgabe. Wir können Ihnen Auskunft über Angebote für Familien in der Region geben oder Sie bei Bedarf an Fachstellen weiterleiten. Die Beratungen werden vollumfänglich von der Gemeinde finanziert und sind somit für Sie kostenlos. Um eine Beratung in Ihrer Sprache durchführen zu können\, arbeiten wir bei Bedarf auch mit Dolmetschenden zusammen.\nFremdsprachige Erklärvideos zur Mütter- und Väterberatung\n\n\nDie Beratungen finden in Ettiswil\, Dorf 21 (im Schulhaus neben der Spielgruppe\, Räumlichkeiten Chäferli) statt. Sie können sich online auf unserer Homepage oder direkt über folgenden Link anmelden. Telefonberatungen können Sie von Montag bis Donnerstag von 8:30 bis 11:30 Uhr unter 041 972 56 30 in Anspruch nehmen. Wir freuen uns auf Sie.\n\n\nDas Team der Mütter- und Väterberatung Willisau-Wiggertal
URL:https://ettiswil.ch/event/beratung-fruehe-kindheit-muetter-und-vaeterberatung/2026-09-07/
CATEGORIES:Dienststellen
ATTACH;FMTTYPE=image/jpeg:https://ettiswil.ch/wp-content/uploads/2024/08/bfk-willisau-wiggertal-eyecatcher-RGB-farbe-e1765789703843.jpg
ORGANIZER;CN="Beratung Fr%C3%BChe Kindheit (MVB)":MAILTO:mvb.willisau@sobz-willisau.ch
END:VEVENT
BEGIN:VEVENT
DTSTART;TZID=Europe/Zurich:20260907T133000
DTEND;TZID=Europe/Zurich:20260907T170000
DTSTAMP:20260424T074627
CREATED:20251029T131834Z
LAST-MODIFIED:20251029T131834Z
UID:10002229-1788787800-1788800400@ettiswil.ch
SUMMARY:E-Bike-Tour
DESCRIPTION:Hier könnte Ihr Text stehen…
URL:https://ettiswil.ch/event/e-bike-tour/2026-09-07/
LOCATION:Gemeindeparkplatz Ettiswil
CATEGORIES:Verein
ORGANIZER;CN="Silberstreifen 60 plus":MAILTO:vreni.korner@gmail.com
END:VEVENT
BEGIN:VEVENT
DTSTART;TZID=Europe/Zurich:20260907T140000
DTEND;TZID=Europe/Zurich:20260907T170000
DTSTAMP:20260424T074627
CREATED:20251029T125746Z
LAST-MODIFIED:20251029T125746Z
UID:10002211-1788789600-1788800400@ettiswil.ch
SUMMARY:Spaziergang
DESCRIPTION:Hier könnte Ihr Text stehen…
URL:https://ettiswil.ch/event/spaziergang/2026-09-07/
LOCATION:Gemeindeparkplatz Ettiswil
CATEGORIES:Verein
ORGANIZER;CN="Silberstreifen 60 plus":MAILTO:vreni.korner@gmail.com
END:VEVENT
BEGIN:VEVENT
DTSTART;TZID=Europe/Zurich:20260907T193000
DTEND;TZID=Europe/Zurich:20260907T220000
DTSTAMP:20260424T074627
CREATED:20241008T191030Z
LAST-MODIFIED:20250925T081330Z
UID:10001809-1788809400-1788818400@ettiswil.ch
SUMMARY:Atemschutzübung
DESCRIPTION:
URL:https://ettiswil.ch/event/atemschutzuebung-7/2026-09-07/
LOCATION:Feuerwehrmagazin Ettiswil
CATEGORIES:Organisation
ORGANIZER;CN="Feuerwehr Ettiswil-Alberswil":MAILTO:h.roeschu@gmail.com
END:VEVENT
BEGIN:VEVENT
DTSTART;VALUE=DATE:20260909
DTEND;VALUE=DATE:20260910
DTSTAMP:20260424T074627
CREATED:20251020T190106Z
LAST-MODIFIED:20251105T093226Z
UID:10002053-1788912000-1788998399@ettiswil.ch
SUMMARY:Herbstwallfahrt
DESCRIPTION:Hier könnte Ihr Text stehen…
URL:https://ettiswil.ch/event/herbstwallfahrt/
CATEGORIES:Verein
ORGANIZER;CN="Treffpunkt Frauen":MAILTO:vorstand@treffpunktfrauen-ettiswil.ch
END:VEVENT
BEGIN:VEVENT
DTSTART;VALUE=DATE:20260909
DTEND;VALUE=DATE:20260910
DTSTAMP:20260424T074627
CREATED:20251211T092252Z
LAST-MODIFIED:20251211T092252Z
UID:10002754-1788940800-1788973200@ettiswil.ch
SUMMARY:Kehricht
DESCRIPTION:Beck Umweltservice AG\, Sursee
URL:https://ettiswil.ch/event/kehricht-3/2026-09-09/
LOCATION:Stelle Hauskehricht
END:VEVENT
BEGIN:VEVENT
DTSTART;TZID=Europe/Zurich:20260909T180000
DTEND;TZID=Europe/Zurich:20260909T200000
DTSTAMP:20260424T074627
CREATED:20251119T144559Z
LAST-MODIFIED:20251119T144559Z
UID:10002600-1788976800-1788984000@ettiswil.ch
SUMMARY:Training / Waldstrasse gesperrt
DESCRIPTION:Hier könnte Ihr Text stehen…
URL:https://ettiswil.ch/event/training-waldstrasse-gesperrt-15/
LOCATION:Schiessanlage Wyden\, Ettiswil
CATEGORIES:Verein
ORGANIZER;CN="Feldsch%C3%BCtzen Ettiswil":MAILTO:maeggihaefliger@bluewin.ch
END:VEVENT
BEGIN:VEVENT
DTSTART;TZID=Europe/Zurich:20260910T113000
DTEND;TZID=Europe/Zurich:20260910T170000
DTSTAMP:20260424T074627
CREATED:20260321T094549Z
LAST-MODIFIED:20260321T095142Z
UID:10002822-1789039800-1789059600@ettiswil.ch
SUMMARY:Mittagstisch/Jassen/Spielen
DESCRIPTION:Hier könnte Ihr Text stehen…
URL:https://ettiswil.ch/event/mittagstisch-jassen-spielen-3-2/2026-09-10/
LOCATION:Restaurant Pöstli Kottwil\, Dorf 11\, Kottwil\, 6217\, Switzerland
CATEGORIES:Verein
ORGANIZER;CN="Silberstreifen 60 plus":MAILTO:vreni.korner@gmail.com
END:VEVENT
BEGIN:VEVENT
DTSTART;TZID=Europe/Zurich:20260910T163000
DTEND;TZID=Europe/Zurich:20260910T183000
DTSTAMP:20260424T074627
CREATED:20251026T173554Z
LAST-MODIFIED:20251026T173554Z
UID:10002150-1789057800-1789065000@ettiswil.ch
SUMMARY:Boule-Spiel/Pétanque bei passender Witterung
DESCRIPTION:Hier könnte Ihr Text stehen…
URL:https://ettiswil.ch/event/boule-spiel-petanque-bei-passender-witterung/2026-09-10/
LOCATION:Sigristenhaus Ettiswil
CATEGORIES:Verein
ORGANIZER;CN="Silberstreifen 60 plus":MAILTO:vreni.korner@gmail.com
END:VEVENT
BEGIN:VEVENT
DTSTART;TZID=Europe/Zurich:20260910T190000
DTEND;TZID=Europe/Zurich:20260910T220000
DTSTAMP:20260424T074627
CREATED:20251017T154126Z
LAST-MODIFIED:20251018T140833Z
UID:10002031-1789066800-1789077600@ettiswil.ch
SUMMARY:Nothilfekurs
DESCRIPTION:
URL:https://ettiswil.ch/event/nothilfekurs/2026-09-10/
LOCATION:Gütschhalde 1\, Kottwil
CATEGORIES:Verein
ORGANIZER;CN="Sanit%C3%A4tsteam Ettiswil":MAILTO:info@sanitaetsteamettiswil.ch
END:VEVENT
BEGIN:VEVENT
DTSTART;TZID=Europe/Zurich:20260910T193000
DTEND;TZID=Europe/Zurich:20260910T220000
DTSTAMP:20260424T074627
CREATED:20241008T191347Z
LAST-MODIFIED:20250925T081630Z
UID:10001814-1789068600-1789077600@ettiswil.ch
SUMMARY:TLF-Maschinistenübung
DESCRIPTION:
URL:https://ettiswil.ch/event/tlf-maschinistenuebung-2/2026-09-10/
LOCATION:Feuerwehrmagazin Ettiswil
CATEGORIES:Organisation
ORGANIZER;CN="Feuerwehr Ettiswil-Alberswil":MAILTO:h.roeschu@gmail.com
END:VEVENT
BEGIN:VEVENT
DTSTART;VALUE=DATE:20260911
DTEND;VALUE=DATE:20260912
DTSTAMP:20260424T074627
CREATED:20251105T101308Z
LAST-MODIFIED:20251105T101308Z
UID:10002290-1789084800-1789171199@ettiswil.ch
SUMMARY:Jungbürgerfeier
DESCRIPTION:
URL:https://ettiswil.ch/event/jungbuergerfeier-2/
CATEGORIES:Gemeinde
END:VEVENT
BEGIN:VEVENT
DTSTART;VALUE=DATE:20260911
DTEND;VALUE=DATE:20260912
DTSTAMP:20260424T074627
CREATED:20251209T092726Z
LAST-MODIFIED:20251209T093043Z
UID:10002638-1789113600-1789146000@ettiswil.ch
SUMMARY:Grüngutabfuhr
DESCRIPTION:Amstein Robert AG\, Willisau
URL:https://ettiswil.ch/event/gruengutabfuhr/2026-09-11/
LOCATION:Stelle Hauskehricht
END:VEVENT
BEGIN:VEVENT
DTSTART;TZID=Europe/Zurich:20260911T190000
DTEND;TZID=Europe/Zurich:20260911T220000
DTSTAMP:20260424T074627
CREATED:20251017T154126Z
LAST-MODIFIED:20251018T140833Z
UID:10002032-1789153200-1789164000@ettiswil.ch
SUMMARY:Nothilfekurs
DESCRIPTION:
URL:https://ettiswil.ch/event/nothilfekurs/2026-09-11/
LOCATION:Gütschhalde 1\, Kottwil
CATEGORIES:Verein
ORGANIZER;CN="Sanit%C3%A4tsteam Ettiswil":MAILTO:info@sanitaetsteamettiswil.ch
END:VEVENT
END:VCALENDAR