BEGIN:VCALENDAR
VERSION:2.0
PRODID:-//Gemeinde Ettiswil - ECPv6.15.20//NONSGML v1.0//EN
CALSCALE:GREGORIAN
METHOD:PUBLISH
X-WR-CALNAME:Gemeinde Ettiswil
X-ORIGINAL-URL:https://ettiswil.ch
X-WR-CALDESC:Veranstaltungen für Gemeinde Ettiswil
REFRESH-INTERVAL;VALUE=DURATION:PT1H
X-Robots-Tag:noindex
X-PUBLISHED-TTL:PT1H
BEGIN:VTIMEZONE
TZID:Europe/Zurich
BEGIN:DAYLIGHT
TZOFFSETFROM:+0100
TZOFFSETTO:+0200
TZNAME:CEST
DTSTART:20250330T010000
END:DAYLIGHT
BEGIN:STANDARD
TZOFFSETFROM:+0200
TZOFFSETTO:+0100
TZNAME:CET
DTSTART:20251026T010000
END:STANDARD
BEGIN:DAYLIGHT
TZOFFSETFROM:+0100
TZOFFSETTO:+0200
TZNAME:CEST
DTSTART:20260329T010000
END:DAYLIGHT
BEGIN:STANDARD
TZOFFSETFROM:+0200
TZOFFSETTO:+0100
TZNAME:CET
DTSTART:20261025T010000
END:STANDARD
BEGIN:DAYLIGHT
TZOFFSETFROM:+0100
TZOFFSETTO:+0200
TZNAME:CEST
DTSTART:20270328T010000
END:DAYLIGHT
BEGIN:STANDARD
TZOFFSETFROM:+0200
TZOFFSETTO:+0100
TZNAME:CET
DTSTART:20271031T010000
END:STANDARD
END:VTIMEZONE
BEGIN:VEVENT
DTSTART;TZID=Europe/Zurich:20260910T163000
DTEND;TZID=Europe/Zurich:20260910T183000
DTSTAMP:20260424T102317
CREATED:20251026T173554Z
LAST-MODIFIED:20251026T173554Z
UID:10002150-1789057800-1789065000@ettiswil.ch
SUMMARY:Boule-Spiel/Pétanque bei passender Witterung
DESCRIPTION:Hier könnte Ihr Text stehen…
URL:https://ettiswil.ch/event/boule-spiel-petanque-bei-passender-witterung/2026-09-10/
LOCATION:Sigristenhaus Ettiswil
CATEGORIES:Verein
ORGANIZER;CN="Silberstreifen 60 plus":MAILTO:vreni.korner@gmail.com
END:VEVENT
BEGIN:VEVENT
DTSTART;TZID=Europe/Zurich:20260910T190000
DTEND;TZID=Europe/Zurich:20260910T220000
DTSTAMP:20260424T102317
CREATED:20251017T154126Z
LAST-MODIFIED:20251018T140833Z
UID:10002031-1789066800-1789077600@ettiswil.ch
SUMMARY:Nothilfekurs
DESCRIPTION:
URL:https://ettiswil.ch/event/nothilfekurs/2026-09-10/
LOCATION:Gütschhalde 1\, Kottwil
CATEGORIES:Verein
ORGANIZER;CN="Sanit%C3%A4tsteam Ettiswil":MAILTO:info@sanitaetsteamettiswil.ch
END:VEVENT
BEGIN:VEVENT
DTSTART;TZID=Europe/Zurich:20260910T193000
DTEND;TZID=Europe/Zurich:20260910T220000
DTSTAMP:20260424T102317
CREATED:20241008T191347Z
LAST-MODIFIED:20250925T081630Z
UID:10001814-1789068600-1789077600@ettiswil.ch
SUMMARY:TLF-Maschinistenübung
DESCRIPTION:
URL:https://ettiswil.ch/event/tlf-maschinistenuebung-2/2026-09-10/
LOCATION:Feuerwehrmagazin Ettiswil
CATEGORIES:Organisation
ORGANIZER;CN="Feuerwehr Ettiswil-Alberswil":MAILTO:h.roeschu@gmail.com
END:VEVENT
BEGIN:VEVENT
DTSTART;VALUE=DATE:20260911
DTEND;VALUE=DATE:20260912
DTSTAMP:20260424T102317
CREATED:20251105T101308Z
LAST-MODIFIED:20251105T101308Z
UID:10002290-1789084800-1789171199@ettiswil.ch
SUMMARY:Jungbürgerfeier
DESCRIPTION:
URL:https://ettiswil.ch/event/jungbuergerfeier-2/
CATEGORIES:Gemeinde
END:VEVENT
BEGIN:VEVENT
DTSTART;VALUE=DATE:20260911
DTEND;VALUE=DATE:20260912
DTSTAMP:20260424T102317
CREATED:20251209T092726Z
LAST-MODIFIED:20251209T093043Z
UID:10002638-1789113600-1789146000@ettiswil.ch
SUMMARY:Grüngutabfuhr
DESCRIPTION:Amstein Robert AG\, Willisau
URL:https://ettiswil.ch/event/gruengutabfuhr/2026-09-11/
LOCATION:Stelle Hauskehricht
END:VEVENT
BEGIN:VEVENT
DTSTART;TZID=Europe/Zurich:20260911T190000
DTEND;TZID=Europe/Zurich:20260911T220000
DTSTAMP:20260424T102317
CREATED:20251017T154126Z
LAST-MODIFIED:20251018T140833Z
UID:10002032-1789153200-1789164000@ettiswil.ch
SUMMARY:Nothilfekurs
DESCRIPTION:
URL:https://ettiswil.ch/event/nothilfekurs/2026-09-11/
LOCATION:Gütschhalde 1\, Kottwil
CATEGORIES:Verein
ORGANIZER;CN="Sanit%C3%A4tsteam Ettiswil":MAILTO:info@sanitaetsteamettiswil.ch
END:VEVENT
BEGIN:VEVENT
DTSTART;VALUE=DATE:20260912
DTEND;VALUE=DATE:20260913
DTSTAMP:20260424T102317
CREATED:20251029T204539Z
LAST-MODIFIED:20251029T204539Z
UID:10002243-1789171200-1789257599@ettiswil.ch
SUMMARY:Vereinsreise
DESCRIPTION:Hier könnte Ihr Text stehen…
URL:https://ettiswil.ch/event/vereinsreise/
LOCATION:noch offen
CATEGORIES:Verein
ORGANIZER;CN="Frauen Sportgruppe Kottwil":MAILTO:sibylle.heller@bluewin.ch
END:VEVENT
BEGIN:VEVENT
DTSTART;TZID=Europe/Zurich:20260912T080000
DTEND;TZID=Europe/Zurich:20260912T120000
DTSTAMP:20260424T102317
CREATED:20251017T154126Z
LAST-MODIFIED:20251018T140833Z
UID:10002033-1789200000-1789214400@ettiswil.ch
SUMMARY:Nothilfekurs
DESCRIPTION:
URL:https://ettiswil.ch/event/nothilfekurs/2026-09-12/
LOCATION:Gütschhalde 1\, Kottwil
CATEGORIES:Verein
ORGANIZER;CN="Sanit%C3%A4tsteam Ettiswil":MAILTO:info@sanitaetsteamettiswil.ch
END:VEVENT
BEGIN:VEVENT
DTSTART;TZID=Europe/Zurich:20260912T123000
DTEND;TZID=Europe/Zurich:20260912T230000
DTSTAMP:20260424T102317
CREATED:20250122T084236Z
LAST-MODIFIED:20250910T053050Z
UID:10001496-1789216200-1789254000@ettiswil.ch
SUMMARY:Faustballturnier in Ettiswil
DESCRIPTION:Hier könnte Ihr Text stehen…
URL:https://ettiswil.ch/event/faustballturnier-3/
LOCATION:Sportanlagen Ettiswil
CATEGORIES:Verein
ORGANIZER;CN="M%C3%A4nnerturner Ettiswil":MAILTO:franz.felber@aktiv-treuhand.ch
END:VEVENT
BEGIN:VEVENT
DTSTART;VALUE=DATE:20260916
DTEND;VALUE=DATE:20260917
DTSTAMP:20260424T102317
CREATED:20251211T092252Z
LAST-MODIFIED:20251211T092252Z
UID:10002755-1789545600-1789578000@ettiswil.ch
SUMMARY:Kehricht
DESCRIPTION:Beck Umweltservice AG\, Sursee
URL:https://ettiswil.ch/event/kehricht-3/2026-09-16/
LOCATION:Stelle Hauskehricht
END:VEVENT
BEGIN:VEVENT
DTSTART;TZID=Europe/Zurich:20260916T133000
DTEND;TZID=Europe/Zurich:20260916T171500
DTSTAMP:20260424T102317
CREATED:20251215T083617Z
LAST-MODIFIED:20260421T113419Z
UID:10002836-1789565400-1789578900@ettiswil.ch
SUMMARY:Beratung Frühe Kindheit / Mütter- und Väterberatung
DESCRIPTION:Die Beratung Frühe Kindheit (Mütter- und Väterberatung) des Sozialberatungszentrum Willisau-Wiggertal ist eine Anlaufstelle für Familien mit Kindern von der Geburt bis zum Eintritt in den Kindergarten. Wir Fachpersonen der Frühen Kindheit beraten Sie bei Unsicherheiten und Fragen zur Entwicklung\, Ernährung\, Schlaf und Erziehung Ihres Kindes oder Ihren Elternaufgabe. Wir können Ihnen Auskunft über Angebote für Familien in der Region geben oder Sie bei Bedarf an Fachstellen weiterleiten. Die Beratungen werden vollumfänglich von der Gemeinde finanziert und sind somit für Sie kostenlos. Um eine Beratung in Ihrer Sprache durchführen zu können\, arbeiten wir bei Bedarf auch mit Dolmetschenden zusammen.\nFremdsprachige Erklärvideos zur Mütter- und Väterberatung\n\n\nDie Beratungen finden in Ettiswil\, Dorf 21 (im Schulhaus neben der Spielgruppe\, Räumlichkeiten Chäferli) statt. Sie können sich online auf unserer Homepage oder direkt über folgenden Link anmelden. Telefonberatungen können Sie von Montag bis Donnerstag von 8:30 bis 11:30 Uhr unter 041 972 56 30 in Anspruch nehmen. Wir freuen uns auf Sie.\n\n\nDas Team der Mütter- und Väterberatung Willisau-Wiggertal
URL:https://ettiswil.ch/event/beratung-fruehe-kindheit-muetter-und-vaeterberatung/2026-09-16/
CATEGORIES:Dienststellen
ATTACH;FMTTYPE=image/jpeg:https://ettiswil.ch/wp-content/uploads/2024/08/bfk-willisau-wiggertal-eyecatcher-RGB-farbe-e1765789703843.jpg
ORGANIZER;CN="Beratung Fr%C3%BChe Kindheit (MVB)":MAILTO:mvb.willisau@sobz-willisau.ch
END:VEVENT
BEGIN:VEVENT
DTSTART;TZID=Europe/Zurich:20260916T193000
DTEND;TZID=Europe/Zurich:20260916T213000
DTSTAMP:20260424T102317
CREATED:20241008T191936Z
LAST-MODIFIED:20250925T082248Z
UID:10001823-1789587000-1789594200@ettiswil.ch
SUMMARY:Infoabend für Interessierte
DESCRIPTION:Hier könnte Ihr Text stehen…
URL:https://ettiswil.ch/event/infoabend-fuer-interessierte/2026-09-16/
LOCATION:Feuerwehrmagazin Ettiswil
CATEGORIES:Organisation
ORGANIZER;CN="Feuerwehr Ettiswil-Alberswil":MAILTO:h.roeschu@gmail.com
END:VEVENT
BEGIN:VEVENT
DTSTART;TZID=Europe/Zurich:20260917T131500
DTEND;TZID=Europe/Zurich:20260917T170000
DTSTAMP:20260424T102317
CREATED:20251026T175737Z
LAST-MODIFIED:20251026T175737Z
UID:10002163-1789650900-1789664400@ettiswil.ch
SUMMARY:Nachmittagswanderung
DESCRIPTION:Hier könnte Ihr Text stehen…
URL:https://ettiswil.ch/event/nachmittagswanderung/2026-09-17/
LOCATION:Postplatz Ettiswil\, Postplatz (Bushaltestelle)\, Ettiswil\, Switzerland
CATEGORIES:Verein
ORGANIZER;CN="Silberstreifen 60 plus":MAILTO:vreni.korner@gmail.com
END:VEVENT
BEGIN:VEVENT
DTSTART;TZID=Europe/Zurich:20260917T163000
DTEND;TZID=Europe/Zurich:20260917T183000
DTSTAMP:20260424T102317
CREATED:20251026T173554Z
LAST-MODIFIED:20251026T173554Z
UID:10002151-1789662600-1789669800@ettiswil.ch
SUMMARY:Boule-Spiel/Pétanque bei passender Witterung
DESCRIPTION:Hier könnte Ihr Text stehen…
URL:https://ettiswil.ch/event/boule-spiel-petanque-bei-passender-witterung/2026-09-17/
LOCATION:Sigristenhaus Ettiswil
CATEGORIES:Verein
ORGANIZER;CN="Silberstreifen 60 plus":MAILTO:vreni.korner@gmail.com
END:VEVENT
BEGIN:VEVENT
DTSTART;TZID=Europe/Zurich:20260917T193000
DTEND;TZID=Europe/Zurich:20260917T210000
DTSTAMP:20260424T102317
CREATED:20260305T104125Z
LAST-MODIFIED:20260305T104535Z
UID:10002813-1789673400-1789678800@ettiswil.ch
SUMMARY:Line Dance (Beginners)
DESCRIPTION:Hier könnte Ihr Text stehen…
URL:https://ettiswil.ch/event/line-dance-beginners/
LOCATION:Gütschhalle Kottwil
CATEGORIES:Verein
ORGANIZER;CN="Frauen Sportgruppe Kottwil":MAILTO:sibylle.heller@bluewin.ch
END:VEVENT
BEGIN:VEVENT
DTSTART;TZID=Europe/Zurich:20260918T190000
DTEND;TZID=Europe/Zurich:20260918T233000
DTSTAMP:20260424T102317
CREATED:20251104T173543Z
LAST-MODIFIED:20251104T173631Z
UID:10002284-1789758000-1789774200@ettiswil.ch
SUMMARY:54. GV vom FC Grosswangen-Ettiswil im Restaurant Jlge\, Ettiswil
DESCRIPTION:Hier könnte Ihr Text stehen…
URL:https://ettiswil.ch/event/54-gv-vom-fc-grosswangen-ettiswil-im-restaurant-jlge-ettiswil/
LOCATION:Restaurant Jlge Ettiswil
CATEGORIES:Verein
ORGANIZER;CN="FC Grosswangen-Ettiswil":MAILTO:praesident@fcge.ch
END:VEVENT
BEGIN:VEVENT
DTSTART;VALUE=DATE:20260919
DTEND;VALUE=DATE:20260920
DTSTAMP:20260424T102317
CREATED:20250604T122053Z
LAST-MODIFIED:20251017T152421Z
UID:10001657-1789776000-1789862399@ettiswil.ch
SUMMARY:Jubiläumstag - 85 Jahre Sanitätsteam & 10 Jahre Jugend-Sanitätsteam Ettiswil
DESCRIPTION:
URL:https://ettiswil.ch/event/jubilaeumstag/
LOCATION:Büelacherareal
CATEGORIES:Verein
ORGANIZER;CN="Sanit%C3%A4tsteam Ettiswil":MAILTO:info@sanitaetsteamettiswil.ch
END:VEVENT
BEGIN:VEVENT
DTSTART;VALUE=DATE:20260919
DTEND;VALUE=DATE:20260920
DTSTAMP:20260424T102317
CREATED:20251021T165239Z
LAST-MODIFIED:20251021T170703Z
UID:10002070-1789776000-1789862399@ettiswil.ch
SUMMARY:Jubiläumstag - 10 Jahre Jugend-Sanitätsteam & 85 Jahre Sanitätsteam Ettiswil
DESCRIPTION:
URL:https://ettiswil.ch/event/blaulicht-tag/
LOCATION:Büelacherareal
CATEGORIES:Verein
ORGANIZER;CN="Jugend-Sanit%C3%A4tsteam Ettiswil":MAILTO:jugend@sanitaetsteamettiswil.ch
END:VEVENT
BEGIN:VEVENT
DTSTART;VALUE=DATE:20260920
DTEND;VALUE=DATE:20260921
DTSTAMP:20260424T102317
CREATED:20251104T100432Z
LAST-MODIFIED:20251105T093226Z
UID:10002279-1789862400-1789948799@ettiswil.ch
SUMMARY:Bettag\, singen in der Kirche
DESCRIPTION:
URL:https://ettiswil.ch/event/bettag-singen-in-der-kirche/
CATEGORIES:Verein
ORGANIZER;CN="M%C3%A4nnerchor Ettiswil":MAILTO:praesident@maennerchor-ettiswil.ch
END:VEVENT
BEGIN:VEVENT
DTSTART;VALUE=DATE:20260921
DTEND;VALUE=DATE:20260922
DTSTAMP:20260424T102317
CREATED:20251203T064004Z
LAST-MODIFIED:20251203T064004Z
UID:10002618-1789948800-1790035199@ettiswil.ch
SUMMARY:Redaktionsschluss Oktober-Mobile
DESCRIPTION:
URL:https://ettiswil.ch/event/redaktionsschluss-oktober-mobile/
CATEGORIES:Gemeinde
END:VEVENT
BEGIN:VEVENT
DTSTART;TZID=Europe/Zurich:20260921T133000
DTEND;TZID=Europe/Zurich:20260921T170000
DTSTAMP:20260424T102317
CREATED:20251029T132225Z
LAST-MODIFIED:20251029T132225Z
UID:10002233-1789997400-1790010000@ettiswil.ch
SUMMARY:E-Bike-Tour
DESCRIPTION:Hier könnte Ihr Text stehen…
URL:https://ettiswil.ch/event/e-bike-tour-2/2026-09-21/
LOCATION:Gemeindeparkplatz
CATEGORIES:Verein
ORGANIZER;CN="Silberstreifen 60 plus":MAILTO:vreni.korner@gmail.com
END:VEVENT
BEGIN:VEVENT
DTSTART;VALUE=DATE:20260922
DTEND;VALUE=DATE:20260923
DTSTAMP:20260424T102317
CREATED:20251026T181142Z
LAST-MODIFIED:20260203T162557Z
UID:10002803-1790035200-1790121599@ettiswil.ch
SUMMARY:Tageswanderung
DESCRIPTION:Hier könnte Ihr Text stehen…
URL:https://ettiswil.ch/event/adventsspaziergang/2026-09-22/
LOCATION:Postplatz Ettiswil\, Postplatz (Bushaltestelle)\, Ettiswil\, Switzerland
CATEGORIES:Verein
ORGANIZER;CN="Silberstreifen 60 plus":MAILTO:vreni.korner@gmail.com
END:VEVENT
BEGIN:VEVENT
DTSTART;TZID=Europe/Zurich:20260922T193000
DTEND;TZID=Europe/Zurich:20260922T213000
DTSTAMP:20260424T102317
CREATED:20241008T191936Z
LAST-MODIFIED:20250925T082248Z
UID:10001824-1790105400-1790112600@ettiswil.ch
SUMMARY:Infoabend für Interessierte
DESCRIPTION:Hier könnte Ihr Text stehen…
URL:https://ettiswil.ch/event/infoabend-fuer-interessierte/2026-09-22/
LOCATION:Feuerwehrmagazin Ettiswil
CATEGORIES:Organisation
ORGANIZER;CN="Feuerwehr Ettiswil-Alberswil":MAILTO:h.roeschu@gmail.com
END:VEVENT
BEGIN:VEVENT
DTSTART;VALUE=DATE:20260923
DTEND;VALUE=DATE:20260924
DTSTAMP:20260424T102317
CREATED:20251211T092252Z
LAST-MODIFIED:20251211T092252Z
UID:10002756-1790150400-1790182800@ettiswil.ch
SUMMARY:Kehricht
DESCRIPTION:Beck Umweltservice AG\, Sursee
URL:https://ettiswil.ch/event/kehricht-3/2026-09-23/
LOCATION:Stelle Hauskehricht
END:VEVENT
BEGIN:VEVENT
DTSTART;VALUE=DATE:20260924
DTEND;VALUE=DATE:20260925
DTSTAMP:20260424T102317
CREATED:20251209T093440Z
LAST-MODIFIED:20251209T093440Z
UID:10002649-1790236800-1790269200@ettiswil.ch
SUMMARY:Papiersammlung
DESCRIPTION:Amstein Robert AG\, Willisau
URL:https://ettiswil.ch/event/papiersammlung/2026-09-24/
LOCATION:Stelle Hauskehricht
END:VEVENT
BEGIN:VEVENT
DTSTART;TZID=Europe/Zurich:20260924T163000
DTEND;TZID=Europe/Zurich:20260924T183000
DTSTAMP:20260424T102317
CREATED:20251026T173554Z
LAST-MODIFIED:20251026T173554Z
UID:10002152-1790267400-1790274600@ettiswil.ch
SUMMARY:Boule-Spiel/Pétanque bei passender Witterung
DESCRIPTION:Hier könnte Ihr Text stehen…
URL:https://ettiswil.ch/event/boule-spiel-petanque-bei-passender-witterung/2026-09-24/
LOCATION:Sigristenhaus Ettiswil
CATEGORIES:Verein
ORGANIZER;CN="Silberstreifen 60 plus":MAILTO:vreni.korner@gmail.com
END:VEVENT
BEGIN:VEVENT
DTSTART;TZID=Europe/Zurich:20260924T193000
DTEND;TZID=Europe/Zurich:20260924T220000
DTSTAMP:20260424T102317
CREATED:20241008T191531Z
LAST-MODIFIED:20250925T081758Z
UID:10001818-1790278200-1790287200@ettiswil.ch
SUMMARY:Gesamtübung
DESCRIPTION:
URL:https://ettiswil.ch/event/gesamtuebung-6/2026-09-24/
LOCATION:Feuerwehrmagazin Ettiswil
CATEGORIES:Organisation
ORGANIZER;CN="Feuerwehr Ettiswil-Alberswil":MAILTO:h.roeschu@gmail.com
END:VEVENT
BEGIN:VEVENT
DTSTART;VALUE=DATE:20260925
DTEND;VALUE=DATE:20260926
DTSTAMP:20260424T102317
CREATED:20251209T092726Z
LAST-MODIFIED:20251209T093043Z
UID:10002639-1790323200-1790355600@ettiswil.ch
SUMMARY:Grüngutabfuhr
DESCRIPTION:Amstein Robert AG\, Willisau
URL:https://ettiswil.ch/event/gruengutabfuhr/2026-09-25/
LOCATION:Stelle Hauskehricht
END:VEVENT
BEGIN:VEVENT
DTSTART;TZID=Europe/Zurich:20260926T090000
DTEND;TZID=Europe/Zurich:20260926T110000
DTSTAMP:20260424T102317
CREATED:20251017T185045Z
LAST-MODIFIED:20251105T093226Z
UID:10002019-1790413200-1790420400@ettiswil.ch
SUMMARY:TreffpunktChinder / Kinderkleider- und Spielwarenbörse
DESCRIPTION:Hier könnte Ihr Text stehen…
URL:https://ettiswil.ch/event/treffpunktchinder-kinderkleider-und-spielwarenboerse-2/
LOCATION:Sigristenhaus Ettiswil
CATEGORIES:Verein
ORGANIZER;CN="Treffpunkt Frauen":MAILTO:vorstand@treffpunktfrauen-ettiswil.ch
END:VEVENT
BEGIN:VEVENT
DTSTART;TZID=Europe/Zurich:20260926T200000
DTEND;TZID=Europe/Zurich:20260926T235500
DTSTAMP:20260424T102317
CREATED:20251020T183622Z
LAST-MODIFIED:20251020T183752Z
UID:10002050-1790452800-1790466900@ettiswil.ch
SUMMARY:Lotto Feldmusik Ettiswil
DESCRIPTION:Hier könnte Ihr Text stehen…
URL:https://ettiswil.ch/event/lotto-feldmusik-ettiswil-3/
LOCATION:Bülacherhalle
CATEGORIES:Verein
ORGANIZER;CN="Feldmusik Ettiswil":MAILTO:praesident@fmettiswil.ch
END:VEVENT
END:VCALENDAR