BEGIN:VCALENDAR
VERSION:2.0
PRODID:-//Gemeinde Ettiswil - ECPv6.15.20//NONSGML v1.0//EN
CALSCALE:GREGORIAN
METHOD:PUBLISH
X-WR-CALNAME:Gemeinde Ettiswil
X-ORIGINAL-URL:https://ettiswil.ch
X-WR-CALDESC:Veranstaltungen für Gemeinde Ettiswil
REFRESH-INTERVAL;VALUE=DURATION:PT1H
X-Robots-Tag:noindex
X-PUBLISHED-TTL:PT1H
BEGIN:VTIMEZONE
TZID:Europe/Zurich
BEGIN:DAYLIGHT
TZOFFSETFROM:+0100
TZOFFSETTO:+0200
TZNAME:CEST
DTSTART:20250330T010000
END:DAYLIGHT
BEGIN:STANDARD
TZOFFSETFROM:+0200
TZOFFSETTO:+0100
TZNAME:CET
DTSTART:20251026T010000
END:STANDARD
BEGIN:DAYLIGHT
TZOFFSETFROM:+0100
TZOFFSETTO:+0200
TZNAME:CEST
DTSTART:20260329T010000
END:DAYLIGHT
BEGIN:STANDARD
TZOFFSETFROM:+0200
TZOFFSETTO:+0100
TZNAME:CET
DTSTART:20261025T010000
END:STANDARD
BEGIN:DAYLIGHT
TZOFFSETFROM:+0100
TZOFFSETTO:+0200
TZNAME:CEST
DTSTART:20270328T010000
END:DAYLIGHT
BEGIN:STANDARD
TZOFFSETFROM:+0200
TZOFFSETTO:+0100
TZNAME:CET
DTSTART:20271031T010000
END:STANDARD
END:VTIMEZONE
BEGIN:VEVENT
DTSTART;TZID=Europe/Zurich:20261005T140000
DTEND;TZID=Europe/Zurich:20261005T170000
DTSTAMP:20260424T135821
CREATED:20251029T125746Z
LAST-MODIFIED:20251029T125746Z
UID:10002212-1791208800-1791219600@ettiswil.ch
SUMMARY:Spaziergang
DESCRIPTION:Hier könnte Ihr Text stehen…
URL:https://ettiswil.ch/event/spaziergang/2026-10-05/
LOCATION:Gemeindeparkplatz Ettiswil
CATEGORIES:Verein
ORGANIZER;CN="Silberstreifen 60 plus":MAILTO:vreni.korner@gmail.com
END:VEVENT
BEGIN:VEVENT
DTSTART;TZID=Europe/Zurich:20261006T163000
DTEND;TZID=Europe/Zurich:20261006T180000
DTSTAMP:20260424T135821
CREATED:20251029T130538Z
LAST-MODIFIED:20251029T130538Z
UID:10002220-1791304200-1791309600@ettiswil.ch
SUMMARY:Freies Singen
DESCRIPTION:Hier könnte Ihr Text stehen…
URL:https://ettiswil.ch/event/freies-singen/2026-10-06/
LOCATION:Ettiswil\, Singsaal
CATEGORIES:Verein
ORGANIZER;CN="Silberstreifen 60 plus":MAILTO:vreni.korner@gmail.com
END:VEVENT
BEGIN:VEVENT
DTSTART;VALUE=DATE:20261007
DTEND;VALUE=DATE:20261008
DTSTAMP:20260424T135821
CREATED:20251211T092252Z
LAST-MODIFIED:20251211T092252Z
UID:10002758-1791360000-1791392400@ettiswil.ch
SUMMARY:Kehricht
DESCRIPTION:Beck Umweltservice AG\, Sursee
URL:https://ettiswil.ch/event/kehricht-3/2026-10-07/
LOCATION:Stelle Hauskehricht
END:VEVENT
BEGIN:VEVENT
DTSTART;TZID=Europe/Zurich:20261008T120000
DTEND;TZID=Europe/Zurich:20261008T170000
DTSTAMP:20260424T135821
CREATED:20251026T153053Z
LAST-MODIFIED:20251026T153053Z
UID:10002115-1791460800-1791478800@ettiswil.ch
SUMMARY:Mittagstisch/Jassen/Spielen
DESCRIPTION:Hier könnte Ihr Text stehen…
URL:https://ettiswil.ch/event/mittagstisch-jassen-spielen/2026-10-08/
LOCATION:Cafeteria Sonnbühl
CATEGORIES:Verein
ORGANIZER;CN="Silberstreifen 60 plus":MAILTO:vreni.korner@gmail.com
END:VEVENT
BEGIN:VEVENT
DTSTART;TZID=Europe/Zurich:20261008T163000
DTEND;TZID=Europe/Zurich:20261008T183000
DTSTAMP:20260424T135821
CREATED:20251026T173554Z
LAST-MODIFIED:20251026T173554Z
UID:10002154-1791477000-1791484200@ettiswil.ch
SUMMARY:Boule-Spiel/Pétanque bei passender Witterung
DESCRIPTION:Hier könnte Ihr Text stehen…
URL:https://ettiswil.ch/event/boule-spiel-petanque-bei-passender-witterung/2026-10-08/
LOCATION:Sigristenhaus Ettiswil
CATEGORIES:Verein
ORGANIZER;CN="Silberstreifen 60 plus":MAILTO:vreni.korner@gmail.com
END:VEVENT
BEGIN:VEVENT
DTSTART;VALUE=DATE:20261009
DTEND;VALUE=DATE:20261010
DTSTAMP:20260424T135821
CREATED:20251209T092726Z
LAST-MODIFIED:20251209T093043Z
UID:10002640-1791532800-1791565200@ettiswil.ch
SUMMARY:Grüngutabfuhr
DESCRIPTION:Amstein Robert AG\, Willisau
URL:https://ettiswil.ch/event/gruengutabfuhr/2026-10-09/
LOCATION:Stelle Hauskehricht
END:VEVENT
BEGIN:VEVENT
DTSTART;VALUE=DATE:20261010
DTEND;VALUE=DATE:20261011
DTSTAMP:20260424T135821
CREATED:20251104T100503Z
LAST-MODIFIED:20251105T093226Z
UID:10002272-1791590400-1791676799@ettiswil.ch
SUMMARY:Vereinsreise
DESCRIPTION:
URL:https://ettiswil.ch/event/vereinsreise-2/
CATEGORIES:Verein
ORGANIZER;CN="M%C3%A4nnerchor Ettiswil":MAILTO:praesident@maennerchor-ettiswil.ch
END:VEVENT
BEGIN:VEVENT
DTSTART;TZID=Europe/Zurich:20261010T140000
DTEND;TZID=Europe/Zurich:20261010T170000
DTSTAMP:20260424T135821
CREATED:20251106T132910Z
LAST-MODIFIED:20251106T132910Z
UID:10002301-1791640800-1791651600@ettiswil.ch
SUMMARY:Herbstschiessen
DESCRIPTION:Hier könnte Ihr Text stehen…
URL:https://ettiswil.ch/event/herbstschiessen/
LOCATION:Armbrustschützenhaus Brestenegg
CATEGORIES:Verein
ORGANIZER;CN="Armbrustsch%C3%BCtzen Brestenegg":MAILTO:wdhlauda@bluewin.ch
END:VEVENT
BEGIN:VEVENT
DTSTART;VALUE=DATE:20261011
DTEND;VALUE=DATE:20261012
DTSTAMP:20260424T135821
CREATED:20251106T132955Z
LAST-MODIFIED:20251106T132955Z
UID:10002302-1791676800-1791763199@ettiswil.ch
SUMMARY:Herbstschiessen
DESCRIPTION:Hier könnte Ihr Text stehen…
URL:https://ettiswil.ch/event/herbstschiessen-2/
LOCATION:Armbrustschützenhaus Brestenegg
CATEGORIES:Verein
ORGANIZER;CN="Armbrustsch%C3%BCtzen Brestenegg":MAILTO:wdhlauda@bluewin.ch
END:VEVENT
BEGIN:VEVENT
DTSTART;TZID=Europe/Zurich:20261011T110000
DTEND;TZID=Europe/Zurich:20261011T170000
DTSTAMP:20260424T135821
CREATED:20251027T212615Z
LAST-MODIFIED:20251027T212945Z
UID:10002203-1791716400-1791738000@ettiswil.ch
SUMMARY:APV Herbstevent
DESCRIPTION:Hier könnte Ihr Text stehen…
URL:https://ettiswil.ch/event/herbstevent/
CATEGORIES:Verein
ORGANIZER;CN="Altpfadiverein (APV) Delta Ettiswil - Alberswil - Kottwil":MAILTO:apv@pfadidelta.ch
END:VEVENT
BEGIN:VEVENT
DTSTART;TZID=Europe/Zurich:20261012T133000
DTEND;TZID=Europe/Zurich:20261012T171500
DTSTAMP:20260424T135821
CREATED:20251215T083617Z
LAST-MODIFIED:20260421T113419Z
UID:10002787-1791811800-1791825300@ettiswil.ch
SUMMARY:Beratung Frühe Kindheit / Mütter- und Väterberatung
DESCRIPTION:Die Beratung Frühe Kindheit (Mütter- und Väterberatung) des Sozialberatungszentrum Willisau-Wiggertal ist eine Anlaufstelle für Familien mit Kindern von der Geburt bis zum Eintritt in den Kindergarten. Wir Fachpersonen der Frühen Kindheit beraten Sie bei Unsicherheiten und Fragen zur Entwicklung\, Ernährung\, Schlaf und Erziehung Ihres Kindes oder Ihren Elternaufgabe. Wir können Ihnen Auskunft über Angebote für Familien in der Region geben oder Sie bei Bedarf an Fachstellen weiterleiten. Die Beratungen werden vollumfänglich von der Gemeinde finanziert und sind somit für Sie kostenlos. Um eine Beratung in Ihrer Sprache durchführen zu können\, arbeiten wir bei Bedarf auch mit Dolmetschenden zusammen.\nFremdsprachige Erklärvideos zur Mütter- und Väterberatung\n\n\nDie Beratungen finden in Ettiswil\, Dorf 21 (im Schulhaus neben der Spielgruppe\, Räumlichkeiten Chäferli) statt. Sie können sich online auf unserer Homepage oder direkt über folgenden Link anmelden. Telefonberatungen können Sie von Montag bis Donnerstag von 8:30 bis 11:30 Uhr unter 041 972 56 30 in Anspruch nehmen. Wir freuen uns auf Sie.\n\n\nDas Team der Mütter- und Väterberatung Willisau-Wiggertal
URL:https://ettiswil.ch/event/beratung-fruehe-kindheit-muetter-und-vaeterberatung/2026-10-12/
CATEGORIES:Dienststellen
ATTACH;FMTTYPE=image/jpeg:https://ettiswil.ch/wp-content/uploads/2024/08/bfk-willisau-wiggertal-eyecatcher-RGB-farbe-e1765789703843.jpg
ORGANIZER;CN="Beratung Fr%C3%BChe Kindheit (MVB)":MAILTO:mvb.willisau@sobz-willisau.ch
END:VEVENT
BEGIN:VEVENT
DTSTART;VALUE=DATE:20261014
DTEND;VALUE=DATE:20261015
DTSTAMP:20260424T135821
CREATED:20251211T092252Z
LAST-MODIFIED:20251211T092252Z
UID:10002759-1791964800-1791997200@ettiswil.ch
SUMMARY:Kehricht
DESCRIPTION:Beck Umweltservice AG\, Sursee
URL:https://ettiswil.ch/event/kehricht-3/2026-10-14/
LOCATION:Stelle Hauskehricht
END:VEVENT
BEGIN:VEVENT
DTSTART;TZID=Europe/Zurich:20261014T200000
DTEND;TZID=Europe/Zurich:20261014T220000
DTSTAMP:20260424T135821
CREATED:20251017T150914Z
LAST-MODIFIED:20251019T142438Z
UID:10002011-1792008000-1792015200@ettiswil.ch
SUMMARY:Vereinsübung
DESCRIPTION:
URL:https://ettiswil.ch/event/vereinsuebung/2026-10-14/
LOCATION:Gütschhalde 1\, Kottwil
CATEGORIES:Verein
ORGANIZER;CN="Sanit%C3%A4tsteam Ettiswil":MAILTO:info@sanitaetsteamettiswil.ch
END:VEVENT
BEGIN:VEVENT
DTSTART;TZID=Europe/Zurich:20261015T131500
DTEND;TZID=Europe/Zurich:20261015T170000
DTSTAMP:20260424T135821
CREATED:20251026T175737Z
LAST-MODIFIED:20251026T175737Z
UID:10002164-1792070100-1792083600@ettiswil.ch
SUMMARY:Nachmittagswanderung
DESCRIPTION:Hier könnte Ihr Text stehen…
URL:https://ettiswil.ch/event/nachmittagswanderung/2026-10-15/
LOCATION:Postplatz Ettiswil\, Postplatz (Bushaltestelle)\, Ettiswil\, Switzerland
CATEGORIES:Verein
ORGANIZER;CN="Silberstreifen 60 plus":MAILTO:vreni.korner@gmail.com
END:VEVENT
BEGIN:VEVENT
DTSTART;TZID=Europe/Zurich:20261015T163000
DTEND;TZID=Europe/Zurich:20261015T183000
DTSTAMP:20260424T135821
CREATED:20251026T173554Z
LAST-MODIFIED:20251026T173554Z
UID:10002155-1792081800-1792089000@ettiswil.ch
SUMMARY:Boule-Spiel/Pétanque bei passender Witterung
DESCRIPTION:Hier könnte Ihr Text stehen…
URL:https://ettiswil.ch/event/boule-spiel-petanque-bei-passender-witterung/2026-10-15/
LOCATION:Sigristenhaus Ettiswil
CATEGORIES:Verein
ORGANIZER;CN="Silberstreifen 60 plus":MAILTO:vreni.korner@gmail.com
END:VEVENT
BEGIN:VEVENT
DTSTART;VALUE=DATE:20261016
DTEND;VALUE=DATE:20261017
DTSTAMP:20260424T135821
CREATED:20251017T153704Z
LAST-MODIFIED:20251018T141208Z
UID:10002040-1792108800-1792195199@ettiswil.ch
SUMMARY:World Restart a Heart Day – Weltreanimationstag
DESCRIPTION:
URL:https://ettiswil.ch/event/world-restart-a-heart-day-weltreanimationstag/
LOCATION:Volg Ettiswil
CATEGORIES:Verein
ORGANIZER;CN="Sanit%C3%A4tsteam Ettiswil":MAILTO:info@sanitaetsteamettiswil.ch
END:VEVENT
BEGIN:VEVENT
DTSTART;VALUE=DATE:20261021
DTEND;VALUE=DATE:20261022
DTSTAMP:20260424T135821
CREATED:20250926T121800Z
LAST-MODIFIED:20250926T121800Z
UID:10001836-1792540800-1792627199@ettiswil.ch
SUMMARY:Redaktionsschluss November-Mobile 2026
DESCRIPTION:
URL:https://ettiswil.ch/event/redaktionsschluss-november-mobile-2026/
END:VEVENT
BEGIN:VEVENT
DTSTART;VALUE=DATE:20261021
DTEND;VALUE=DATE:20261022
DTSTAMP:20260424T135821
CREATED:20251203T064112Z
LAST-MODIFIED:20251203T064112Z
UID:10002619-1792540800-1792627199@ettiswil.ch
SUMMARY:Redaktionsschluss November-Mobile
DESCRIPTION:
URL:https://ettiswil.ch/event/redaktionsschluss-november-mobile/
CATEGORIES:Gemeinde
END:VEVENT
BEGIN:VEVENT
DTSTART;VALUE=DATE:20261021
DTEND;VALUE=DATE:20261022
DTSTAMP:20260424T135821
CREATED:20251211T092252Z
LAST-MODIFIED:20251211T092252Z
UID:10002760-1792569600-1792602000@ettiswil.ch
SUMMARY:Kehricht
DESCRIPTION:Beck Umweltservice AG\, Sursee
URL:https://ettiswil.ch/event/kehricht-3/2026-10-21/
LOCATION:Stelle Hauskehricht
END:VEVENT
BEGIN:VEVENT
DTSTART;TZID=Europe/Zurich:20261021T090000
DTEND;TZID=Europe/Zurich:20261021T110000
DTSTAMP:20260424T135821
CREATED:20251022T130228Z
LAST-MODIFIED:20251121T190749Z
UID:10002111-1792573200-1792580400@ettiswil.ch
SUMMARY:El Kids Café - wo Kinder spielen und Eltern plaudern
DESCRIPTION:Hier könnte Ihr Text stehen…
URL:https://ettiswil.ch/event/el-kids-cafe-6/
LOCATION:Chäferli Ettiswil
CATEGORIES:Verein
ORGANIZER;CN="Treffpunkt Frauen":MAILTO:vorstand@treffpunktfrauen-ettiswil.ch
END:VEVENT
BEGIN:VEVENT
DTSTART;TZID=Europe/Zurich:20261021T193000
DTEND;TZID=Europe/Zurich:20261021T220000
DTSTAMP:20260424T135821
CREATED:20241008T190527Z
LAST-MODIFIED:20250925T080859Z
UID:10001803-1792611000-1792620000@ettiswil.ch
SUMMARY:Kaderübung
DESCRIPTION:
URL:https://ettiswil.ch/event/kaderuebung-5/2026-10-21/
LOCATION:Feuerwehrmagazin Ettiswil
CATEGORIES:Organisation
ORGANIZER;CN="Feuerwehr Ettiswil-Alberswil":MAILTO:h.roeschu@gmail.com
END:VEVENT
BEGIN:VEVENT
DTSTART;TZID=Europe/Zurich:20261022T163000
DTEND;TZID=Europe/Zurich:20261022T183000
DTSTAMP:20260424T135821
CREATED:20251026T173554Z
LAST-MODIFIED:20251026T173554Z
UID:10002156-1792686600-1792693800@ettiswil.ch
SUMMARY:Boule-Spiel/Pétanque bei passender Witterung
DESCRIPTION:Hier könnte Ihr Text stehen…
URL:https://ettiswil.ch/event/boule-spiel-petanque-bei-passender-witterung/2026-10-22/
LOCATION:Sigristenhaus Ettiswil
CATEGORIES:Verein
ORGANIZER;CN="Silberstreifen 60 plus":MAILTO:vreni.korner@gmail.com
END:VEVENT
BEGIN:VEVENT
DTSTART;TZID=Europe/Zurich:20261022T183000
DTEND;TZID=Europe/Zurich:20261022T220000
DTSTAMP:20260424T135821
CREATED:20251105T125735Z
LAST-MODIFIED:20251105T125735Z
UID:10002293-1792693800-1792706400@ettiswil.ch
SUMMARY:Betriebsbesichtigung IBOR AG
DESCRIPTION:Hier könnte Ihr Text stehen…
URL:https://ettiswil.ch/event/betriebsbesichtigung-ibor-ag/
LOCATION:Mööslimatten 10\, Ettiswil
CATEGORIES:Verein
ORGANIZER;CN="Gewerbeverein Ettiswil-Alberswil":MAILTO:michelle.mueller@mobiliar.ch
END:VEVENT
BEGIN:VEVENT
DTSTART;VALUE=DATE:20261023
DTEND;VALUE=DATE:20261024
DTSTAMP:20260424T135821
CREATED:20241005T104350Z
LAST-MODIFIED:20251020T182359Z
UID:10000492-1792713600-1792799999@ettiswil.ch
SUMMARY:150 Jahr Jubiläum Feldmusik Ettiswil
DESCRIPTION:Hier könnte Ihr Text stehen…
URL:https://ettiswil.ch/event/150-jahr-jubilaeum-feldmusik-ettiswil/
CATEGORIES:Verein
ORGANIZER;CN="Feldmusik Ettiswil":MAILTO:praesident@fmettiswil.ch
END:VEVENT
BEGIN:VEVENT
DTSTART;VALUE=DATE:20261023
DTEND;VALUE=DATE:20261024
DTSTAMP:20260424T135821
CREATED:20251027T205427Z
LAST-MODIFIED:20251027T205427Z
UID:10002201-1792713600-1792799999@ettiswil.ch
SUMMARY:31. Delegiertenversammlung
DESCRIPTION:Hier könnte Ihr Text stehen…
URL:https://ettiswil.ch/event/31-delegiertenversammlung/
CATEGORIES:Verein
ORGANIZER;CN="Pfadi Delta":MAILTO:elianeschwegler@bluewin.ch
END:VEVENT
BEGIN:VEVENT
DTSTART;VALUE=DATE:20261023
DTEND;VALUE=DATE:20261024
DTSTAMP:20260424T135821
CREATED:20251209T092726Z
LAST-MODIFIED:20251209T093043Z
UID:10002641-1792742400-1792774800@ettiswil.ch
SUMMARY:Grüngutabfuhr
DESCRIPTION:Amstein Robert AG\, Willisau
URL:https://ettiswil.ch/event/gruengutabfuhr/2026-10-23/
LOCATION:Stelle Hauskehricht
END:VEVENT
BEGIN:VEVENT
DTSTART;TZID=Europe/Zurich:20261023T183000
DTEND;TZID=Europe/Zurich:20261023T203000
DTSTAMP:20260424T135821
CREATED:20251021T162750Z
LAST-MODIFIED:20251021T162750Z
UID:10002067-1792780200-1792787400@ettiswil.ch
SUMMARY:Vereinsübung
DESCRIPTION:
URL:https://ettiswil.ch/event/vereinsuebung-12/
LOCATION:Sigristenhaus Ettiswil
CATEGORIES:Verein
ORGANIZER;CN="Jugend-Sanit%C3%A4tsteam Ettiswil":MAILTO:jugend@sanitaetsteamettiswil.ch
END:VEVENT
BEGIN:VEVENT
DTSTART;VALUE=DATE:20261024
DTEND;VALUE=DATE:20261025
DTSTAMP:20260424T135821
CREATED:20251020T182327Z
LAST-MODIFIED:20251020T182327Z
UID:10002047-1792800000-1792886399@ettiswil.ch
SUMMARY:150 Jahr Jubiläum Feldmusik Ettiswil
DESCRIPTION:Hier könnte Ihr Text stehen…
URL:https://ettiswil.ch/event/150-jahr-jubilaeum-feldmusik-ettiswil-2/
CATEGORIES:Verein
ORGANIZER;CN="Feldmusik Ettiswil":MAILTO:praesident@fmettiswil.ch
END:VEVENT
BEGIN:VEVENT
DTSTART;VALUE=DATE:20261026
DTEND;VALUE=DATE:20261027
DTSTAMP:20260424T135821
CREATED:20251017T184352Z
LAST-MODIFIED:20251105T093226Z
UID:10002016-1792972800-1793059199@ettiswil.ch
SUMMARY:Back to the roots - Tu deinen Füssen etwas Gutes
DESCRIPTION:Hier könnte Ihr Text stehen…
URL:https://ettiswil.ch/event/back-to-the-roots-tu-deinen-fuessen-etwas-gutes/
CATEGORIES:Verein
ORGANIZER;CN="Treffpunkt Frauen":MAILTO:vorstand@treffpunktfrauen-ettiswil.ch
END:VEVENT
BEGIN:VEVENT
DTSTART;VALUE=DATE:20261026
DTEND;VALUE=DATE:20261027
DTSTAMP:20260424T135821
CREATED:20251209T093910Z
LAST-MODIFIED:20251209T093910Z
UID:10002660-1793001600-1793034000@ettiswil.ch
SUMMARY:Kartonsammlung
DESCRIPTION:Stöckli AG Entsorgung & Reccling\, Sursee
URL:https://ettiswil.ch/event/kartonsammlung/2026-10-26/
LOCATION:Werkhof
END:VEVENT
END:VCALENDAR