BEGIN:VCALENDAR
VERSION:2.0
PRODID:-//Gemeinde Ettiswil - ECPv6.15.20//NONSGML v1.0//EN
CALSCALE:GREGORIAN
METHOD:PUBLISH
X-WR-CALNAME:Gemeinde Ettiswil
X-ORIGINAL-URL:https://ettiswil.ch
X-WR-CALDESC:Veranstaltungen für Gemeinde Ettiswil
REFRESH-INTERVAL;VALUE=DURATION:PT1H
X-Robots-Tag:noindex
X-PUBLISHED-TTL:PT1H
BEGIN:VTIMEZONE
TZID:Europe/Zurich
BEGIN:DAYLIGHT
TZOFFSETFROM:+0100
TZOFFSETTO:+0200
TZNAME:CEST
DTSTART:20250330T010000
END:DAYLIGHT
BEGIN:STANDARD
TZOFFSETFROM:+0200
TZOFFSETTO:+0100
TZNAME:CET
DTSTART:20251026T010000
END:STANDARD
BEGIN:DAYLIGHT
TZOFFSETFROM:+0100
TZOFFSETTO:+0200
TZNAME:CEST
DTSTART:20260329T010000
END:DAYLIGHT
BEGIN:STANDARD
TZOFFSETFROM:+0200
TZOFFSETTO:+0100
TZNAME:CET
DTSTART:20261025T010000
END:STANDARD
BEGIN:DAYLIGHT
TZOFFSETFROM:+0100
TZOFFSETTO:+0200
TZNAME:CEST
DTSTART:20270328T010000
END:DAYLIGHT
BEGIN:STANDARD
TZOFFSETFROM:+0200
TZOFFSETTO:+0100
TZNAME:CET
DTSTART:20271031T010000
END:STANDARD
END:VTIMEZONE
BEGIN:VEVENT
DTSTART;VALUE=DATE:20261023
DTEND;VALUE=DATE:20261024
DTSTAMP:20260424T162017
CREATED:20251027T205427Z
LAST-MODIFIED:20251027T205427Z
UID:10002201-1792713600-1792799999@ettiswil.ch
SUMMARY:31. Delegiertenversammlung
DESCRIPTION:Hier könnte Ihr Text stehen…
URL:https://ettiswil.ch/event/31-delegiertenversammlung/
CATEGORIES:Verein
ORGANIZER;CN="Pfadi Delta":MAILTO:elianeschwegler@bluewin.ch
END:VEVENT
BEGIN:VEVENT
DTSTART;VALUE=DATE:20261023
DTEND;VALUE=DATE:20261024
DTSTAMP:20260424T162017
CREATED:20251209T092726Z
LAST-MODIFIED:20251209T093043Z
UID:10002641-1792742400-1792774800@ettiswil.ch
SUMMARY:Grüngutabfuhr
DESCRIPTION:Amstein Robert AG\, Willisau
URL:https://ettiswil.ch/event/gruengutabfuhr/2026-10-23/
LOCATION:Stelle Hauskehricht
END:VEVENT
BEGIN:VEVENT
DTSTART;TZID=Europe/Zurich:20261023T183000
DTEND;TZID=Europe/Zurich:20261023T203000
DTSTAMP:20260424T162017
CREATED:20251021T162750Z
LAST-MODIFIED:20251021T162750Z
UID:10002067-1792780200-1792787400@ettiswil.ch
SUMMARY:Vereinsübung
DESCRIPTION:
URL:https://ettiswil.ch/event/vereinsuebung-12/
LOCATION:Sigristenhaus Ettiswil
CATEGORIES:Verein
ORGANIZER;CN="Jugend-Sanit%C3%A4tsteam Ettiswil":MAILTO:jugend@sanitaetsteamettiswil.ch
END:VEVENT
BEGIN:VEVENT
DTSTART;VALUE=DATE:20261024
DTEND;VALUE=DATE:20261025
DTSTAMP:20260424T162017
CREATED:20251020T182327Z
LAST-MODIFIED:20251020T182327Z
UID:10002047-1792800000-1792886399@ettiswil.ch
SUMMARY:150 Jahr Jubiläum Feldmusik Ettiswil
DESCRIPTION:Hier könnte Ihr Text stehen…
URL:https://ettiswil.ch/event/150-jahr-jubilaeum-feldmusik-ettiswil-2/
CATEGORIES:Verein
ORGANIZER;CN="Feldmusik Ettiswil":MAILTO:praesident@fmettiswil.ch
END:VEVENT
BEGIN:VEVENT
DTSTART;VALUE=DATE:20261026
DTEND;VALUE=DATE:20261027
DTSTAMP:20260424T162017
CREATED:20251017T184352Z
LAST-MODIFIED:20251105T093226Z
UID:10002016-1792972800-1793059199@ettiswil.ch
SUMMARY:Back to the roots - Tu deinen Füssen etwas Gutes
DESCRIPTION:Hier könnte Ihr Text stehen…
URL:https://ettiswil.ch/event/back-to-the-roots-tu-deinen-fuessen-etwas-gutes/
CATEGORIES:Verein
ORGANIZER;CN="Treffpunkt Frauen":MAILTO:vorstand@treffpunktfrauen-ettiswil.ch
END:VEVENT
BEGIN:VEVENT
DTSTART;VALUE=DATE:20261026
DTEND;VALUE=DATE:20261027
DTSTAMP:20260424T162017
CREATED:20251209T093910Z
LAST-MODIFIED:20251209T093910Z
UID:10002660-1793001600-1793034000@ettiswil.ch
SUMMARY:Kartonsammlung
DESCRIPTION:Stöckli AG Entsorgung & Reccling\, Sursee
URL:https://ettiswil.ch/event/kartonsammlung/2026-10-26/
LOCATION:Werkhof
END:VEVENT
BEGIN:VEVENT
DTSTART;TZID=Europe/Zurich:20261026T090000
DTEND;TZID=Europe/Zurich:20261026T121500
DTSTAMP:20260424T162017
CREATED:20251215T083617Z
LAST-MODIFIED:20260421T113419Z
UID:10002837-1793005200-1793016900@ettiswil.ch
SUMMARY:Beratung Frühe Kindheit / Mütter- und Väterberatung
DESCRIPTION:Die Beratung Frühe Kindheit (Mütter- und Väterberatung) des Sozialberatungszentrum Willisau-Wiggertal ist eine Anlaufstelle für Familien mit Kindern von der Geburt bis zum Eintritt in den Kindergarten. Wir Fachpersonen der Frühen Kindheit beraten Sie bei Unsicherheiten und Fragen zur Entwicklung\, Ernährung\, Schlaf und Erziehung Ihres Kindes oder Ihren Elternaufgabe. Wir können Ihnen Auskunft über Angebote für Familien in der Region geben oder Sie bei Bedarf an Fachstellen weiterleiten. Die Beratungen werden vollumfänglich von der Gemeinde finanziert und sind somit für Sie kostenlos. Um eine Beratung in Ihrer Sprache durchführen zu können\, arbeiten wir bei Bedarf auch mit Dolmetschenden zusammen.\nFremdsprachige Erklärvideos zur Mütter- und Väterberatung\n\n\nDie Beratungen finden in Ettiswil\, Dorf 21 (im Schulhaus neben der Spielgruppe\, Räumlichkeiten Chäferli) statt. Sie können sich online auf unserer Homepage oder direkt über folgenden Link anmelden. Telefonberatungen können Sie von Montag bis Donnerstag von 8:30 bis 11:30 Uhr unter 041 972 56 30 in Anspruch nehmen. Wir freuen uns auf Sie.\n\n\nDas Team der Mütter- und Väterberatung Willisau-Wiggertal
URL:https://ettiswil.ch/event/beratung-fruehe-kindheit-muetter-und-vaeterberatung/2026-10-26/
CATEGORIES:Dienststellen
ATTACH;FMTTYPE=image/jpeg:https://ettiswil.ch/wp-content/uploads/2024/08/bfk-willisau-wiggertal-eyecatcher-RGB-farbe-e1765789703843.jpg
ORGANIZER;CN="Beratung Fr%C3%BChe Kindheit (MVB)":MAILTO:mvb.willisau@sobz-willisau.ch
END:VEVENT
BEGIN:VEVENT
DTSTART;VALUE=DATE:20261027
DTEND;VALUE=DATE:20261028
DTSTAMP:20260424T162017
CREATED:20251026T181142Z
LAST-MODIFIED:20260203T162557Z
UID:10002804-1793059200-1793145599@ettiswil.ch
SUMMARY:Tageswanderung
DESCRIPTION:Hier könnte Ihr Text stehen…
URL:https://ettiswil.ch/event/adventsspaziergang/2026-10-27/
LOCATION:Postplatz Ettiswil\, Postplatz (Bushaltestelle)\, Ettiswil\, Switzerland
CATEGORIES:Verein
ORGANIZER;CN="Silberstreifen 60 plus":MAILTO:vreni.korner@gmail.com
END:VEVENT
BEGIN:VEVENT
DTSTART;VALUE=DATE:20261028
DTEND;VALUE=DATE:20261029
DTSTAMP:20260424T162017
CREATED:20251211T092252Z
LAST-MODIFIED:20251211T092252Z
UID:10002761-1793174400-1793206800@ettiswil.ch
SUMMARY:Kehricht
DESCRIPTION:Beck Umweltservice AG\, Sursee
URL:https://ettiswil.ch/event/kehricht-3/2026-10-28/
LOCATION:Stelle Hauskehricht
END:VEVENT
BEGIN:VEVENT
DTSTART;TZID=Europe/Zurich:20261029T163000
DTEND;TZID=Europe/Zurich:20261029T183000
DTSTAMP:20260424T162017
CREATED:20251026T173554Z
LAST-MODIFIED:20251026T173554Z
UID:10002157-1793291400-1793298600@ettiswil.ch
SUMMARY:Boule-Spiel/Pétanque bei passender Witterung
DESCRIPTION:Hier könnte Ihr Text stehen…
URL:https://ettiswil.ch/event/boule-spiel-petanque-bei-passender-witterung/2026-10-29/
LOCATION:Sigristenhaus Ettiswil
CATEGORIES:Verein
ORGANIZER;CN="Silberstreifen 60 plus":MAILTO:vreni.korner@gmail.com
END:VEVENT
BEGIN:VEVENT
DTSTART;TZID=Europe/Zurich:20261029T193000
DTEND;TZID=Europe/Zurich:20261029T223000
DTSTAMP:20260424T162017
CREATED:20260305T104211Z
LAST-MODIFIED:20260305T104211Z
UID:10002814-1793302200-1793313000@ettiswil.ch
SUMMARY:RUDH Vorführung
DESCRIPTION:Hier könnte Ihr Text stehen…
URL:https://ettiswil.ch/event/rudh-vorfuehrung/
LOCATION:Gütschhalle Kottwil
CATEGORIES:Verein
ORGANIZER;CN="Frauen Sportgruppe Kottwil":MAILTO:sibylle.heller@bluewin.ch
END:VEVENT
BEGIN:VEVENT
DTSTART;TZID=Europe/Zurich:20261030T193000
DTEND;TZID=Europe/Zurich:20261030T220000
DTSTAMP:20260424T162017
CREATED:20241008T191722Z
LAST-MODIFIED:20250925T081932Z
UID:10001821-1793388600-1793397600@ettiswil.ch
SUMMARY:Herbsthauptübung
DESCRIPTION:
URL:https://ettiswil.ch/event/herbsthauptuebung-2/2026-10-30/
LOCATION:Feuerwehrmagazin Ettiswil
CATEGORIES:Organisation
ORGANIZER;CN="Feuerwehr Ettiswil-Alberswil":MAILTO:h.roeschu@gmail.com
END:VEVENT
BEGIN:VEVENT
DTSTART;TZID=Europe/Zurich:20261031T180000
DTEND;TZID=Europe/Zurich:20261031T230000
DTSTAMP:20260424T162017
CREATED:20251014T152715Z
LAST-MODIFIED:20251014T152715Z
UID:10001966-1793469600-1793487600@ettiswil.ch
SUMMARY:117. Generalversammlung STV Ettiswil
DESCRIPTION:Hier könnte Ihr Text stehen…
URL:https://ettiswil.ch/event/117-generalversammlung-stv-ettiswil/
LOCATION:Jlgensaal\, Ettiswil
CATEGORIES:Verein
ORGANIZER;CN="STV Ettiswil":MAILTO:info@stv-ettiswil.ch
END:VEVENT
BEGIN:VEVENT
DTSTART;VALUE=DATE:20261102
DTEND;VALUE=DATE:20261103
DTSTAMP:20260424T162017
CREATED:20251209T094203Z
LAST-MODIFIED:20251209T094203Z
UID:10002666-1793606400-1793638800@ettiswil.ch
SUMMARY:Häckseldienst
DESCRIPTION:
URL:https://ettiswil.ch/event/haeckseldienst/2026-11-02/
LOCATION:Strassenrand
END:VEVENT
BEGIN:VEVENT
DTSTART;TZID=Europe/Zurich:20261102T140000
DTEND;TZID=Europe/Zurich:20261102T170000
DTSTAMP:20260424T162017
CREATED:20251029T125746Z
LAST-MODIFIED:20251029T125746Z
UID:10002213-1793628000-1793638800@ettiswil.ch
SUMMARY:Spaziergang
DESCRIPTION:Hier könnte Ihr Text stehen…
URL:https://ettiswil.ch/event/spaziergang/2026-11-02/
LOCATION:Gemeindeparkplatz Ettiswil
CATEGORIES:Verein
ORGANIZER;CN="Silberstreifen 60 plus":MAILTO:vreni.korner@gmail.com
END:VEVENT
BEGIN:VEVENT
DTSTART;TZID=Europe/Zurich:20261102T193000
DTEND;TZID=Europe/Zurich:20261102T220000
DTSTAMP:20260424T162017
CREATED:20260112T125723Z
LAST-MODIFIED:20260112T133840Z
UID:10002793-1793647800-1793656800@ettiswil.ch
SUMMARY:Präsidentenkonferenz
DESCRIPTION:
URL:https://ettiswil.ch/event/praesidentenkonferenz-2/
LOCATION:Dachgeschoss Sigristenhaus
CATEGORIES:Gemeinde
END:VEVENT
BEGIN:VEVENT
DTSTART;TZID=Europe/Zurich:20261103T163000
DTEND;TZID=Europe/Zurich:20261103T180000
DTSTAMP:20260424T162017
CREATED:20251029T130538Z
LAST-MODIFIED:20251029T130538Z
UID:10002221-1793723400-1793728800@ettiswil.ch
SUMMARY:Freies Singen
DESCRIPTION:Hier könnte Ihr Text stehen…
URL:https://ettiswil.ch/event/freies-singen/2026-11-03/
LOCATION:Ettiswil\, Singsaal
CATEGORIES:Verein
ORGANIZER;CN="Silberstreifen 60 plus":MAILTO:vreni.korner@gmail.com
END:VEVENT
BEGIN:VEVENT
DTSTART;VALUE=DATE:20261104
DTEND;VALUE=DATE:20261105
DTSTAMP:20260424T162017
CREATED:20251017T153042Z
LAST-MODIFIED:20251018T143412Z
UID:10002041-1793750400-1793836799@ettiswil.ch
SUMMARY:Exkursion
DESCRIPTION:
URL:https://ettiswil.ch/event/exkursion/
LOCATION:gemäss Einladung
CATEGORIES:Verein
ORGANIZER;CN="Sanit%C3%A4tsteam Ettiswil":MAILTO:info@sanitaetsteamettiswil.ch
END:VEVENT
BEGIN:VEVENT
DTSTART;VALUE=DATE:20261104
DTEND;VALUE=DATE:20261105
DTSTAMP:20260424T162017
CREATED:20251211T092252Z
LAST-MODIFIED:20251211T092252Z
UID:10002762-1793779200-1793811600@ettiswil.ch
SUMMARY:Kehricht
DESCRIPTION:Beck Umweltservice AG\, Sursee
URL:https://ettiswil.ch/event/kehricht-3/2026-11-04/
LOCATION:Stelle Hauskehricht
END:VEVENT
BEGIN:VEVENT
DTSTART;VALUE=DATE:20261105
DTEND;VALUE=DATE:20261106
DTSTAMP:20260424T162017
CREATED:20251021T160621Z
LAST-MODIFIED:20251121T190601Z
UID:10002062-1793836800-1793923199@ettiswil.ch
SUMMARY:Themenabend: Neurodings – stoppe dein Gedankenkarussell
DESCRIPTION:Hier könnte Ihr Text stehen…
URL:https://ettiswil.ch/event/neurodings-stoppe-dein-gedankenkarus/
CATEGORIES:Verein
ORGANIZER;CN="Treffpunkt Frauen":MAILTO:vorstand@treffpunktfrauen-ettiswil.ch
END:VEVENT
BEGIN:VEVENT
DTSTART;TZID=Europe/Zurich:20261105T183000
DTEND;TZID=Europe/Zurich:20261105T210000
DTSTAMP:20260424T162017
CREATED:20251107T115542Z
LAST-MODIFIED:20251107T115542Z
UID:10002544-1793903400-1793912400@ettiswil.ch
SUMMARY:RV Ettiswil Winterkurse
DESCRIPTION:Hier könnte Ihr Text stehen…
URL:https://ettiswil.ch/event/rv-ettiswil-winterkurse/2026-11-05/
CATEGORIES:Verein
ORGANIZER;CN="Reitverein Schloss Wyher":MAILTO:manuela.muff@rv-ettiswil.ch
END:VEVENT
BEGIN:VEVENT
DTSTART;TZID=Europe/Zurich:20261105T193000
DTEND;TZID=Europe/Zurich:20261105T210000
DTSTAMP:20260424T162017
CREATED:20251029T204649Z
LAST-MODIFIED:20251029T204649Z
UID:10002244-1793907000-1793912400@ettiswil.ch
SUMMARY:Start Winterfit
DESCRIPTION:Hier könnte Ihr Text stehen…
URL:https://ettiswil.ch/event/start-winterfit-2/
LOCATION:Gütschhalle Kottwil
CATEGORIES:Verein
ORGANIZER;CN="Frauen Sportgruppe Kottwil":MAILTO:sibylle.heller@bluewin.ch
END:VEVENT
BEGIN:VEVENT
DTSTART;VALUE=DATE:20261106
DTEND;VALUE=DATE:20261107
DTSTAMP:20260424T162017
CREATED:20251209T092726Z
LAST-MODIFIED:20251209T093043Z
UID:10002642-1793952000-1793984400@ettiswil.ch
SUMMARY:Grüngutabfuhr
DESCRIPTION:Amstein Robert AG\, Willisau
URL:https://ettiswil.ch/event/gruengutabfuhr/2026-11-06/
LOCATION:Stelle Hauskehricht
END:VEVENT
BEGIN:VEVENT
DTSTART;TZID=Europe/Zurich:20261106T090000
DTEND;TZID=Europe/Zurich:20261106T170000
DTSTAMP:20260424T162017
CREATED:20251029T132730Z
LAST-MODIFIED:20251029T132730Z
UID:10002236-1793955600-1793984400@ettiswil.ch
SUMMARY:Jahresversammlung
DESCRIPTION:Hier könnte Ihr Text stehen…
URL:https://ettiswil.ch/event/jahresversammlung/
LOCATION:Pfarrkirche/Jlgensaal
CATEGORIES:Verein
ORGANIZER;CN="Silberstreifen 60 plus":MAILTO:vreni.korner@gmail.com
END:VEVENT
BEGIN:VEVENT
DTSTART;TZID=Europe/Zurich:20261106T163000
DTEND;TZID=Europe/Zurich:20261107T020000
DTSTAMP:20260424T162017
CREATED:20251021T120615Z
LAST-MODIFIED:20251021T120615Z
UID:10002057-1793982600-1794016800@ettiswil.ch
SUMMARY:RacletteNight 2026
DESCRIPTION:Hier könnte Ihr Text stehen…
URL:https://ettiswil.ch/event/raclettenight-2026/
LOCATION:Ettiswil\, Schulareal
CATEGORIES:Verein
ORGANIZER;CN="Guggichacheler Ettiswil":MAILTO:timob43@gmail.com
END:VEVENT
BEGIN:VEVENT
DTSTART;TZID=Europe/Zurich:20261107T080000
DTEND;TZID=Europe/Zurich:20261107T121500
DTSTAMP:20260424T162017
CREATED:20251017T154308Z
LAST-MODIFIED:20251018T140936Z
UID:10002036-1794038400-1794053700@ettiswil.ch
SUMMARY:Reanimationskurs BLS-AED-SRC
DESCRIPTION:
URL:https://ettiswil.ch/event/reanimationskurs-bls-aed-src-2/2026-11-07/
LOCATION:Gütschhalde 1\, Kottwil
CATEGORIES:Verein
ORGANIZER;CN="Sanit%C3%A4tsteam Ettiswil":MAILTO:info@sanitaetsteamettiswil.ch
END:VEVENT
BEGIN:VEVENT
DTSTART;TZID=Europe/Zurich:20261107T080000
DTEND;TZID=Europe/Zurich:20261107T170000
DTSTAMP:20260424T162017
CREATED:20251106T133050Z
LAST-MODIFIED:20251106T133050Z
UID:10002303-1794038400-1794070800@ettiswil.ch
SUMMARY:Absenden Herbstschiessen
DESCRIPTION:Hier könnte Ihr Text stehen…
URL:https://ettiswil.ch/event/absenden-herbstschiessen/
LOCATION:Armbrustschützenhaus Brestenegg
CATEGORIES:Verein
ORGANIZER;CN="Armbrustsch%C3%BCtzen Brestenegg":MAILTO:wdhlauda@bluewin.ch
END:VEVENT
BEGIN:VEVENT
DTSTART;TZID=Europe/Zurich:20261107T190000
DTEND;TZID=Europe/Zurich:20261108T030000
DTSTAMP:20260424T162017
CREATED:20251021T120347Z
LAST-MODIFIED:20251021T120457Z
UID:10002056-1794078000-1794106800@ettiswil.ch
SUMMARY:ChachelerNight 2026
DESCRIPTION:Hier könnte Ihr Text stehen…
URL:https://ettiswil.ch/event/chachelernight-2026/
LOCATION:Ettiswil\, Schulareal
CATEGORIES:Verein
ORGANIZER;CN="Guggichacheler Ettiswil":MAILTO:timob43@gmail.com
END:VEVENT
BEGIN:VEVENT
DTSTART;TZID=Europe/Zurich:20261109T183000
DTEND;TZID=Europe/Zurich:20261109T220000
DTSTAMP:20260424T162017
CREATED:20250925T081436Z
LAST-MODIFIED:20250925T083247Z
UID:10001826-1794249000-1794261600@ettiswil.ch
SUMMARY:Atemschutzübung MBA
DESCRIPTION:Hier könnte Ihr Text stehen…
URL:https://ettiswil.ch/event/atemschutzuebung-mba/2026-11-09/
CATEGORIES:Organisation
ORGANIZER;CN="Feuerwehr Ettiswil-Alberswil":MAILTO:h.roeschu@gmail.com
END:VEVENT
BEGIN:VEVENT
DTSTART;TZID=Europe/Zurich:20261110T180000
DTEND;TZID=Europe/Zurich:20261110T203000
DTSTAMP:20260424T162017
CREATED:20251017T153609Z
LAST-MODIFIED:20251018T141026Z
UID:10002038-1794333600-1794342600@ettiswil.ch
SUMMARY:Blutspenden
DESCRIPTION:
URL:https://ettiswil.ch/event/blutspenden/2026-11-10/
LOCATION:Büelacherhalle\, Ettiswil
CATEGORIES:Verein
ORGANIZER;CN="Sanit%C3%A4tsteam Ettiswil":MAILTO:info@sanitaetsteamettiswil.ch
END:VEVENT
END:VCALENDAR