BEGIN:VCALENDAR
VERSION:2.0
PRODID:-//Gemeinde Ettiswil - ECPv6.15.20//NONSGML v1.0//EN
CALSCALE:GREGORIAN
METHOD:PUBLISH
X-WR-CALNAME:Gemeinde Ettiswil
X-ORIGINAL-URL:https://ettiswil.ch
X-WR-CALDESC:Veranstaltungen für Gemeinde Ettiswil
REFRESH-INTERVAL;VALUE=DURATION:PT1H
X-Robots-Tag:noindex
X-PUBLISHED-TTL:PT1H
BEGIN:VTIMEZONE
TZID:Europe/Zurich
BEGIN:DAYLIGHT
TZOFFSETFROM:+0100
TZOFFSETTO:+0200
TZNAME:CEST
DTSTART:20250330T010000
END:DAYLIGHT
BEGIN:STANDARD
TZOFFSETFROM:+0200
TZOFFSETTO:+0100
TZNAME:CET
DTSTART:20251026T010000
END:STANDARD
BEGIN:DAYLIGHT
TZOFFSETFROM:+0100
TZOFFSETTO:+0200
TZNAME:CEST
DTSTART:20260329T010000
END:DAYLIGHT
BEGIN:STANDARD
TZOFFSETFROM:+0200
TZOFFSETTO:+0100
TZNAME:CET
DTSTART:20261025T010000
END:STANDARD
BEGIN:DAYLIGHT
TZOFFSETFROM:+0100
TZOFFSETTO:+0200
TZNAME:CEST
DTSTART:20270328T010000
END:DAYLIGHT
BEGIN:STANDARD
TZOFFSETFROM:+0200
TZOFFSETTO:+0100
TZNAME:CET
DTSTART:20271031T010000
END:STANDARD
END:VTIMEZONE
BEGIN:VEVENT
DTSTART;TZID=Europe/Zurich:20261113T190000
DTEND;TZID=Europe/Zurich:20261113T203000
DTSTAMP:20260424T200229
CREATED:20251017T185334Z
LAST-MODIFIED:20251105T093226Z
UID:10002020-1794596400-1794601800@ettiswil.ch
SUMMARY:TreffpunktChinder / Schweizer Erzählnacht
DESCRIPTION:Hier könnte Ihr Text stehen…
URL:https://ettiswil.ch/event/treffpunktchinder-schweizer-erzaehlnacht/
LOCATION:Sigristenhaus Ettiswil
CATEGORIES:Verein
ORGANIZER;CN="Treffpunkt Frauen":MAILTO:vorstand@treffpunktfrauen-ettiswil.ch
END:VEVENT
BEGIN:VEVENT
DTSTART;VALUE=DATE:20261114
DTEND;VALUE=DATE:20261115
DTSTAMP:20260424T200229
CREATED:20250117T162003Z
LAST-MODIFIED:20250117T162003Z
UID:10001493-1794614400-1794700799@ettiswil.ch
SUMMARY:Gross & Klein Turnier FC Grosswangen-Ettiswil
DESCRIPTION:Hier könnte Ihr Text stehen…
URL:https://ettiswil.ch/event/gross-klein-turnier-fc-grosswangen-ettiswil/
LOCATION:Kalofenhalle Grosswangen
CATEGORIES:Verein
ORGANIZER;CN="FC Grosswangen-Ettiswil":MAILTO:praesident@fcge.ch
END:VEVENT
BEGIN:VEVENT
DTSTART;VALUE=DATE:20261114
DTEND;VALUE=DATE:20261115
DTSTAMP:20260424T200229
CREATED:20250117T162036Z
LAST-MODIFIED:20250117T162036Z
UID:10001494-1794614400-1794700799@ettiswil.ch
SUMMARY:Jassturnier FCGrosswangen-Ettiswil
DESCRIPTION:Hier könnte Ihr Text stehen…
URL:https://ettiswil.ch/event/jassturnier-fcgrosswangen-ettiswil/
LOCATION:Meilihalle Grosswangen
CATEGORIES:Verein
ORGANIZER;CN="FC Grosswangen-Ettiswil":MAILTO:praesident@fcge.ch
END:VEVENT
BEGIN:VEVENT
DTSTART;VALUE=DATE:20261114
DTEND;VALUE=DATE:20261115
DTSTAMP:20260424T200229
CREATED:20250929T195451Z
LAST-MODIFIED:20251107T115156Z
UID:10001924-1794614400-1794700799@ettiswil.ch
SUMMARY:Herbstritt mit Fondueabend des Reitverein Schloss Wyher Ettiswil
DESCRIPTION:Hier könnte Ihr Text stehen…
URL:https://ettiswil.ch/event/herbstritt-mit-fondueabend-des-reitverein-schloss-wyher-ettiswil/
CATEGORIES:Verein
ORGANIZER;CN="Reitverein Schloss Wyher":MAILTO:manuela.muff@rv-ettiswil.ch
END:VEVENT
BEGIN:VEVENT
DTSTART;TZID=Europe/Zurich:20261114T080000
DTEND;TZID=Europe/Zurich:20261114T120000
DTSTAMP:20260424T200229
CREATED:20250925T075718Z
LAST-MODIFIED:20250925T075824Z
UID:10001791-1794643200-1794657600@ettiswil.ch
SUMMARY:Spezialistenübung Sanität mit Sanitätsteam
DESCRIPTION:
URL:https://ettiswil.ch/event/spezialistenuebung-sanitaet-mit-sanitaetsteam/2026-11-14/
CATEGORIES:Organisation
ORGANIZER;CN="Feuerwehr Ettiswil-Alberswil":MAILTO:h.roeschu@gmail.com
END:VEVENT
BEGIN:VEVENT
DTSTART;TZID=Europe/Zurich:20261117T193000
DTEND;TZID=Europe/Zurich:20261117T220000
DTSTAMP:20260424T200229
CREATED:20251008T132640Z
LAST-MODIFIED:20251008T132640Z
UID:10001935-1794943800-1794952800@ettiswil.ch
SUMMARY:Vortrag / Präsentation
DESCRIPTION:Hier könnte Ihr Text stehen…
URL:https://ettiswil.ch/event/vortrag-praesentation/
CATEGORIES:Verein
ORGANIZER;CN="Gewerbeverein Ettiswil-Alberswil":MAILTO:michelle.mueller@mobiliar.ch
END:VEVENT
BEGIN:VEVENT
DTSTART;VALUE=DATE:20261118
DTEND;VALUE=DATE:20261119
DTSTAMP:20260424T200229
CREATED:20251211T092252Z
LAST-MODIFIED:20251211T092252Z
UID:10002764-1794988800-1795021200@ettiswil.ch
SUMMARY:Kehricht
DESCRIPTION:Beck Umweltservice AG\, Sursee
URL:https://ettiswil.ch/event/kehricht-3/2026-11-18/
LOCATION:Stelle Hauskehricht
END:VEVENT
BEGIN:VEVENT
DTSTART;VALUE=DATE:20261119
DTEND;VALUE=DATE:20261120
DTSTAMP:20260424T200229
CREATED:20251203T064144Z
LAST-MODIFIED:20251203T064207Z
UID:10002620-1795046400-1795132799@ettiswil.ch
SUMMARY:Redaktionsschluss Dezember-Mobile
DESCRIPTION:
URL:https://ettiswil.ch/event/redaktionsschluss-dezember-mobile/
CATEGORIES:Gemeinde
END:VEVENT
BEGIN:VEVENT
DTSTART;VALUE=DATE:20261119
DTEND;VALUE=DATE:20261120
DTSTAMP:20260424T200229
CREATED:20251209T093440Z
LAST-MODIFIED:20251209T093440Z
UID:10002650-1795075200-1795107600@ettiswil.ch
SUMMARY:Papiersammlung
DESCRIPTION:Amstein Robert AG\, Willisau
URL:https://ettiswil.ch/event/papiersammlung/2026-11-19/
LOCATION:Stelle Hauskehricht
END:VEVENT
BEGIN:VEVENT
DTSTART;TZID=Europe/Zurich:20261119T131500
DTEND;TZID=Europe/Zurich:20261119T170000
DTSTAMP:20260424T200229
CREATED:20251026T175737Z
LAST-MODIFIED:20251026T175737Z
UID:10002165-1795094100-1795107600@ettiswil.ch
SUMMARY:Nachmittagswanderung
DESCRIPTION:Hier könnte Ihr Text stehen…
URL:https://ettiswil.ch/event/nachmittagswanderung/2026-11-19/
LOCATION:Postplatz Ettiswil\, Postplatz (Bushaltestelle)\, Ettiswil\, Switzerland
CATEGORIES:Verein
ORGANIZER;CN="Silberstreifen 60 plus":MAILTO:vreni.korner@gmail.com
END:VEVENT
BEGIN:VEVENT
DTSTART;TZID=Europe/Zurich:20261119T183000
DTEND;TZID=Europe/Zurich:20261119T210000
DTSTAMP:20260424T200229
CREATED:20251107T115542Z
LAST-MODIFIED:20251107T115542Z
UID:10002546-1795113000-1795122000@ettiswil.ch
SUMMARY:RV Ettiswil Winterkurse
DESCRIPTION:Hier könnte Ihr Text stehen…
URL:https://ettiswil.ch/event/rv-ettiswil-winterkurse/2026-11-19/
CATEGORIES:Verein
ORGANIZER;CN="Reitverein Schloss Wyher":MAILTO:manuela.muff@rv-ettiswil.ch
END:VEVENT
BEGIN:VEVENT
DTSTART;VALUE=DATE:20261120
DTEND;VALUE=DATE:20261121
DTSTAMP:20260424T200229
CREATED:20251209T092726Z
LAST-MODIFIED:20251209T093043Z
UID:10002643-1795161600-1795194000@ettiswil.ch
SUMMARY:Grüngutabfuhr
DESCRIPTION:Amstein Robert AG\, Willisau
URL:https://ettiswil.ch/event/gruengutabfuhr/2026-11-20/
LOCATION:Stelle Hauskehricht
END:VEVENT
BEGIN:VEVENT
DTSTART;TZID=Europe/Zurich:20261120T183000
DTEND;TZID=Europe/Zurich:20261120T203000
DTSTAMP:20260424T200229
CREATED:20251021T165557Z
LAST-MODIFIED:20251021T165557Z
UID:10002072-1795199400-1795206600@ettiswil.ch
SUMMARY:Vereinsübung
DESCRIPTION:
URL:https://ettiswil.ch/event/vereinsuebung-13/
LOCATION:Sigristenhaus Ettiswil
CATEGORIES:Verein
ORGANIZER;CN="Jugend-Sanit%C3%A4tsteam Ettiswil":MAILTO:jugend@sanitaetsteamettiswil.ch
END:VEVENT
BEGIN:VEVENT
DTSTART;TZID=Europe/Zurich:20261120T190000
DTEND;TZID=Europe/Zurich:20261120T230000
DTSTAMP:20260424T200229
CREATED:20250910T052611Z
LAST-MODIFIED:20250910T052716Z
UID:10001748-1795201200-1795215600@ettiswil.ch
SUMMARY:Generalversammlung
DESCRIPTION:Hier könnte Ihr Text stehen…
URL:https://ettiswil.ch/event/generalversammlung/
CATEGORIES:Verein
ORGANIZER;CN="M%C3%A4nnerturner Ettiswil":MAILTO:franz.felber@aktiv-treuhand.ch
END:VEVENT
BEGIN:VEVENT
DTSTART;VALUE=DATE:20261121
DTEND;VALUE=DATE:20261122
DTSTAMP:20260424T200229
CREATED:20251021T141612Z
LAST-MODIFIED:20251021T141612Z
UID:10002058-1795219200-1795305599@ettiswil.ch
SUMMARY:Delegiertenversammlung Turnverband LU/OW/NW
DESCRIPTION:Hier könnte Ihr Text stehen…
URL:https://ettiswil.ch/event/delegiertenversammlung-turnverband-lu-ow-nw/
LOCATION:Büelacherhalle\, Ettiswil
CATEGORIES:Verein
ORGANIZER;CN="STV Ettiswil":MAILTO:info@stv-ettiswil.ch
END:VEVENT
BEGIN:VEVENT
DTSTART;TZID=Europe/Zurich:20261121T083000
DTEND;TZID=Europe/Zurich:20261121T120000
DTSTAMP:20260424T200229
CREATED:20251017T154421Z
LAST-MODIFIED:20251018T141315Z
UID:10002042-1795249800-1795262400@ettiswil.ch
SUMMARY:Kindernotfall-Kurs Teil 1
DESCRIPTION:
URL:https://ettiswil.ch/event/kindernotfall-kurs-teil-1/
LOCATION:Gütschhalde 1\, Kottwil
CATEGORIES:Verein
ORGANIZER;CN="Sanit%C3%A4tsteam Ettiswil":MAILTO:info@sanitaetsteamettiswil.ch
END:VEVENT
BEGIN:VEVENT
DTSTART;TZID=Europe/Zurich:20261122T170000
DTEND;TZID=Europe/Zurich:20261122T220000
DTSTAMP:20260424T200229
CREATED:20260108T140051Z
LAST-MODIFIED:20260108T152302Z
UID:10002792-1795366800-1795384800@ettiswil.ch
SUMMARY:Konzert
DESCRIPTION:
URL:https://ettiswil.ch/event/konzert-3/
LOCATION:Pfarrkirche\, Ettiswil
CATEGORIES:Verein
ORGANIZER;CN="M%C3%A4nnerchor Ettiswil":MAILTO:praesident@maennerchor-ettiswil.ch
END:VEVENT
BEGIN:VEVENT
DTSTART;VALUE=DATE:20261124
DTEND;VALUE=DATE:20261125
DTSTAMP:20260424T200229
CREATED:20251020T192938Z
LAST-MODIFIED:20251121T184726Z
UID:10002054-1795478400-1795564799@ettiswil.ch
SUMMARY:Kreativwerkstatt für die Adventsdekorationen
DESCRIPTION:Hier könnte Ihr Text stehen…
URL:https://ettiswil.ch/event/kreatives-fuer-die-adventszeit/
CATEGORIES:Verein
ORGANIZER;CN="Treffpunkt Frauen":MAILTO:vorstand@treffpunktfrauen-ettiswil.ch
END:VEVENT
BEGIN:VEVENT
DTSTART;VALUE=DATE:20261124
DTEND;VALUE=DATE:20261125
DTSTAMP:20260424T200229
CREATED:20251026T181142Z
LAST-MODIFIED:20260203T162557Z
UID:10002805-1795478400-1795564799@ettiswil.ch
SUMMARY:Tageswanderung
DESCRIPTION:Hier könnte Ihr Text stehen…
URL:https://ettiswil.ch/event/adventsspaziergang/2026-11-24/
LOCATION:Postplatz Ettiswil\, Postplatz (Bushaltestelle)\, Ettiswil\, Switzerland
CATEGORIES:Verein
ORGANIZER;CN="Silberstreifen 60 plus":MAILTO:vreni.korner@gmail.com
END:VEVENT
BEGIN:VEVENT
DTSTART;VALUE=DATE:20261125
DTEND;VALUE=DATE:20261126
DTSTAMP:20260424T200229
CREATED:20251211T092252Z
LAST-MODIFIED:20251211T092252Z
UID:10002765-1795593600-1795626000@ettiswil.ch
SUMMARY:Kehricht
DESCRIPTION:Beck Umweltservice AG\, Sursee
URL:https://ettiswil.ch/event/kehricht-3/2026-11-25/
LOCATION:Stelle Hauskehricht
END:VEVENT
BEGIN:VEVENT
DTSTART;TZID=Europe/Zurich:20261125T133000
DTEND;TZID=Europe/Zurich:20261125T171500
DTSTAMP:20260424T200229
CREATED:20251215T083617Z
LAST-MODIFIED:20260421T113419Z
UID:10002839-1795613400-1795626900@ettiswil.ch
SUMMARY:Beratung Frühe Kindheit / Mütter- und Väterberatung
DESCRIPTION:Die Beratung Frühe Kindheit (Mütter- und Väterberatung) des Sozialberatungszentrum Willisau-Wiggertal ist eine Anlaufstelle für Familien mit Kindern von der Geburt bis zum Eintritt in den Kindergarten. Wir Fachpersonen der Frühen Kindheit beraten Sie bei Unsicherheiten und Fragen zur Entwicklung\, Ernährung\, Schlaf und Erziehung Ihres Kindes oder Ihren Elternaufgabe. Wir können Ihnen Auskunft über Angebote für Familien in der Region geben oder Sie bei Bedarf an Fachstellen weiterleiten. Die Beratungen werden vollumfänglich von der Gemeinde finanziert und sind somit für Sie kostenlos. Um eine Beratung in Ihrer Sprache durchführen zu können\, arbeiten wir bei Bedarf auch mit Dolmetschenden zusammen.\nFremdsprachige Erklärvideos zur Mütter- und Väterberatung\n\n\nDie Beratungen finden in Ettiswil\, Dorf 21 (im Schulhaus neben der Spielgruppe\, Räumlichkeiten Chäferli) statt. Sie können sich online auf unserer Homepage oder direkt über folgenden Link anmelden. Telefonberatungen können Sie von Montag bis Donnerstag von 8:30 bis 11:30 Uhr unter 041 972 56 30 in Anspruch nehmen. Wir freuen uns auf Sie.\n\n\nDas Team der Mütter- und Väterberatung Willisau-Wiggertal
URL:https://ettiswil.ch/event/beratung-fruehe-kindheit-muetter-und-vaeterberatung/2026-11-25/
CATEGORIES:Dienststellen
ATTACH;FMTTYPE=image/jpeg:https://ettiswil.ch/wp-content/uploads/2024/08/bfk-willisau-wiggertal-eyecatcher-RGB-farbe-e1765789703843.jpg
ORGANIZER;CN="Beratung Fr%C3%BChe Kindheit (MVB)":MAILTO:mvb.willisau@sobz-willisau.ch
END:VEVENT
BEGIN:VEVENT
DTSTART;TZID=Europe/Zurich:20261125T190000
DTEND;TZID=Europe/Zurich:20261125T220000
DTSTAMP:20260424T200229
CREATED:20251017T161522Z
LAST-MODIFIED:20251121T184609Z
UID:10002013-1795633200-1795644000@ettiswil.ch
SUMMARY:TreffpunktLiturgie Adventsfeier
DESCRIPTION:Hier könnte Ihr Text stehen…
URL:https://ettiswil.ch/event/treffpunktliturgie-advetsfeier/
LOCATION:Pfarrsaal\, Ettiswil
CATEGORIES:Verein
ORGANIZER;CN="Treffpunkt Frauen":MAILTO:vorstand@treffpunktfrauen-ettiswil.ch
END:VEVENT
BEGIN:VEVENT
DTSTART;TZID=Europe/Zurich:20261126T183000
DTEND;TZID=Europe/Zurich:20261126T210000
DTSTAMP:20260424T200229
CREATED:20251107T115542Z
LAST-MODIFIED:20251107T115542Z
UID:10002547-1795717800-1795726800@ettiswil.ch
SUMMARY:RV Ettiswil Winterkurse
DESCRIPTION:Hier könnte Ihr Text stehen…
URL:https://ettiswil.ch/event/rv-ettiswil-winterkurse/2026-11-26/
CATEGORIES:Verein
ORGANIZER;CN="Reitverein Schloss Wyher":MAILTO:manuela.muff@rv-ettiswil.ch
END:VEVENT
BEGIN:VEVENT
DTSTART;TZID=Europe/Zurich:20261127T193000
DTEND;TZID=Europe/Zurich:20261127T220000
DTSTAMP:20260424T200229
CREATED:20251027T212910Z
LAST-MODIFIED:20251027T212910Z
UID:10002204-1795807800-1795816800@ettiswil.ch
SUMMARY:3. APV Generalversammlung
DESCRIPTION:Hier könnte Ihr Text stehen…
URL:https://ettiswil.ch/event/3-apv-generalversammlung/
CATEGORIES:Verein
ORGANIZER;CN="Altpfadiverein (APV) Delta Ettiswil - Alberswil - Kottwil":MAILTO:apv@pfadidelta.ch
END:VEVENT
BEGIN:VEVENT
DTSTART;TZID=Europe/Zurich:20261128T083000
DTEND;TZID=Europe/Zurich:20261128T120000
DTSTAMP:20260424T200229
CREATED:20251017T154508Z
LAST-MODIFIED:20251018T141409Z
UID:10002043-1795854600-1795867200@ettiswil.ch
SUMMARY:Kindernotfall-Kurs Teil 2
DESCRIPTION:
URL:https://ettiswil.ch/event/kindernotfall-kurs-teil-2/
LOCATION:Gütschhalde 1\, Kottwil
CATEGORIES:Verein
ORGANIZER;CN="Sanit%C3%A4tsteam Ettiswil":MAILTO:info@sanitaetsteamettiswil.ch
END:VEVENT
BEGIN:VEVENT
DTSTART;VALUE=DATE:20261130
DTEND;VALUE=DATE:20261201
DTSTAMP:20260424T200229
CREATED:20251209T093910Z
LAST-MODIFIED:20251209T093910Z
UID:10002661-1796025600-1796058000@ettiswil.ch
SUMMARY:Kartonsammlung
DESCRIPTION:Stöckli AG Entsorgung & Reccling\, Sursee
URL:https://ettiswil.ch/event/kartonsammlung/2026-11-30/
LOCATION:Werkhof
END:VEVENT
BEGIN:VEVENT
DTSTART;VALUE=DATE:20261201
DTEND;VALUE=DATE:20261225
DTSTAMP:20260424T200229
CREATED:20251121T184521Z
LAST-MODIFIED:20251121T191123Z
UID:10002603-1796083200-1798156799@ettiswil.ch
SUMMARY:1. - 24. Dez. Adventsfenster
DESCRIPTION:Hier könnte Ihr Text stehen…
URL:https://ettiswil.ch/event/1-24-dez-adventsfenster/
CATEGORIES:Verein
ORGANIZER;CN="Treffpunkt Frauen":MAILTO:vorstand@treffpunktfrauen-ettiswil.ch
END:VEVENT
BEGIN:VEVENT
DTSTART;TZID=Europe/Zurich:20261201T163000
DTEND;TZID=Europe/Zurich:20261201T180000
DTSTAMP:20260424T200229
CREATED:20251029T130538Z
LAST-MODIFIED:20251029T130538Z
UID:10002222-1796142600-1796148000@ettiswil.ch
SUMMARY:Freies Singen
DESCRIPTION:Hier könnte Ihr Text stehen…
URL:https://ettiswil.ch/event/freies-singen/2026-12-01/
LOCATION:Ettiswil\, Singsaal
CATEGORIES:Verein
ORGANIZER;CN="Silberstreifen 60 plus":MAILTO:vreni.korner@gmail.com
END:VEVENT
BEGIN:VEVENT
DTSTART;VALUE=DATE:20261202
DTEND;VALUE=DATE:20261203
DTSTAMP:20260424T200229
CREATED:20251211T092252Z
LAST-MODIFIED:20251211T092252Z
UID:10002766-1796198400-1796230800@ettiswil.ch
SUMMARY:Kehricht
DESCRIPTION:Beck Umweltservice AG\, Sursee
URL:https://ettiswil.ch/event/kehricht-3/2026-12-02/
LOCATION:Stelle Hauskehricht
END:VEVENT
BEGIN:VEVENT
DTSTART;TZID=Europe/Zurich:20261202T133000
DTEND;TZID=Europe/Zurich:20261202T171500
DTSTAMP:20260424T200229
CREATED:20251215T083617Z
LAST-MODIFIED:20260421T113419Z
UID:10002840-1796218200-1796231700@ettiswil.ch
SUMMARY:Beratung Frühe Kindheit / Mütter- und Väterberatung
DESCRIPTION:Die Beratung Frühe Kindheit (Mütter- und Väterberatung) des Sozialberatungszentrum Willisau-Wiggertal ist eine Anlaufstelle für Familien mit Kindern von der Geburt bis zum Eintritt in den Kindergarten. Wir Fachpersonen der Frühen Kindheit beraten Sie bei Unsicherheiten und Fragen zur Entwicklung\, Ernährung\, Schlaf und Erziehung Ihres Kindes oder Ihren Elternaufgabe. Wir können Ihnen Auskunft über Angebote für Familien in der Region geben oder Sie bei Bedarf an Fachstellen weiterleiten. Die Beratungen werden vollumfänglich von der Gemeinde finanziert und sind somit für Sie kostenlos. Um eine Beratung in Ihrer Sprache durchführen zu können\, arbeiten wir bei Bedarf auch mit Dolmetschenden zusammen.\nFremdsprachige Erklärvideos zur Mütter- und Väterberatung\n\n\nDie Beratungen finden in Ettiswil\, Dorf 21 (im Schulhaus neben der Spielgruppe\, Räumlichkeiten Chäferli) statt. Sie können sich online auf unserer Homepage oder direkt über folgenden Link anmelden. Telefonberatungen können Sie von Montag bis Donnerstag von 8:30 bis 11:30 Uhr unter 041 972 56 30 in Anspruch nehmen. Wir freuen uns auf Sie.\n\n\nDas Team der Mütter- und Väterberatung Willisau-Wiggertal
URL:https://ettiswil.ch/event/beratung-fruehe-kindheit-muetter-und-vaeterberatung/2026-12-02/
CATEGORIES:Dienststellen
ATTACH;FMTTYPE=image/jpeg:https://ettiswil.ch/wp-content/uploads/2024/08/bfk-willisau-wiggertal-eyecatcher-RGB-farbe-e1765789703843.jpg
ORGANIZER;CN="Beratung Fr%C3%BChe Kindheit (MVB)":MAILTO:mvb.willisau@sobz-willisau.ch
END:VEVENT
END:VCALENDAR