BEGIN:VCALENDAR
VERSION:2.0
PRODID:-//Gemeinde Ettiswil - ECPv6.15.20//NONSGML v1.0//EN
CALSCALE:GREGORIAN
METHOD:PUBLISH
X-WR-CALNAME:Gemeinde Ettiswil
X-ORIGINAL-URL:https://ettiswil.ch
X-WR-CALDESC:Veranstaltungen für Gemeinde Ettiswil
REFRESH-INTERVAL;VALUE=DURATION:PT1H
X-Robots-Tag:noindex
X-PUBLISHED-TTL:PT1H
BEGIN:VTIMEZONE
TZID:Europe/Zurich
BEGIN:DAYLIGHT
TZOFFSETFROM:+0100
TZOFFSETTO:+0200
TZNAME:CEST
DTSTART:20250330T010000
END:DAYLIGHT
BEGIN:STANDARD
TZOFFSETFROM:+0200
TZOFFSETTO:+0100
TZNAME:CET
DTSTART:20251026T010000
END:STANDARD
BEGIN:DAYLIGHT
TZOFFSETFROM:+0100
TZOFFSETTO:+0200
TZNAME:CEST
DTSTART:20260329T010000
END:DAYLIGHT
BEGIN:STANDARD
TZOFFSETFROM:+0200
TZOFFSETTO:+0100
TZNAME:CET
DTSTART:20261025T010000
END:STANDARD
BEGIN:DAYLIGHT
TZOFFSETFROM:+0100
TZOFFSETTO:+0200
TZNAME:CEST
DTSTART:20270328T010000
END:DAYLIGHT
BEGIN:STANDARD
TZOFFSETFROM:+0200
TZOFFSETTO:+0100
TZNAME:CET
DTSTART:20271031T010000
END:STANDARD
BEGIN:DAYLIGHT
TZOFFSETFROM:+0100
TZOFFSETTO:+0200
TZNAME:CEST
DTSTART:20280326T010000
END:DAYLIGHT
BEGIN:STANDARD
TZOFFSETFROM:+0200
TZOFFSETTO:+0100
TZNAME:CET
DTSTART:20281029T010000
END:STANDARD
END:VTIMEZONE
BEGIN:VEVENT
DTSTART;VALUE=DATE:20261220
DTEND;VALUE=DATE:20261221
DTSTAMP:20260425T010124
CREATED:20251104T102137Z
LAST-MODIFIED:20251105T093226Z
UID:10002275-1797724800-1797811199@ettiswil.ch
SUMMARY:Messe\, singen im Sonnbühl
DESCRIPTION:
URL:https://ettiswil.ch/event/messe-singen-im-sonnbuehl/
CATEGORIES:Verein
ORGANIZER;CN="M%C3%A4nnerchor Ettiswil":MAILTO:praesident@maennerchor-ettiswil.ch
END:VEVENT
BEGIN:VEVENT
DTSTART;VALUE=DATE:20261222
DTEND;VALUE=DATE:20261223
DTSTAMP:20260425T010124
CREATED:20251026T181142Z
LAST-MODIFIED:20260203T162557Z
UID:10002806-1797897600-1797983999@ettiswil.ch
SUMMARY:Tageswanderung
DESCRIPTION:Hier könnte Ihr Text stehen…
URL:https://ettiswil.ch/event/adventsspaziergang/2026-12-22/
LOCATION:Postplatz Ettiswil\, Postplatz (Bushaltestelle)\, Ettiswil\, Switzerland
CATEGORIES:Verein
ORGANIZER;CN="Silberstreifen 60 plus":MAILTO:vreni.korner@gmail.com
END:VEVENT
BEGIN:VEVENT
DTSTART;VALUE=DATE:20261223
DTEND;VALUE=DATE:20261224
DTSTAMP:20260425T010125
CREATED:20251211T092252Z
LAST-MODIFIED:20251211T092252Z
UID:10002769-1798012800-1798045200@ettiswil.ch
SUMMARY:Kehricht
DESCRIPTION:Beck Umweltservice AG\, Sursee
URL:https://ettiswil.ch/event/kehricht-3/2026-12-23/
LOCATION:Stelle Hauskehricht
END:VEVENT
BEGIN:VEVENT
DTSTART;TZID=Europe/Zurich:20261224T183000
DTEND;TZID=Europe/Zurich:20261224T210000
DTSTAMP:20260425T010125
CREATED:20251107T115542Z
LAST-MODIFIED:20251107T115542Z
UID:10002551-1798137000-1798146000@ettiswil.ch
SUMMARY:RV Ettiswil Winterkurse
DESCRIPTION:Hier könnte Ihr Text stehen…
URL:https://ettiswil.ch/event/rv-ettiswil-winterkurse/2026-12-24/
CATEGORIES:Verein
ORGANIZER;CN="Reitverein Schloss Wyher":MAILTO:manuela.muff@rv-ettiswil.ch
END:VEVENT
BEGIN:VEVENT
DTSTART;VALUE=DATE:20261226
DTEND;VALUE=DATE:20261227
DTSTAMP:20260425T010125
CREATED:20250929T195544Z
LAST-MODIFIED:20250929T195544Z
UID:10001925-1798243200-1798329599@ettiswil.ch
SUMMARY:Altjahresritt des Reitverein Schloss Wyher Ettiswil
DESCRIPTION:Hier könnte Ihr Text stehen…
URL:https://ettiswil.ch/event/altjahresritt-des-reitverein-schloss-wyher-ettiswil/
LOCATION:Ausserdorf\, Ausserdorf
CATEGORIES:Verein
ORGANIZER;CN="Reitverein Schloss Wyher":MAILTO:manuela.muff@rv-ettiswil.ch
END:VEVENT
BEGIN:VEVENT
DTSTART;VALUE=DATE:20261228
DTEND;VALUE=DATE:20261229
DTSTAMP:20260425T010125
CREATED:20251209T093910Z
LAST-MODIFIED:20251209T093910Z
UID:10002662-1798444800-1798477200@ettiswil.ch
SUMMARY:Kartonsammlung
DESCRIPTION:Stöckli AG Entsorgung & Reccling\, Sursee
URL:https://ettiswil.ch/event/kartonsammlung/2026-12-28/
LOCATION:Werkhof
END:VEVENT
BEGIN:VEVENT
DTSTART;VALUE=DATE:20261230
DTEND;VALUE=DATE:20261231
DTSTAMP:20260425T010125
CREATED:20251211T092252Z
LAST-MODIFIED:20251211T092252Z
UID:10002770-1798617600-1798650000@ettiswil.ch
SUMMARY:Kehricht
DESCRIPTION:Beck Umweltservice AG\, Sursee
URL:https://ettiswil.ch/event/kehricht-3/2026-12-30/
LOCATION:Stelle Hauskehricht
END:VEVENT
BEGIN:VEVENT
DTSTART;TZID=Europe/Zurich:20261231T183000
DTEND;TZID=Europe/Zurich:20261231T210000
DTSTAMP:20260425T010125
CREATED:20251107T115542Z
LAST-MODIFIED:20251107T115542Z
UID:10002552-1798741800-1798750800@ettiswil.ch
SUMMARY:RV Ettiswil Winterkurse
DESCRIPTION:Hier könnte Ihr Text stehen…
URL:https://ettiswil.ch/event/rv-ettiswil-winterkurse/2026-12-31/
CATEGORIES:Verein
ORGANIZER;CN="Reitverein Schloss Wyher":MAILTO:manuela.muff@rv-ettiswil.ch
END:VEVENT
BEGIN:VEVENT
DTSTART;TZID=Europe/Zurich:20270107T183000
DTEND;TZID=Europe/Zurich:20270107T210000
DTSTAMP:20260425T010125
CREATED:20251107T115542Z
LAST-MODIFIED:20251107T115542Z
UID:10002553-1799346600-1799355600@ettiswil.ch
SUMMARY:RV Ettiswil Winterkurse
DESCRIPTION:Hier könnte Ihr Text stehen…
URL:https://ettiswil.ch/event/rv-ettiswil-winterkurse/2027-01-07/
CATEGORIES:Verein
ORGANIZER;CN="Reitverein Schloss Wyher":MAILTO:manuela.muff@rv-ettiswil.ch
END:VEVENT
BEGIN:VEVENT
DTSTART;VALUE=DATE:20270108
DTEND;VALUE=DATE:20270109
DTSTAMP:20260425T010125
CREATED:20251017T185726Z
LAST-MODIFIED:20251121T183557Z
UID:10002023-1799366400-1799452799@ettiswil.ch
SUMMARY:Jahreseinstimmung für SeniorInnen mit Dessert und Zobig
DESCRIPTION:Hier könnte Ihr Text stehen…
URL:https://ettiswil.ch/event/jahreseinstimmung-fuer-seniorinnen-und-senioren/
CATEGORIES:Verein
ORGANIZER;CN="Treffpunkt Frauen":MAILTO:vorstand@treffpunktfrauen-ettiswil.ch
END:VEVENT
BEGIN:VEVENT
DTSTART;VALUE=DATE:20270109
DTEND;VALUE=DATE:20270110
DTSTAMP:20260425T010125
CREATED:20251021T191622Z
LAST-MODIFIED:20251021T191721Z
UID:10000649-1799452800-1799539199@ettiswil.ch
SUMMARY:1. Tag Schneesportschule
DESCRIPTION:
URL:https://ettiswil.ch/event/1-tag-schneesportschule-2/2027-01-09/
CATEGORIES:Verein
ORGANIZER;CN="Skiclub Ettiswil":MAILTO:info@skiclub-ettiswil.ch
END:VEVENT
BEGIN:VEVENT
DTSTART;TZID=Europe/Zurich:20270114T183000
DTEND;TZID=Europe/Zurich:20270114T210000
DTSTAMP:20260425T010125
CREATED:20251107T115542Z
LAST-MODIFIED:20251107T115542Z
UID:10002554-1799951400-1799960400@ettiswil.ch
SUMMARY:RV Ettiswil Winterkurse
DESCRIPTION:Hier könnte Ihr Text stehen…
URL:https://ettiswil.ch/event/rv-ettiswil-winterkurse/2027-01-14/
CATEGORIES:Verein
ORGANIZER;CN="Reitverein Schloss Wyher":MAILTO:manuela.muff@rv-ettiswil.ch
END:VEVENT
BEGIN:VEVENT
DTSTART;VALUE=DATE:20270115
DTEND;VALUE=DATE:20270116
DTSTAMP:20260425T010125
CREATED:20251017T153231Z
LAST-MODIFIED:20251018T143315Z
UID:10002045-1799971200-1800057599@ettiswil.ch
SUMMARY:86. Generalversammlung
DESCRIPTION:
URL:https://ettiswil.ch/event/86-generalversammlung/
LOCATION:gemäss Einladung
CATEGORIES:Verein
ORGANIZER;CN="Sanit%C3%A4tsteam Ettiswil":MAILTO:info@sanitaetsteamettiswil.ch
END:VEVENT
BEGIN:VEVENT
DTSTART;VALUE=DATE:20270116
DTEND;VALUE=DATE:20270117
DTSTAMP:20260425T010125
CREATED:20241017T203904Z
LAST-MODIFIED:20251021T191754Z
UID:10000659-1800057600-1800143999@ettiswil.ch
SUMMARY:2. Tag Schneesportschule
DESCRIPTION:
URL:https://ettiswil.ch/event/2-tag-schneesportschule/2027-01-16/
LOCATION:Sörenberg\, Sörenberg\, Switzerland
CATEGORIES:Verein
ORGANIZER;CN="Skiclub Ettiswil":MAILTO:info@skiclub-ettiswil.ch
END:VEVENT
BEGIN:VEVENT
DTSTART;VALUE=DATE:20270116
DTEND;VALUE=DATE:20270117
DTSTAMP:20260425T010125
CREATED:20251104T102207Z
LAST-MODIFIED:20251105T093226Z
UID:10002276-1800057600-1800143999@ettiswil.ch
SUMMARY:Generalversammlung
DESCRIPTION:
URL:https://ettiswil.ch/event/generalversammlung-9/
CATEGORIES:Verein
ORGANIZER;CN="M%C3%A4nnerchor Ettiswil":MAILTO:praesident@maennerchor-ettiswil.ch
END:VEVENT
BEGIN:VEVENT
DTSTART;VALUE=DATE:20270120
DTEND;VALUE=DATE:20270121
DTSTAMP:20260425T010125
CREATED:20251017T185632Z
LAST-MODIFIED:20251121T183339Z
UID:10002022-1800403200-1800489599@ettiswil.ch
SUMMARY:TreffpunktChinder/ Film ab - Kinonachmittag mit Popcorn
DESCRIPTION:Hier könnte Ihr Text stehen…
URL:https://ettiswil.ch/event/treffpunktchinder-kino/
CATEGORIES:Verein
ORGANIZER;CN="Treffpunkt Frauen":MAILTO:vorstand@treffpunktfrauen-ettiswil.ch
END:VEVENT
BEGIN:VEVENT
DTSTART;VALUE=DATE:20270121
DTEND;VALUE=DATE:20270122
DTSTAMP:20260425T010125
CREATED:20251017T185807Z
LAST-MODIFIED:20251121T183253Z
UID:10002024-1800489600-1800575999@ettiswil.ch
SUMMARY:Kunterbunte Pinselspielereien mit Aquarellfarben\, entdecken und erleben
DESCRIPTION:Hier könnte Ihr Text stehen…
URL:https://ettiswil.ch/event/kunterbunte-pinselspielereien-mit-aquarellfarben/
CATEGORIES:Verein
ORGANIZER;CN="Treffpunkt Frauen":MAILTO:vorstand@treffpunktfrauen-ettiswil.ch
END:VEVENT
BEGIN:VEVENT
DTSTART;TZID=Europe/Zurich:20270121T183000
DTEND;TZID=Europe/Zurich:20270121T210000
DTSTAMP:20260425T010125
CREATED:20251107T115542Z
LAST-MODIFIED:20251107T115542Z
UID:10002555-1800556200-1800565200@ettiswil.ch
SUMMARY:RV Ettiswil Winterkurse
DESCRIPTION:Hier könnte Ihr Text stehen…
URL:https://ettiswil.ch/event/rv-ettiswil-winterkurse/2027-01-21/
CATEGORIES:Verein
ORGANIZER;CN="Reitverein Schloss Wyher":MAILTO:manuela.muff@rv-ettiswil.ch
END:VEVENT
BEGIN:VEVENT
DTSTART;TZID=Europe/Zurich:20270122T190000
DTEND;TZID=Europe/Zurich:20270122T233000
DTSTAMP:20260425T010125
CREATED:20250208T132449Z
LAST-MODIFIED:20250925T075954Z
UID:10001792-1800644400-1800660600@ettiswil.ch
SUMMARY:Agathafeier
DESCRIPTION:
URL:https://ettiswil.ch/event/agathafeier-2/2027-01-22/
LOCATION:Jlgensaal\, Ettiswil
CATEGORIES:Organisation
ORGANIZER;CN="Feuerwehr Ettiswil-Alberswil":MAILTO:h.roeschu@gmail.com
END:VEVENT
BEGIN:VEVENT
DTSTART;VALUE=DATE:20270123
DTEND;VALUE=DATE:20270124
DTSTAMP:20260425T010125
CREATED:20241017T204625Z
LAST-MODIFIED:20251021T192419Z
UID:10000669-1800662400-1800748799@ettiswil.ch
SUMMARY:3. Tag Schneesportschule
DESCRIPTION:
URL:https://ettiswil.ch/event/3-tag-schneesportschule/2027-01-23/
LOCATION:Sörenberg\, Sörenberg\, Switzerland
CATEGORIES:Verein
ORGANIZER;CN="Skiclub Ettiswil":MAILTO:info@skiclub-ettiswil.ch
END:VEVENT
BEGIN:VEVENT
DTSTART;TZID=Europe/Zurich:20270128T183000
DTEND;TZID=Europe/Zurich:20270128T210000
DTSTAMP:20260425T010125
CREATED:20251107T115542Z
LAST-MODIFIED:20251107T115542Z
UID:10002556-1801161000-1801170000@ettiswil.ch
SUMMARY:RV Ettiswil Winterkurse
DESCRIPTION:Hier könnte Ihr Text stehen…
URL:https://ettiswil.ch/event/rv-ettiswil-winterkurse/2027-01-28/
CATEGORIES:Verein
ORGANIZER;CN="Reitverein Schloss Wyher":MAILTO:manuela.muff@rv-ettiswil.ch
END:VEVENT
BEGIN:VEVENT
DTSTART;TZID=Europe/Zurich:20270204T183000
DTEND;TZID=Europe/Zurich:20270204T210000
DTSTAMP:20260425T010125
CREATED:20251107T115542Z
LAST-MODIFIED:20251107T115542Z
UID:10002557-1801765800-1801774800@ettiswil.ch
SUMMARY:RV Ettiswil Winterkurse
DESCRIPTION:Hier könnte Ihr Text stehen…
URL:https://ettiswil.ch/event/rv-ettiswil-winterkurse/2027-02-04/
CATEGORIES:Verein
ORGANIZER;CN="Reitverein Schloss Wyher":MAILTO:manuela.muff@rv-ettiswil.ch
END:VEVENT
BEGIN:VEVENT
DTSTART;TZID=Europe/Zurich:20270211T183000
DTEND;TZID=Europe/Zurich:20270211T210000
DTSTAMP:20260425T010125
CREATED:20251107T115542Z
LAST-MODIFIED:20251107T115542Z
UID:10002558-1802370600-1802379600@ettiswil.ch
SUMMARY:RV Ettiswil Winterkurse
DESCRIPTION:Hier könnte Ihr Text stehen…
URL:https://ettiswil.ch/event/rv-ettiswil-winterkurse/2027-02-11/
CATEGORIES:Verein
ORGANIZER;CN="Reitverein Schloss Wyher":MAILTO:manuela.muff@rv-ettiswil.ch
END:VEVENT
BEGIN:VEVENT
DTSTART;TZID=Europe/Zurich:20270218T183000
DTEND;TZID=Europe/Zurich:20270218T210000
DTSTAMP:20260425T010125
CREATED:20251107T115542Z
LAST-MODIFIED:20251107T115542Z
UID:10002559-1802975400-1802984400@ettiswil.ch
SUMMARY:RV Ettiswil Winterkurse
DESCRIPTION:Hier könnte Ihr Text stehen…
URL:https://ettiswil.ch/event/rv-ettiswil-winterkurse/2027-02-18/
CATEGORIES:Verein
ORGANIZER;CN="Reitverein Schloss Wyher":MAILTO:manuela.muff@rv-ettiswil.ch
END:VEVENT
BEGIN:VEVENT
DTSTART;VALUE=DATE:20270219
DTEND;VALUE=DATE:20270220
DTSTAMP:20260425T010125
CREATED:20251121T193346Z
LAST-MODIFIED:20251121T193346Z
UID:10002608-1802995200-1803081599@ettiswil.ch
SUMMARY:Klangschalen Meditation
DESCRIPTION:Hier könnte Ihr Text stehen…
URL:https://ettiswil.ch/event/klangschalen-meditation/
CATEGORIES:Verein
ORGANIZER;CN="Treffpunkt Frauen":MAILTO:vorstand@treffpunktfrauen-ettiswil.ch
END:VEVENT
BEGIN:VEVENT
DTSTART;TZID=Europe/Zurich:20270225T183000
DTEND;TZID=Europe/Zurich:20270225T210000
DTSTAMP:20260425T010125
CREATED:20251107T115542Z
LAST-MODIFIED:20251107T115542Z
UID:10002560-1803580200-1803589200@ettiswil.ch
SUMMARY:RV Ettiswil Winterkurse
DESCRIPTION:Hier könnte Ihr Text stehen…
URL:https://ettiswil.ch/event/rv-ettiswil-winterkurse/2027-02-25/
CATEGORIES:Verein
ORGANIZER;CN="Reitverein Schloss Wyher":MAILTO:manuela.muff@rv-ettiswil.ch
END:VEVENT
BEGIN:VEVENT
DTSTART;TZID=Europe/Zurich:20270225T193000
DTEND;TZID=Europe/Zurich:20270225T210000
DTSTAMP:20260425T010125
CREATED:20260305T104324Z
LAST-MODIFIED:20260305T104324Z
UID:10002816-1803583800-1803589200@ettiswil.ch
SUMMARY:Winterwanderung
DESCRIPTION:Hier könnte Ihr Text stehen…
URL:https://ettiswil.ch/event/winterwanderung-2/
CATEGORIES:Verein
ORGANIZER;CN="Frauen Sportgruppe Kottwil":MAILTO:sibylle.heller@bluewin.ch
END:VEVENT
BEGIN:VEVENT
DTSTART;VALUE=DATE:20270226
DTEND;VALUE=DATE:20270227
DTSTAMP:20260425T010125
CREATED:20251104T102248Z
LAST-MODIFIED:20251105T093226Z
UID:10002277-1803600000-1803686399@ettiswil.ch
SUMMARY:Lotto
DESCRIPTION:
URL:https://ettiswil.ch/event/lotto-9/
LOCATION:Büelacherhalle\, Ettiswil
CATEGORIES:Verein
ORGANIZER;CN="M%C3%A4nnerchor Ettiswil":MAILTO:praesident@maennerchor-ettiswil.ch
END:VEVENT
BEGIN:VEVENT
DTSTART;VALUE=DATE:20270227
DTEND;VALUE=DATE:20270228
DTSTAMP:20260425T010125
CREATED:20251021T191341Z
LAST-MODIFIED:20251021T191341Z
UID:10002089-1803686400-1803772799@ettiswil.ch
SUMMARY:Ski- und Snowboardrennen
DESCRIPTION:Bei unserem Ski- und Snowboardrennen steht der Spass im Vordergrund! Teilnehmen können alle Schneesport-Begeisterte\, egal ob Teilnehmer unserer Schneesportschule\, Snowboard-Crack\, Ski-Anfänger oder Telemark-Freak!
URL:https://ettiswil.ch/event/ski-und-snowboardrennen-2/2027-02-27/
CATEGORIES:Verein
ORGANIZER;CN="Skiclub Ettiswil":MAILTO:info@skiclub-ettiswil.ch
END:VEVENT
BEGIN:VEVENT
DTSTART;VALUE=DATE:20270228
DTEND;VALUE=DATE:20270301
DTSTAMP:20260425T010125
CREATED:20251104T103700Z
LAST-MODIFIED:20251105T093226Z
UID:10002280-1803772800-1803859199@ettiswil.ch
SUMMARY:Lotto
DESCRIPTION:
URL:https://ettiswil.ch/event/lotto/
LOCATION:Büelacherhalle\, Ettiswil
CATEGORIES:Verein
ORGANIZER;CN="M%C3%A4nnerchor Ettiswil":MAILTO:praesident@maennerchor-ettiswil.ch
END:VEVENT
END:VCALENDAR