BEGIN:VCALENDAR
VERSION:2.0
PRODID:-//Gemeinde Ettiswil - ECPv6.15.20//NONSGML v1.0//EN
CALSCALE:GREGORIAN
METHOD:PUBLISH
X-WR-CALNAME:Gemeinde Ettiswil
X-ORIGINAL-URL:https://ettiswil.ch
X-WR-CALDESC:Veranstaltungen für Gemeinde Ettiswil
REFRESH-INTERVAL;VALUE=DURATION:PT1H
X-Robots-Tag:noindex
X-PUBLISHED-TTL:PT1H
BEGIN:VTIMEZONE
TZID:Europe/Zurich
BEGIN:DAYLIGHT
TZOFFSETFROM:+0100
TZOFFSETTO:+0200
TZNAME:CEST
DTSTART:20260329T010000
END:DAYLIGHT
BEGIN:STANDARD
TZOFFSETFROM:+0200
TZOFFSETTO:+0100
TZNAME:CET
DTSTART:20261025T010000
END:STANDARD
BEGIN:DAYLIGHT
TZOFFSETFROM:+0100
TZOFFSETTO:+0200
TZNAME:CEST
DTSTART:20270328T010000
END:DAYLIGHT
BEGIN:STANDARD
TZOFFSETFROM:+0200
TZOFFSETTO:+0100
TZNAME:CET
DTSTART:20271031T010000
END:STANDARD
BEGIN:DAYLIGHT
TZOFFSETFROM:+0100
TZOFFSETTO:+0200
TZNAME:CEST
DTSTART:20280326T010000
END:DAYLIGHT
BEGIN:STANDARD
TZOFFSETFROM:+0200
TZOFFSETTO:+0100
TZNAME:CET
DTSTART:20281029T010000
END:STANDARD
BEGIN:DAYLIGHT
TZOFFSETFROM:+0100
TZOFFSETTO:+0200
TZNAME:CEST
DTSTART:20290325T010000
END:DAYLIGHT
BEGIN:STANDARD
TZOFFSETFROM:+0200
TZOFFSETTO:+0100
TZNAME:CET
DTSTART:20291028T010000
END:STANDARD
BEGIN:DAYLIGHT
TZOFFSETFROM:+0100
TZOFFSETTO:+0200
TZNAME:CEST
DTSTART:20300331T010000
END:DAYLIGHT
BEGIN:STANDARD
TZOFFSETFROM:+0200
TZOFFSETTO:+0100
TZNAME:CET
DTSTART:20301027T010000
END:STANDARD
BEGIN:DAYLIGHT
TZOFFSETFROM:+0100
TZOFFSETTO:+0200
TZNAME:CEST
DTSTART:20310330T010000
END:DAYLIGHT
BEGIN:STANDARD
TZOFFSETFROM:+0200
TZOFFSETTO:+0100
TZNAME:CET
DTSTART:20311026T010000
END:STANDARD
END:VTIMEZONE
BEGIN:VEVENT
DTSTART;TZID=Europe/Zurich:20270318T193000
DTEND;TZID=Europe/Zurich:20270318T223000
DTSTAMP:20260425T050905
CREATED:20260305T104409Z
LAST-MODIFIED:20260305T104409Z
UID:10002817-1805398200-1805409000@ettiswil.ch
SUMMARY:Generalversammung
DESCRIPTION:Hier könnte Ihr Text stehen…
URL:https://ettiswil.ch/event/generalversammung/
LOCATION:Restaurant Post Kottwil
CATEGORIES:Verein
ORGANIZER;CN="Frauen Sportgruppe Kottwil":MAILTO:sibylle.heller@bluewin.ch
END:VEVENT
BEGIN:VEVENT
DTSTART;TZID=Europe/Zurich:20270325T183000
DTEND;TZID=Europe/Zurich:20270325T210000
DTSTAMP:20260425T050905
CREATED:20251107T115542Z
LAST-MODIFIED:20251107T115542Z
UID:10002564-1805999400-1806008400@ettiswil.ch
SUMMARY:RV Ettiswil Winterkurse
DESCRIPTION:Hier könnte Ihr Text stehen…
URL:https://ettiswil.ch/event/rv-ettiswil-winterkurse/2027-03-25/
CATEGORIES:Verein
ORGANIZER;CN="Reitverein Schloss Wyher":MAILTO:manuela.muff@rv-ettiswil.ch
END:VEVENT
BEGIN:VEVENT
DTSTART;VALUE=DATE:20270327
DTEND;VALUE=DATE:20270328
DTSTAMP:20260425T050905
CREATED:20250117T162135Z
LAST-MODIFIED:20250123T075812Z
UID:10001495-1806105600-1806191999@ettiswil.ch
SUMMARY:Osterlotto vom FC Grosswangen-Ettiswil
DESCRIPTION:
URL:https://ettiswil.ch/event/osterlotto-vom-fc-grosswangen-ettiswil-4/
LOCATION:Ochsensaal Grosswangen
CATEGORIES:Verein
ORGANIZER;CN="FC Grosswangen-Ettiswil":MAILTO:praesident@fcge.ch
END:VEVENT
BEGIN:VEVENT
DTSTART;VALUE=DATE:20270402
DTEND;VALUE=DATE:20270403
DTSTAMP:20260425T050905
CREATED:20251027T070704Z
LAST-MODIFIED:20251105T093226Z
UID:10002193-1806624000-1806710399@ettiswil.ch
SUMMARY:Jubiläumskonzert
DESCRIPTION:
URL:https://ettiswil.ch/event/jubilaeumskonzert/
CATEGORIES:Verein
ORGANIZER;CN="Jodlerklub Edelweiss":MAILTO:kuedu.ramseier@bluewin.ch
END:VEVENT
BEGIN:VEVENT
DTSTART;VALUE=DATE:20270403
DTEND;VALUE=DATE:20270404
DTSTAMP:20260425T050905
CREATED:20251027T070726Z
LAST-MODIFIED:20251105T093226Z
UID:10002194-1806710400-1806796799@ettiswil.ch
SUMMARY:Jubiläumskonzert
DESCRIPTION:
URL:https://ettiswil.ch/event/jubilaeumskonzert-2/
CATEGORIES:Verein
ORGANIZER;CN="Jodlerklub Edelweiss":MAILTO:kuedu.ramseier@bluewin.ch
END:VEVENT
BEGIN:VEVENT
DTSTART;VALUE=DATE:20270410
DTEND;VALUE=DATE:20270411
DTSTAMP:20260425T050905
CREATED:20251027T070747Z
LAST-MODIFIED:20251105T093226Z
UID:10002195-1807315200-1807401599@ettiswil.ch
SUMMARY:Jubiläumskonzert
DESCRIPTION:
URL:https://ettiswil.ch/event/jubilaeumskonzert-3/
CATEGORIES:Verein
ORGANIZER;CN="Jodlerklub Edelweiss":MAILTO:kuedu.ramseier@bluewin.ch
END:VEVENT
BEGIN:VEVENT
DTSTART;VALUE=DATE:20270521
DTEND;VALUE=DATE:20270522
DTSTAMP:20260425T050905
CREATED:20251027T083140Z
LAST-MODIFIED:20251105T093226Z
UID:10002199-1810857600-1810943999@ettiswil.ch
SUMMARY:39. Expertisensingen
DESCRIPTION:
URL:https://ettiswil.ch/event/39-expertisensingen-2/
CATEGORIES:Verein
ORGANIZER;CN="Jodlerklub Edelweiss":MAILTO:kuedu.ramseier@bluewin.ch
END:VEVENT
BEGIN:VEVENT
DTSTART;VALUE=DATE:20270527
DTEND;VALUE=DATE:20270531
DTSTAMP:20260425T050905
CREATED:20260407T110404Z
LAST-MODIFIED:20260407T110404Z
UID:10002829-1811376000-1811721599@ettiswil.ch
SUMMARY:Stimmen Festival Ettiswil 2027
DESCRIPTION:Abonnieren Sie unseren Newsletter oder werden Sie Mitglied des Vereins Stimmen Festival Ettiswil\, um als erste vom Programm zu erfahren.
URL:https://ettiswil.ch/event/stimmen-festival-ettiswil-2027/
CATEGORIES:Verein
ORGANIZER;CN="Stimmen Festival Ettiswil":MAILTO:kontakt@stimmen-festival.ch
END:VEVENT
BEGIN:VEVENT
DTSTART;TZID=Europe/Zurich:20270911T113000
DTEND;TZID=Europe/Zurich:20270911T230000
DTSTAMP:20260425T050905
CREATED:20250910T053025Z
LAST-MODIFIED:20250910T053025Z
UID:10001749-1820662200-1820703600@ettiswil.ch
SUMMARY:Faustballturnier in Ettiswil
DESCRIPTION:Hier könnte Ihr Text stehen…
URL:https://ettiswil.ch/event/faustballturnier-in-ettiswil/
CATEGORIES:Verein
ORGANIZER;CN="M%C3%A4nnerturner Ettiswil":MAILTO:franz.felber@aktiv-treuhand.ch
END:VEVENT
BEGIN:VEVENT
DTSTART;VALUE=DATE:20271208
DTEND;VALUE=DATE:20271209
DTSTAMP:20260425T050905
CREATED:20251021T190630Z
LAST-MODIFIED:20251021T190630Z
UID:10002076-1828224000-1828310399@ettiswil.ch
SUMMARY:Einfahrtag
DESCRIPTION:Hier könnte Ihr Text stehen…
URL:https://ettiswil.ch/event/einfahrtag/2027-12-08/
CATEGORIES:Verein
ORGANIZER;CN="Skiclub Ettiswil":MAILTO:info@skiclub-ettiswil.ch
END:VEVENT
BEGIN:VEVENT
DTSTART;VALUE=DATE:20271211
DTEND;VALUE=DATE:20271212
DTSTAMP:20260425T050905
CREATED:20251021T190822Z
LAST-MODIFIED:20251021T191229Z
UID:10002086-1828483200-1828569599@ettiswil.ch
SUMMARY:Modul Fortbildung
DESCRIPTION:Hier könnte Ihr Text stehen…
URL:https://ettiswil.ch/event/modul-fortbildung/2027-12-11/
LOCATION:Engelberg\, Engelberg\, Switzerland
CATEGORIES:Verein
ORGANIZER;CN="Skiclub Ettiswil":MAILTO:info@skiclub-ettiswil.ch
END:VEVENT
BEGIN:VEVENT
DTSTART;VALUE=DATE:20280108
DTEND;VALUE=DATE:20280109
DTSTAMP:20260425T050905
CREATED:20251021T191622Z
LAST-MODIFIED:20251021T191721Z
UID:10000650-1830902400-1830988799@ettiswil.ch
SUMMARY:1. Tag Schneesportschule
DESCRIPTION:
URL:https://ettiswil.ch/event/1-tag-schneesportschule-2/2028-01-08/
CATEGORIES:Verein
ORGANIZER;CN="Skiclub Ettiswil":MAILTO:info@skiclub-ettiswil.ch
END:VEVENT
BEGIN:VEVENT
DTSTART;VALUE=DATE:20280115
DTEND;VALUE=DATE:20280116
DTSTAMP:20260425T050905
CREATED:20241017T203904Z
LAST-MODIFIED:20251021T191754Z
UID:10000660-1831507200-1831593599@ettiswil.ch
SUMMARY:2. Tag Schneesportschule
DESCRIPTION:
URL:https://ettiswil.ch/event/2-tag-schneesportschule/2028-01-15/
LOCATION:Sörenberg\, Sörenberg\, Switzerland
CATEGORIES:Verein
ORGANIZER;CN="Skiclub Ettiswil":MAILTO:info@skiclub-ettiswil.ch
END:VEVENT
BEGIN:VEVENT
DTSTART;VALUE=DATE:20280122
DTEND;VALUE=DATE:20280123
DTSTAMP:20260425T050905
CREATED:20241017T204625Z
LAST-MODIFIED:20251021T192419Z
UID:10000670-1832112000-1832198399@ettiswil.ch
SUMMARY:3. Tag Schneesportschule
DESCRIPTION:
URL:https://ettiswil.ch/event/3-tag-schneesportschule/2028-01-22/
LOCATION:Sörenberg\, Sörenberg\, Switzerland
CATEGORIES:Verein
ORGANIZER;CN="Skiclub Ettiswil":MAILTO:info@skiclub-ettiswil.ch
END:VEVENT
BEGIN:VEVENT
DTSTART;VALUE=DATE:20280226
DTEND;VALUE=DATE:20280227
DTSTAMP:20260425T050905
CREATED:20251021T191341Z
LAST-MODIFIED:20251021T191341Z
UID:10002090-1835136000-1835222399@ettiswil.ch
SUMMARY:Ski- und Snowboardrennen
DESCRIPTION:Bei unserem Ski- und Snowboardrennen steht der Spass im Vordergrund! Teilnehmen können alle Schneesport-Begeisterte\, egal ob Teilnehmer unserer Schneesportschule\, Snowboard-Crack\, Ski-Anfänger oder Telemark-Freak!
URL:https://ettiswil.ch/event/ski-und-snowboardrennen-2/2028-02-26/
CATEGORIES:Verein
ORGANIZER;CN="Skiclub Ettiswil":MAILTO:info@skiclub-ettiswil.ch
END:VEVENT
BEGIN:VEVENT
DTSTART;VALUE=DATE:20280311
DTEND;VALUE=DATE:20280313
DTSTAMP:20260425T050905
CREATED:20251021T190933Z
LAST-MODIFIED:20251021T190933Z
UID:10002081-1836345600-1836518399@ettiswil.ch
SUMMARY:Clubweekend
DESCRIPTION:
URL:https://ettiswil.ch/event/clubweekend-2/2028-03-11/
LOCATION:noch offen
CATEGORIES:Verein
ORGANIZER;CN="Skiclub Ettiswil":MAILTO:info@skiclub-ettiswil.ch
END:VEVENT
BEGIN:VEVENT
DTSTART;VALUE=DATE:20281208
DTEND;VALUE=DATE:20281209
DTSTAMP:20260425T050905
CREATED:20251021T190630Z
LAST-MODIFIED:20251021T190630Z
UID:10002077-1859846400-1859932799@ettiswil.ch
SUMMARY:Einfahrtag
DESCRIPTION:Hier könnte Ihr Text stehen…
URL:https://ettiswil.ch/event/einfahrtag/2028-12-08/
CATEGORIES:Verein
ORGANIZER;CN="Skiclub Ettiswil":MAILTO:info@skiclub-ettiswil.ch
END:VEVENT
BEGIN:VEVENT
DTSTART;VALUE=DATE:20281209
DTEND;VALUE=DATE:20281210
DTSTAMP:20260425T050905
CREATED:20251021T190822Z
LAST-MODIFIED:20251021T191229Z
UID:10002087-1859932800-1860019199@ettiswil.ch
SUMMARY:Modul Fortbildung
DESCRIPTION:Hier könnte Ihr Text stehen…
URL:https://ettiswil.ch/event/modul-fortbildung/2028-12-09/
LOCATION:Engelberg\, Engelberg\, Switzerland
CATEGORIES:Verein
ORGANIZER;CN="Skiclub Ettiswil":MAILTO:info@skiclub-ettiswil.ch
END:VEVENT
BEGIN:VEVENT
DTSTART;VALUE=DATE:20290113
DTEND;VALUE=DATE:20290114
DTSTAMP:20260425T050905
CREATED:20251021T191622Z
LAST-MODIFIED:20251021T191721Z
UID:10000651-1862956800-1863043199@ettiswil.ch
SUMMARY:1. Tag Schneesportschule
DESCRIPTION:
URL:https://ettiswil.ch/event/1-tag-schneesportschule-2/2029-01-13/
CATEGORIES:Verein
ORGANIZER;CN="Skiclub Ettiswil":MAILTO:info@skiclub-ettiswil.ch
END:VEVENT
BEGIN:VEVENT
DTSTART;VALUE=DATE:20290120
DTEND;VALUE=DATE:20290121
DTSTAMP:20260425T050905
CREATED:20241017T203904Z
LAST-MODIFIED:20251021T191754Z
UID:10000661-1863561600-1863647999@ettiswil.ch
SUMMARY:2. Tag Schneesportschule
DESCRIPTION:
URL:https://ettiswil.ch/event/2-tag-schneesportschule/2029-01-20/
LOCATION:Sörenberg\, Sörenberg\, Switzerland
CATEGORIES:Verein
ORGANIZER;CN="Skiclub Ettiswil":MAILTO:info@skiclub-ettiswil.ch
END:VEVENT
BEGIN:VEVENT
DTSTART;VALUE=DATE:20290127
DTEND;VALUE=DATE:20290128
DTSTAMP:20260425T050905
CREATED:20241017T204625Z
LAST-MODIFIED:20251021T192419Z
UID:10000671-1864166400-1864252799@ettiswil.ch
SUMMARY:3. Tag Schneesportschule
DESCRIPTION:
URL:https://ettiswil.ch/event/3-tag-schneesportschule/2029-01-27/
LOCATION:Sörenberg\, Sörenberg\, Switzerland
CATEGORIES:Verein
ORGANIZER;CN="Skiclub Ettiswil":MAILTO:info@skiclub-ettiswil.ch
END:VEVENT
BEGIN:VEVENT
DTSTART;VALUE=DATE:20290224
DTEND;VALUE=DATE:20290225
DTSTAMP:20260425T050905
CREATED:20251021T191341Z
LAST-MODIFIED:20251021T191341Z
UID:10002091-1866585600-1866671999@ettiswil.ch
SUMMARY:Ski- und Snowboardrennen
DESCRIPTION:Bei unserem Ski- und Snowboardrennen steht der Spass im Vordergrund! Teilnehmen können alle Schneesport-Begeisterte\, egal ob Teilnehmer unserer Schneesportschule\, Snowboard-Crack\, Ski-Anfänger oder Telemark-Freak!
URL:https://ettiswil.ch/event/ski-und-snowboardrennen-2/2029-02-24/
CATEGORIES:Verein
ORGANIZER;CN="Skiclub Ettiswil":MAILTO:info@skiclub-ettiswil.ch
END:VEVENT
BEGIN:VEVENT
DTSTART;VALUE=DATE:20290310
DTEND;VALUE=DATE:20290312
DTSTAMP:20260425T050905
CREATED:20251021T190933Z
LAST-MODIFIED:20251021T190933Z
UID:10002082-1867795200-1867967999@ettiswil.ch
SUMMARY:Clubweekend
DESCRIPTION:
URL:https://ettiswil.ch/event/clubweekend-2/2029-03-10/
LOCATION:noch offen
CATEGORIES:Verein
ORGANIZER;CN="Skiclub Ettiswil":MAILTO:info@skiclub-ettiswil.ch
END:VEVENT
BEGIN:VEVENT
DTSTART;VALUE=DATE:20291208
DTEND;VALUE=DATE:20291209
DTSTAMP:20260425T050905
CREATED:20251021T190630Z
LAST-MODIFIED:20251021T190630Z
UID:10002078-1891382400-1891468799@ettiswil.ch
SUMMARY:Einfahrtag
DESCRIPTION:Hier könnte Ihr Text stehen…
URL:https://ettiswil.ch/event/einfahrtag/2029-12-08/
CATEGORIES:Verein
ORGANIZER;CN="Skiclub Ettiswil":MAILTO:info@skiclub-ettiswil.ch
END:VEVENT
BEGIN:VEVENT
DTSTART;VALUE=DATE:20291208
DTEND;VALUE=DATE:20291209
DTSTAMP:20260425T050905
CREATED:20251021T190822Z
LAST-MODIFIED:20251021T191229Z
UID:10002088-1891382400-1891468799@ettiswil.ch
SUMMARY:Modul Fortbildung
DESCRIPTION:Hier könnte Ihr Text stehen…
URL:https://ettiswil.ch/event/modul-fortbildung/2029-12-08/
LOCATION:Engelberg\, Engelberg\, Switzerland
CATEGORIES:Verein
ORGANIZER;CN="Skiclub Ettiswil":MAILTO:info@skiclub-ettiswil.ch
END:VEVENT
BEGIN:VEVENT
DTSTART;VALUE=DATE:20300112
DTEND;VALUE=DATE:20300113
DTSTAMP:20260425T050905
CREATED:20251021T191622Z
LAST-MODIFIED:20251021T191721Z
UID:10002093-1894406400-1894492799@ettiswil.ch
SUMMARY:1. Tag Schneesportschule
DESCRIPTION:
URL:https://ettiswil.ch/event/1-tag-schneesportschule-2/2030-01-12/
CATEGORIES:Verein
ORGANIZER;CN="Skiclub Ettiswil":MAILTO:info@skiclub-ettiswil.ch
END:VEVENT
BEGIN:VEVENT
DTSTART;VALUE=DATE:20300119
DTEND;VALUE=DATE:20300120
DTSTAMP:20260425T050905
CREATED:20241017T203904Z
LAST-MODIFIED:20251021T191754Z
UID:10002094-1895011200-1895097599@ettiswil.ch
SUMMARY:2. Tag Schneesportschule
DESCRIPTION:
URL:https://ettiswil.ch/event/2-tag-schneesportschule/2030-01-19/
LOCATION:Sörenberg\, Sörenberg\, Switzerland
CATEGORIES:Verein
ORGANIZER;CN="Skiclub Ettiswil":MAILTO:info@skiclub-ettiswil.ch
END:VEVENT
BEGIN:VEVENT
DTSTART;VALUE=DATE:20300126
DTEND;VALUE=DATE:20300127
DTSTAMP:20260425T050905
CREATED:20241017T204625Z
LAST-MODIFIED:20251021T192419Z
UID:10002097-1895616000-1895702399@ettiswil.ch
SUMMARY:3. Tag Schneesportschule
DESCRIPTION:
URL:https://ettiswil.ch/event/3-tag-schneesportschule/2030-01-26/
LOCATION:Sörenberg\, Sörenberg\, Switzerland
CATEGORIES:Verein
ORGANIZER;CN="Skiclub Ettiswil":MAILTO:info@skiclub-ettiswil.ch
END:VEVENT
BEGIN:VEVENT
DTSTART;VALUE=DATE:20300223
DTEND;VALUE=DATE:20300224
DTSTAMP:20260425T050905
CREATED:20251021T191341Z
LAST-MODIFIED:20251021T191341Z
UID:10002092-1898035200-1898121599@ettiswil.ch
SUMMARY:Ski- und Snowboardrennen
DESCRIPTION:Bei unserem Ski- und Snowboardrennen steht der Spass im Vordergrund! Teilnehmen können alle Schneesport-Begeisterte\, egal ob Teilnehmer unserer Schneesportschule\, Snowboard-Crack\, Ski-Anfänger oder Telemark-Freak!
URL:https://ettiswil.ch/event/ski-und-snowboardrennen-2/2030-02-23/
CATEGORIES:Verein
ORGANIZER;CN="Skiclub Ettiswil":MAILTO:info@skiclub-ettiswil.ch
END:VEVENT
BEGIN:VEVENT
DTSTART;VALUE=DATE:20300309
DTEND;VALUE=DATE:20300311
DTSTAMP:20260425T050905
CREATED:20251021T190933Z
LAST-MODIFIED:20251021T190933Z
UID:10002083-1899244800-1899417599@ettiswil.ch
SUMMARY:Clubweekend
DESCRIPTION:
URL:https://ettiswil.ch/event/clubweekend-2/2030-03-09/
LOCATION:noch offen
CATEGORIES:Verein
ORGANIZER;CN="Skiclub Ettiswil":MAILTO:info@skiclub-ettiswil.ch
END:VEVENT
END:VCALENDAR