BEGIN:VCALENDAR
VERSION:2.0
PRODID:-//Gemeinde Ettiswil - ECPv6.15.20//NONSGML v1.0//EN
CALSCALE:GREGORIAN
METHOD:PUBLISH
X-WR-CALNAME:Gemeinde Ettiswil
X-ORIGINAL-URL:https://ettiswil.ch
X-WR-CALDESC:Veranstaltungen für Gemeinde Ettiswil
REFRESH-INTERVAL;VALUE=DURATION:PT1H
X-Robots-Tag:noindex
X-PUBLISHED-TTL:PT1H
BEGIN:VTIMEZONE
TZID:Europe/Zurich
BEGIN:DAYLIGHT
TZOFFSETFROM:+0100
TZOFFSETTO:+0200
TZNAME:CEST
DTSTART:20250330T010000
END:DAYLIGHT
BEGIN:STANDARD
TZOFFSETFROM:+0200
TZOFFSETTO:+0100
TZNAME:CET
DTSTART:20251026T010000
END:STANDARD
BEGIN:DAYLIGHT
TZOFFSETFROM:+0100
TZOFFSETTO:+0200
TZNAME:CEST
DTSTART:20260329T010000
END:DAYLIGHT
BEGIN:STANDARD
TZOFFSETFROM:+0200
TZOFFSETTO:+0100
TZNAME:CET
DTSTART:20261025T010000
END:STANDARD
BEGIN:DAYLIGHT
TZOFFSETFROM:+0100
TZOFFSETTO:+0200
TZNAME:CEST
DTSTART:20270328T010000
END:DAYLIGHT
BEGIN:STANDARD
TZOFFSETFROM:+0200
TZOFFSETTO:+0100
TZNAME:CET
DTSTART:20271031T010000
END:STANDARD
END:VTIMEZONE
BEGIN:VEVENT
DTSTART;TZID=Europe/Zurich:20260507T163000
DTEND;TZID=Europe/Zurich:20260507T183000
DTSTAMP:20260423T124406
CREATED:20251026T173554Z
LAST-MODIFIED:20251026T173554Z
UID:10002132-1778171400-1778178600@ettiswil.ch
SUMMARY:Boule-Spiel/Pétanque bei passender Witterung
DESCRIPTION:Hier könnte Ihr Text stehen…
URL:https://ettiswil.ch/event/boule-spiel-petanque-bei-passender-witterung/2026-05-07/
LOCATION:Sigristenhaus Ettiswil
CATEGORIES:Verein
ORGANIZER;CN="Silberstreifen 60 plus":MAILTO:vreni.korner@gmail.com
END:VEVENT
BEGIN:VEVENT
DTSTART;TZID=Europe/Zurich:20260507T193000
DTEND;TZID=Europe/Zurich:20260507T230000
DTSTAMP:20260423T124406
CREATED:20251008T132447Z
LAST-MODIFIED:20251008T132447Z
UID:10001932-1778182200-1778194800@ettiswil.ch
SUMMARY:28. Generalversammlung Gewerbeverein Ettiswil-Alberswil
DESCRIPTION:Hier könnte Ihr Text stehen…
URL:https://ettiswil.ch/event/28-generalversammlung-gewerbeverein-ettiswil-alberswil/
LOCATION:Restaurant Pöstli Kottwil\, Dorf 11\, Kottwil\, 6217\, Switzerland
CATEGORIES:Verein
ORGANIZER;CN="Gewerbeverein Ettiswil-Alberswil":MAILTO:michelle.mueller@mobiliar.ch
END:VEVENT
BEGIN:VEVENT
DTSTART;VALUE=DATE:20260508
DTEND;VALUE=DATE:20260509
DTSTAMP:20260423T124406
CREATED:20251209T092726Z
LAST-MODIFIED:20251209T093043Z
UID:10002629-1778227200-1778259600@ettiswil.ch
SUMMARY:Grüngutabfuhr
DESCRIPTION:Amstein Robert AG\, Willisau
URL:https://ettiswil.ch/event/gruengutabfuhr/2026-05-08/
LOCATION:Stelle Hauskehricht
END:VEVENT
BEGIN:VEVENT
DTSTART;TZID=Europe/Zurich:20260509T000000
DTEND;TZID=Europe/Zurich:20260509T000000
DTSTAMP:20260423T124406
CREATED:20251118T145129Z
LAST-MODIFIED:20251118T145133Z
UID:10002570-1778284800-1778284800@ettiswil.ch
SUMMARY:Internes Volleyball-Turnier
DESCRIPTION:Hier könnte Ihr Text stehen…
URL:https://ettiswil.ch/event/internes-volleyball-turnier/
LOCATION:Büelacherhalle\, Ettiswil
CATEGORIES:Verein
ORGANIZER;CN="VBC Ettiswil":MAILTO:eaarnold@bluewin.ch
END:VEVENT
BEGIN:VEVENT
DTSTART;TZID=Europe/Zurich:20260509T103000
DTEND;TZID=Europe/Zurich:20260509T103000
DTSTAMP:20260423T124406
CREATED:20251015T090531Z
LAST-MODIFIED:20251015T090531Z
UID:10001981-1778322600-1778322600@ettiswil.ch
SUMMARY:Grundschulkonzert; M. Frei\, S. Hidber\, N. Lischer\, A. Müller\, M. Stockmann
DESCRIPTION:Hier könnte Ihr Text stehen…
URL:https://ettiswil.ch/event/grundschulkonzert-m-frei-s-hidber-n-lischer-a-mueller-m-stockmann/
LOCATION:Ettiswil\, Büelacherhalle
CATEGORIES:Bildung
ORGANIZER;CN="Musikschule Region Willisau":MAILTO:info@msrwillisau.ch
END:VEVENT
BEGIN:VEVENT
DTSTART;TZID=Europe/Zurich:20260511T183000
DTEND;TZID=Europe/Zurich:20260511T193000
DTSTAMP:20260423T124406
CREATED:20251015T090821Z
LAST-MODIFIED:20251015T090821Z
UID:10001982-1778524200-1778527800@ettiswil.ch
SUMMARY:Schülerkonzert; Monika Schmutz
DESCRIPTION:Hier könnte Ihr Text stehen…
URL:https://ettiswil.ch/event/schuelerkonzert-monika-schmutz/2026-05-11/
LOCATION:Willisau\, Rathaus Bürgersaal
CATEGORIES:Bildung
ORGANIZER;CN="Musikschule Region Willisau":MAILTO:info@msrwillisau.ch
END:VEVENT
BEGIN:VEVENT
DTSTART;TZID=Europe/Zurich:20260511T193000
DTEND;TZID=Europe/Zurich:20260511T193000
DTSTAMP:20260423T124406
CREATED:20260323T145310Z
LAST-MODIFIED:20260323T145310Z
UID:10002827-1778527800-1778527800@ettiswil.ch
SUMMARY:Gemeindeversammlung
DESCRIPTION:
URL:https://ettiswil.ch/event/gemeindeversammlung/
LOCATION:in der Büelacherhalle Ettiswil
CATEGORIES:Gemeinde
END:VEVENT
BEGIN:VEVENT
DTSTART;TZID=Europe/Zurich:20260512T183000
DTEND;TZID=Europe/Zurich:20260512T193000
DTSTAMP:20260423T124406
CREATED:20251015T090821Z
LAST-MODIFIED:20251015T090821Z
UID:10001983-1778610600-1778614200@ettiswil.ch
SUMMARY:Schülerkonzert; Monika Schmutz
DESCRIPTION:Hier könnte Ihr Text stehen…
URL:https://ettiswil.ch/event/schuelerkonzert-monika-schmutz/2026-05-12/
LOCATION:Willisau\, Rathaus Bürgersaal
CATEGORIES:Bildung
ORGANIZER;CN="Musikschule Region Willisau":MAILTO:info@msrwillisau.ch
END:VEVENT
BEGIN:VEVENT
DTSTART;TZID=Europe/Zurich:20260512T183000
DTEND;TZID=Europe/Zurich:20260512T193000
DTSTAMP:20260423T124406
CREATED:20251015T090948Z
LAST-MODIFIED:20251015T091003Z
UID:10001985-1778610600-1778614200@ettiswil.ch
SUMMARY:Anfängerkonzert der Musikschule
DESCRIPTION:Hier könnte Ihr Text stehen…
URL:https://ettiswil.ch/event/anfaengerkonzert-der-musikschule/
LOCATION:Willisau\, Kanti Aula
CATEGORIES:Bildung
ORGANIZER;CN="Musikschule Region Willisau":MAILTO:info@msrwillisau.ch
END:VEVENT
BEGIN:VEVENT
DTSTART;TZID=Europe/Zurich:20260512T183000
DTEND;TZID=Europe/Zurich:20260512T193000
DTSTAMP:20260423T124406
CREATED:20251105T101051Z
LAST-MODIFIED:20251105T101051Z
UID:10002289-1778610600-1778614200@ettiswil.ch
SUMMARY:Schülerkonzert; Monika Schmutz
DESCRIPTION:Hier könnte Ihr Text stehen…
URL:https://ettiswil.ch/event/schuelerkonzert-monika-schmutz-2/
LOCATION:Willisau\, Rathaus Bürgersaal
CATEGORIES:Bildung
ORGANIZER;CN="Musikschule Region Willisau":MAILTO:info@msrwillisau.ch
END:VEVENT
BEGIN:VEVENT
DTSTART;TZID=Europe/Zurich:20260512T190000
DTEND;TZID=Europe/Zurich:20260512T220000
DTSTAMP:20260423T124406
CREATED:20241008T190527Z
LAST-MODIFIED:20250925T080859Z
UID:10001796-1778612400-1778623200@ettiswil.ch
SUMMARY:Kaderübung
DESCRIPTION:
URL:https://ettiswil.ch/event/kaderuebung-5/2026-05-12/
LOCATION:Feuerwehrmagazin Ettiswil
CATEGORIES:Organisation
ORGANIZER;CN="Feuerwehr Ettiswil-Alberswil":MAILTO:h.roeschu@gmail.com
END:VEVENT
BEGIN:VEVENT
DTSTART;VALUE=DATE:20260513
DTEND;VALUE=DATE:20260514
DTSTAMP:20260423T124406
CREATED:20251211T092252Z
LAST-MODIFIED:20251211T092252Z
UID:10002737-1778659200-1778691600@ettiswil.ch
SUMMARY:Kehricht
DESCRIPTION:Beck Umweltservice AG\, Sursee
URL:https://ettiswil.ch/event/kehricht-3/2026-05-13/
LOCATION:Stelle Hauskehricht
END:VEVENT
BEGIN:VEVENT
DTSTART;TZID=Europe/Zurich:20260513T133000
DTEND;TZID=Europe/Zurich:20260513T171500
DTSTAMP:20260423T124406
CREATED:20251215T083617Z
LAST-MODIFIED:20260421T113419Z
UID:10002830-1778679000-1778692500@ettiswil.ch
SUMMARY:Beratung Frühe Kindheit / Mütter- und Väterberatung
DESCRIPTION:Die Beratung Frühe Kindheit (Mütter- und Väterberatung) des Sozialberatungszentrum Willisau-Wiggertal ist eine Anlaufstelle für Familien mit Kindern von der Geburt bis zum Eintritt in den Kindergarten. Wir Fachpersonen der Frühen Kindheit beraten Sie bei Unsicherheiten und Fragen zur Entwicklung\, Ernährung\, Schlaf und Erziehung Ihres Kindes oder Ihren Elternaufgabe. Wir können Ihnen Auskunft über Angebote für Familien in der Region geben oder Sie bei Bedarf an Fachstellen weiterleiten. Die Beratungen werden vollumfänglich von der Gemeinde finanziert und sind somit für Sie kostenlos. Um eine Beratung in Ihrer Sprache durchführen zu können\, arbeiten wir bei Bedarf auch mit Dolmetschenden zusammen.\nFremdsprachige Erklärvideos zur Mütter- und Väterberatung\n\n\nDie Beratungen finden in Ettiswil\, Dorf 21 (im Schulhaus neben der Spielgruppe\, Räumlichkeiten Chäferli) statt. Sie können sich online auf unserer Homepage oder direkt über folgenden Link anmelden. Telefonberatungen können Sie von Montag bis Donnerstag von 8:30 bis 11:30 Uhr unter 041 972 56 30 in Anspruch nehmen. Wir freuen uns auf Sie.\n\n\nDas Team der Mütter- und Väterberatung Willisau-Wiggertal
URL:https://ettiswil.ch/event/beratung-fruehe-kindheit-muetter-und-vaeterberatung/2026-05-13/
CATEGORIES:Dienststellen
ATTACH;FMTTYPE=image/jpeg:https://ettiswil.ch/wp-content/uploads/2024/08/bfk-willisau-wiggertal-eyecatcher-RGB-farbe-e1765789703843.jpg
ORGANIZER;CN="Beratung Fr%C3%BChe Kindheit (MVB)":MAILTO:mvb.willisau@sobz-willisau.ch
END:VEVENT
BEGIN:VEVENT
DTSTART;TZID=Europe/Zurich:20260513T180000
DTEND;TZID=Europe/Zurich:20260513T200000
DTSTAMP:20260423T124406
CREATED:20251119T142615Z
LAST-MODIFIED:20251119T142618Z
UID:10002583-1778695200-1778702400@ettiswil.ch
SUMMARY:Training / Jungschützenkurs / Waldstrasse gesperrt
DESCRIPTION:Hier könnte Ihr Text stehen…
URL:https://ettiswil.ch/event/training-jungschuetzenkurs-waldstrasse-gesperrt-17/
LOCATION:Schiessanlage Wyden\, Ettiswil
CATEGORIES:Verein
ORGANIZER;CN="Feldsch%C3%BCtzen Ettiswil":MAILTO:maeggihaefliger@bluewin.ch
END:VEVENT
BEGIN:VEVENT
DTSTART;TZID=Europe/Zurich:20260513T183000
DTEND;TZID=Europe/Zurich:20260513T193000
DTSTAMP:20260423T124406
CREATED:20251015T090821Z
LAST-MODIFIED:20251015T090821Z
UID:10001984-1778697000-1778700600@ettiswil.ch
SUMMARY:Schülerkonzert; Monika Schmutz
DESCRIPTION:Hier könnte Ihr Text stehen…
URL:https://ettiswil.ch/event/schuelerkonzert-monika-schmutz/2026-05-13/
LOCATION:Willisau\, Rathaus Bürgersaal
CATEGORIES:Bildung
ORGANIZER;CN="Musikschule Region Willisau":MAILTO:info@msrwillisau.ch
END:VEVENT
BEGIN:VEVENT
DTSTART;TZID=Europe/Zurich:20260513T183000
DTEND;TZID=Europe/Zurich:20260513T193000
DTSTAMP:20260423T124406
CREATED:20251105T101345Z
LAST-MODIFIED:20251105T101345Z
UID:10002291-1778697000-1778700600@ettiswil.ch
SUMMARY:Schülerkonzert; Monika Schmutz
DESCRIPTION:Hier könnte Ihr Text stehen…
URL:https://ettiswil.ch/event/schuelerkonzert-monika-schmutz-3/
LOCATION:Willisau\, Rathaus Bürgersaal
CATEGORIES:Bildung
ORGANIZER;CN="Musikschule Region Willisau":MAILTO:info@msrwillisau.ch
END:VEVENT
BEGIN:VEVENT
DTSTART;TZID=Europe/Zurich:20260513T200000
DTEND;TZID=Europe/Zurich:20260513T220000
DTSTAMP:20260423T124406
CREATED:20250715T155000Z
LAST-MODIFIED:20260311T134400Z
UID:10002819-1778702400-1778709600@ettiswil.ch
SUMMARY:Meisterschaftsspiel 1. Mannschaft 3. Liga FC Grosswangen-Ettiswil : SC Reiden a
DESCRIPTION:Hier könnte Ihr Text stehen…
URL:https://ettiswil.ch/event/meisterschaftsspiel-1-mannschaft-3-liga-fc-grosswangen-ettiswil-sc-reiden-a/
LOCATION:Gutmoos Grosswangen
CATEGORIES:Verein
ORGANIZER;CN="FC Grosswangen-Ettiswil":MAILTO:praesident@fcge.ch
END:VEVENT
BEGIN:VEVENT
DTSTART;VALUE=DATE:20260514
DTEND;VALUE=DATE:20260516
DTSTAMP:20260423T124406
CREATED:20250924T125208Z
LAST-MODIFIED:20250924T125208Z
UID:10001786-1778716800-1778889599@ettiswil.ch
SUMMARY:Auffahrt und Auffahrtsbrücke - Schulfrei
DESCRIPTION:
URL:https://ettiswil.ch/event/auffahrt-und-auffahrtsbruecke-schulfrei/
CATEGORIES:Bildung
ORGANIZER;CN="Schule Ettiswil":MAILTO:sekretariat@schule-ettiswil.ch
END:VEVENT
BEGIN:VEVENT
DTSTART;TZID=Europe/Zurich:20260514T163000
DTEND;TZID=Europe/Zurich:20260514T183000
DTSTAMP:20260423T124406
CREATED:20251026T173554Z
LAST-MODIFIED:20251026T173554Z
UID:10002133-1778776200-1778783400@ettiswil.ch
SUMMARY:Boule-Spiel/Pétanque bei passender Witterung
DESCRIPTION:Hier könnte Ihr Text stehen…
URL:https://ettiswil.ch/event/boule-spiel-petanque-bei-passender-witterung/2026-05-14/
LOCATION:Sigristenhaus Ettiswil
CATEGORIES:Verein
ORGANIZER;CN="Silberstreifen 60 plus":MAILTO:vreni.korner@gmail.com
END:VEVENT
BEGIN:VEVENT
DTSTART;VALUE=DATE:20260516
DTEND;VALUE=DATE:20260517
DTSTAMP:20260423T124406
CREATED:20251014T152812Z
LAST-MODIFIED:20251014T152812Z
UID:10001967-1778889600-1778975999@ettiswil.ch
SUMMARY:GymDay Grosswangen
DESCRIPTION:Hier könnte Ihr Text stehen…
URL:https://ettiswil.ch/event/gymday-grosswangen/
LOCATION:Grosswangen
CATEGORIES:Verein
ORGANIZER;CN="STV Ettiswil":MAILTO:info@stv-ettiswil.ch
END:VEVENT
BEGIN:VEVENT
DTSTART;VALUE=DATE:20260518
DTEND;VALUE=DATE:20260519
DTSTAMP:20260423T124406
CREATED:20250924T121857Z
LAST-MODIFIED:20250924T124451Z
UID:10001766-1779062400-1779148799@ettiswil.ch
SUMMARY:Sommersporttag (KIGA - 4. Klasse)
DESCRIPTION:
URL:https://ettiswil.ch/event/sommersporttag-kiga-4-klasse/
CATEGORIES:Bildung
ORGANIZER;CN="Schule Ettiswil":MAILTO:sekretariat@schule-ettiswil.ch
END:VEVENT
BEGIN:VEVENT
DTSTART;VALUE=DATE:20260518
DTEND;VALUE=DATE:20260519
DTSTAMP:20260423T124406
CREATED:20251209T093910Z
LAST-MODIFIED:20251209T093910Z
UID:10002655-1779091200-1779123600@ettiswil.ch
SUMMARY:Kartonsammlung
DESCRIPTION:Stöckli AG Entsorgung & Reccling\, Sursee
URL:https://ettiswil.ch/event/kartonsammlung/2026-05-18/
LOCATION:Werkhof
END:VEVENT
BEGIN:VEVENT
DTSTART;TZID=Europe/Zurich:20260518T133000
DTEND;TZID=Europe/Zurich:20260518T170000
DTSTAMP:20260423T124406
CREATED:20251029T132225Z
LAST-MODIFIED:20251029T132225Z
UID:10002230-1779111000-1779123600@ettiswil.ch
SUMMARY:E-Bike-Tour
DESCRIPTION:Hier könnte Ihr Text stehen…
URL:https://ettiswil.ch/event/e-bike-tour-2/2026-05-18/
LOCATION:Gemeindeparkplatz
CATEGORIES:Verein
ORGANIZER;CN="Silberstreifen 60 plus":MAILTO:vreni.korner@gmail.com
END:VEVENT
BEGIN:VEVENT
DTSTART;VALUE=DATE:20260519
DTEND;VALUE=DATE:20260520
DTSTAMP:20260423T124406
CREATED:20250924T122230Z
LAST-MODIFIED:20250924T124504Z
UID:10001769-1779148800-1779235199@ettiswil.ch
SUMMARY:Sommersporttag (5. - 9. Klasse)
DESCRIPTION:
URL:https://ettiswil.ch/event/sommersporttag-5-9-klasse-2/
CATEGORIES:Bildung
ORGANIZER;CN="Schule Ettiswil":MAILTO:sekretariat@schule-ettiswil.ch
END:VEVENT
BEGIN:VEVENT
DTSTART;VALUE=DATE:20260519
DTEND;VALUE=DATE:20260520
DTSTAMP:20260423T124406
CREATED:20251203T063701Z
LAST-MODIFIED:20251203T063701Z
UID:10002614-1779148800-1779235199@ettiswil.ch
SUMMARY:Redaktionsschluss Juni-Mobile
DESCRIPTION:
URL:https://ettiswil.ch/event/redaktionsschluss-juni-mobile/
CATEGORIES:Gemeinde
END:VEVENT
BEGIN:VEVENT
DTSTART;TZID=Europe/Zurich:20260519T180000
DTEND;TZID=Europe/Zurich:20260519T203000
DTSTAMP:20260423T124406
CREATED:20251017T153609Z
LAST-MODIFIED:20251018T141026Z
UID:10002037-1779213600-1779222600@ettiswil.ch
SUMMARY:Blutspenden
DESCRIPTION:
URL:https://ettiswil.ch/event/blutspenden/2026-05-19/
LOCATION:Büelacherhalle\, Ettiswil
CATEGORIES:Verein
ORGANIZER;CN="Sanit%C3%A4tsteam Ettiswil":MAILTO:info@sanitaetsteamettiswil.ch
END:VEVENT
BEGIN:VEVENT
DTSTART;TZID=Europe/Zurich:20260519T180000
DTEND;TZID=Europe/Zurich:20260519T203000
DTSTAMP:20260423T124406
CREATED:20251021T164910Z
LAST-MODIFIED:20251021T165000Z
UID:10002068-1779213600-1779222600@ettiswil.ch
SUMMARY:Kinderhort beim Blutspenden
DESCRIPTION:
URL:https://ettiswil.ch/event/kinderhort-beim-blutspenden/
LOCATION:Büelacherhalle
CATEGORIES:Verein
ORGANIZER;CN="Jugend-Sanit%C3%A4tsteam Ettiswil":MAILTO:jugend@sanitaetsteamettiswil.ch
END:VEVENT
BEGIN:VEVENT
DTSTART;VALUE=DATE:20260520
DTEND;VALUE=DATE:20260521
DTSTAMP:20260423T124406
CREATED:20251017T184655Z
LAST-MODIFIED:20251105T093227Z
UID:10002017-1779235200-1779321599@ettiswil.ch
SUMMARY:TreffpunktChinder Waldzvieri: Kochen und essen im Wald
DESCRIPTION:Hier könnte Ihr Text stehen…
URL:https://ettiswil.ch/event/treffpunktchinder-waldzvieri-kochen-und-essen-im-wald/
CATEGORIES:Verein
ORGANIZER;CN="Treffpunkt Frauen":MAILTO:vorstand@treffpunktfrauen-ettiswil.ch
END:VEVENT
BEGIN:VEVENT
DTSTART;VALUE=DATE:20260520
DTEND;VALUE=DATE:20260521
DTSTAMP:20260423T124406
CREATED:20251211T092252Z
LAST-MODIFIED:20251211T092252Z
UID:10002738-1779264000-1779296400@ettiswil.ch
SUMMARY:Kehricht
DESCRIPTION:Beck Umweltservice AG\, Sursee
URL:https://ettiswil.ch/event/kehricht-3/2026-05-20/
LOCATION:Stelle Hauskehricht
END:VEVENT
BEGIN:VEVENT
DTSTART;TZID=Europe/Zurich:20260520T180000
DTEND;TZID=Europe/Zurich:20260520T200000
DTSTAMP:20260423T124406
CREATED:20251119T142724Z
LAST-MODIFIED:20251119T142730Z
UID:10002584-1779300000-1779307200@ettiswil.ch
SUMMARY:Training / Jungschützenkurs / Waldstrasse gesperrt
DESCRIPTION:Hier könnte Ihr Text stehen…
URL:https://ettiswil.ch/event/training-jungschuetzenkurs-waldstrasse-gesperrt-18/
LOCATION:Schiessanlage Wyden\, Ettiswil
CATEGORIES:Verein
ORGANIZER;CN="Feldsch%C3%BCtzen Ettiswil":MAILTO:maeggihaefliger@bluewin.ch
END:VEVENT
END:VCALENDAR