BEGIN:VCALENDAR
VERSION:2.0
PRODID:-//Gemeinde Ettiswil - ECPv6.15.20//NONSGML v1.0//EN
CALSCALE:GREGORIAN
METHOD:PUBLISH
X-WR-CALNAME:Gemeinde Ettiswil
X-ORIGINAL-URL:https://ettiswil.ch
X-WR-CALDESC:Veranstaltungen für Gemeinde Ettiswil
REFRESH-INTERVAL;VALUE=DURATION:PT1H
X-Robots-Tag:noindex
X-PUBLISHED-TTL:PT1H
BEGIN:VTIMEZONE
TZID:Europe/Zurich
BEGIN:DAYLIGHT
TZOFFSETFROM:+0100
TZOFFSETTO:+0200
TZNAME:CEST
DTSTART:20250330T010000
END:DAYLIGHT
BEGIN:STANDARD
TZOFFSETFROM:+0200
TZOFFSETTO:+0100
TZNAME:CET
DTSTART:20251026T010000
END:STANDARD
BEGIN:DAYLIGHT
TZOFFSETFROM:+0100
TZOFFSETTO:+0200
TZNAME:CEST
DTSTART:20260329T010000
END:DAYLIGHT
BEGIN:STANDARD
TZOFFSETFROM:+0200
TZOFFSETTO:+0100
TZNAME:CET
DTSTART:20261025T010000
END:STANDARD
BEGIN:DAYLIGHT
TZOFFSETFROM:+0100
TZOFFSETTO:+0200
TZNAME:CEST
DTSTART:20270328T010000
END:DAYLIGHT
BEGIN:STANDARD
TZOFFSETFROM:+0200
TZOFFSETTO:+0100
TZNAME:CET
DTSTART:20271031T010000
END:STANDARD
END:VTIMEZONE
BEGIN:VEVENT
DTSTART;VALUE=DATE:20260530
DTEND;VALUE=DATE:20260531
DTSTAMP:20260423T175913
CREATED:20241011T075827Z
LAST-MODIFIED:20250911T071458Z
UID:10000572-1780099200-1780185599@ettiswil.ch
SUMMARY:Männerturntag in Buchrain
DESCRIPTION:Hier könnte Ihr Text stehen…
URL:https://ettiswil.ch/event/maennerturntag-in-eschenbach/
CATEGORIES:Verein
ORGANIZER;CN="M%C3%A4nnerturner Ettiswil":MAILTO:franz.felber@aktiv-treuhand.ch
END:VEVENT
BEGIN:VEVENT
DTSTART;VALUE=DATE:20260530
DTEND;VALUE=DATE:20260531
DTSTAMP:20260423T175913
CREATED:20260305T103243Z
LAST-MODIFIED:20260305T103243Z
UID:10002808-1780099200-1780185599@ettiswil.ch
SUMMARY:Männer-/Frauen-Sporttag Buchrain
DESCRIPTION:Hier könnte Ihr Text stehen…
URL:https://ettiswil.ch/event/maenner-frauen-sporttag-buchrain/
CATEGORIES:Verein
ORGANIZER;CN="Frauen Sportgruppe Kottwil":MAILTO:sibylle.heller@bluewin.ch
END:VEVENT
BEGIN:VEVENT
DTSTART;TZID=Europe/Zurich:20260530T080000
DTEND;TZID=Europe/Zurich:20260530T120000
DTSTAMP:20260423T175913
CREATED:20251017T154126Z
LAST-MODIFIED:20251018T140833Z
UID:10002030-1780128000-1780142400@ettiswil.ch
SUMMARY:Nothilfekurs
DESCRIPTION:
URL:https://ettiswil.ch/event/nothilfekurs/2026-05-30/
LOCATION:Gütschhalde 1\, Kottwil
CATEGORIES:Verein
ORGANIZER;CN="Sanit%C3%A4tsteam Ettiswil":MAILTO:info@sanitaetsteamettiswil.ch
END:VEVENT
BEGIN:VEVENT
DTSTART;TZID=Europe/Zurich:20260530T170000
DTEND;TZID=Europe/Zurich:20260530T230000
DTSTAMP:20260423T175913
CREATED:20241017T205525Z
LAST-MODIFIED:20251021T185704Z
UID:10000692-1780160400-1780182000@ettiswil.ch
SUMMARY:60. Generalversammlung
DESCRIPTION:Hier könnte Ihr Text stehen…
URL:https://ettiswil.ch/event/generalversammlung-7/
CATEGORIES:Verein
ORGANIZER;CN="Skiclub Ettiswil":MAILTO:info@skiclub-ettiswil.ch
END:VEVENT
BEGIN:VEVENT
DTSTART;VALUE=DATE:20260531
DTEND;VALUE=DATE:20260601
DTSTAMP:20260423T175913
CREATED:20251106T132107Z
LAST-MODIFIED:20251106T132107Z
UID:10002296-1780185600-1780271999@ettiswil.ch
SUMMARY:Brunch und Schiessen
DESCRIPTION:Hier könnte Ihr Text stehen…
URL:https://ettiswil.ch/event/brunch-und-schiessen/
LOCATION:Armbrustschützenhaus Brestenegg
CATEGORIES:Verein
ORGANIZER;CN="Armbrustsch%C3%BCtzen Brestenegg":MAILTO:wdhlauda@bluewin.ch
END:VEVENT
BEGIN:VEVENT
DTSTART;VALUE=DATE:20260601
DTEND;VALUE=DATE:20260602
DTSTAMP:20260423T175913
CREATED:20250924T121942Z
LAST-MODIFIED:20250924T124515Z
UID:10001767-1780272000-1780358399@ettiswil.ch
SUMMARY:Verschiebedatum Sommersporttag (KIGA - 4. Klasse)
DESCRIPTION:
URL:https://ettiswil.ch/event/verschiebedatum-sommersporttag-kiga-4-klasse/
CATEGORIES:Bildung
ORGANIZER;CN="Schule Ettiswil":MAILTO:sekretariat@schule-ettiswil.ch
END:VEVENT
BEGIN:VEVENT
DTSTART;TZID=Europe/Zurich:20260601T133000
DTEND;TZID=Europe/Zurich:20260601T170000
DTSTAMP:20260423T175913
CREATED:20251029T131834Z
LAST-MODIFIED:20251029T131834Z
UID:10002227-1780320600-1780333200@ettiswil.ch
SUMMARY:E-Bike-Tour
DESCRIPTION:Hier könnte Ihr Text stehen…
URL:https://ettiswil.ch/event/e-bike-tour/2026-06-01/
LOCATION:Gemeindeparkplatz Ettiswil
CATEGORIES:Verein
ORGANIZER;CN="Silberstreifen 60 plus":MAILTO:vreni.korner@gmail.com
END:VEVENT
BEGIN:VEVENT
DTSTART;TZID=Europe/Zurich:20260601T140000
DTEND;TZID=Europe/Zurich:20260601T170000
DTSTAMP:20260423T175913
CREATED:20251029T125746Z
LAST-MODIFIED:20251029T125746Z
UID:10002210-1780322400-1780333200@ettiswil.ch
SUMMARY:Spaziergang
DESCRIPTION:Hier könnte Ihr Text stehen…
URL:https://ettiswil.ch/event/spaziergang/2026-06-01/
LOCATION:Gemeindeparkplatz Ettiswil
CATEGORIES:Verein
ORGANIZER;CN="Silberstreifen 60 plus":MAILTO:vreni.korner@gmail.com
END:VEVENT
BEGIN:VEVENT
DTSTART;VALUE=DATE:20260602
DTEND;VALUE=DATE:20260603
DTSTAMP:20260423T175913
CREATED:20250924T122319Z
LAST-MODIFIED:20250924T124527Z
UID:10001770-1780358400-1780444799@ettiswil.ch
SUMMARY:Verschiebedatum Sommersporttag (5. - 9. Klasse)
DESCRIPTION:
URL:https://ettiswil.ch/event/verschiebedatum-sommersporttag-5-9-klasse-3/
CATEGORIES:Bildung
ORGANIZER;CN="Schule Ettiswil":MAILTO:sekretariat@schule-ettiswil.ch
END:VEVENT
BEGIN:VEVENT
DTSTART;TZID=Europe/Zurich:20260602T163000
DTEND;TZID=Europe/Zurich:20260602T180000
DTSTAMP:20260423T175913
CREATED:20251029T130538Z
LAST-MODIFIED:20251029T130538Z
UID:10002218-1780417800-1780423200@ettiswil.ch
SUMMARY:Freies Singen
DESCRIPTION:Hier könnte Ihr Text stehen…
URL:https://ettiswil.ch/event/freies-singen/2026-06-02/
LOCATION:Ettiswil\, Singsaal
CATEGORIES:Verein
ORGANIZER;CN="Silberstreifen 60 plus":MAILTO:vreni.korner@gmail.com
END:VEVENT
BEGIN:VEVENT
DTSTART;TZID=Europe/Zurich:20260602T193000
DTEND;TZID=Europe/Zurich:20260602T220000
DTSTAMP:20260423T175913
CREATED:20241008T191624Z
LAST-MODIFIED:20250925T081853Z
UID:10001820-1780428600-1780437600@ettiswil.ch
SUMMARY:Absturzsicherungsübung
DESCRIPTION:
URL:https://ettiswil.ch/event/absturzsicherungsuebung-2/2026-06-02/
LOCATION:Feuerwehrmagazin Ettiswil
CATEGORIES:Organisation
ORGANIZER;CN="Feuerwehr Ettiswil-Alberswil":MAILTO:h.roeschu@gmail.com
END:VEVENT
BEGIN:VEVENT
DTSTART;VALUE=DATE:20260603
DTEND;VALUE=DATE:20260604
DTSTAMP:20260423T175913
CREATED:20250924T122449Z
LAST-MODIFIED:20250924T124540Z
UID:10001772-1780444800-1780531199@ettiswil.ch
SUMMARY:Wellentag
DESCRIPTION:
URL:https://ettiswil.ch/event/wellentag-2/
CATEGORIES:Bildung
ORGANIZER;CN="Schule Ettiswil":MAILTO:sekretariat@schule-ettiswil.ch
END:VEVENT
BEGIN:VEVENT
DTSTART;VALUE=DATE:20260603
DTEND;VALUE=DATE:20260604
DTSTAMP:20260423T175913
CREATED:20251211T092252Z
LAST-MODIFIED:20251211T092252Z
UID:10002740-1780473600-1780506000@ettiswil.ch
SUMMARY:Kehricht
DESCRIPTION:Beck Umweltservice AG\, Sursee
URL:https://ettiswil.ch/event/kehricht-3/2026-06-03/
LOCATION:Stelle Hauskehricht
END:VEVENT
BEGIN:VEVENT
DTSTART;TZID=Europe/Zurich:20260603T180000
DTEND;TZID=Europe/Zurich:20260603T200000
DTSTAMP:20260423T175913
CREATED:20251119T143001Z
LAST-MODIFIED:20251119T143006Z
UID:10002586-1780509600-1780516800@ettiswil.ch
SUMMARY:Training / Jungschützenkurs / Waldstrasse gesperrt
DESCRIPTION:Hier könnte Ihr Text stehen…
URL:https://ettiswil.ch/event/training-jungschuetzenkurs-waldstrasse-gesperrt-19/
LOCATION:Schiessanlage Wyden\, Ettiswil
CATEGORIES:Verein
ORGANIZER;CN="Feldsch%C3%BCtzen Ettiswil":MAILTO:maeggihaefliger@bluewin.ch
END:VEVENT
BEGIN:VEVENT
DTSTART;TZID=Europe/Zurich:20260603T183000
DTEND;TZID=Europe/Zurich:20260603T203000
DTSTAMP:20260423T175913
CREATED:20250929T194952Z
LAST-MODIFIED:20251107T105113Z
UID:10001866-1780511400-1780518600@ettiswil.ch
SUMMARY:Sommerkurse Reitverein Ettiswil
DESCRIPTION:Hier könnte Ihr Text stehen…
URL:https://ettiswil.ch/event/sommerkurse-im-ausserdorf-des-reitverein-ettiswil-mit-anja-sanchez/2026-06-03/
CATEGORIES:Verein
ORGANIZER;CN="Reitverein Schloss Wyher":MAILTO:manuela.muff@rv-ettiswil.ch
END:VEVENT
BEGIN:VEVENT
DTSTART;VALUE=DATE:20260604
DTEND;VALUE=DATE:20260606
DTSTAMP:20260423T175913
CREATED:20250924T125328Z
LAST-MODIFIED:20250924T125328Z
UID:10001788-1780531200-1780703999@ettiswil.ch
SUMMARY:Fronleichnam und Fronleichnamsbrücke - Schulfrei
DESCRIPTION:
URL:https://ettiswil.ch/event/fronleichnam-und-fronleichnamsbruecke-schulfrei/
CATEGORIES:Bildung
ORGANIZER;CN="Schule Ettiswil":MAILTO:sekretariat@schule-ettiswil.ch
END:VEVENT
BEGIN:VEVENT
DTSTART;VALUE=DATE:20260604
DTEND;VALUE=DATE:20260608
DTSTAMP:20260423T175913
CREATED:20250501T153426Z
LAST-MODIFIED:20260407T111552Z
UID:10001655-1780531200-1780876799@ettiswil.ch
SUMMARY:Stimmen Festival Ettiswil 2026
DESCRIPTION:Pop\, Salsa und Jodelklänge\nVielschichtige Popstars\, lateinamerikanischer Schwung und kräftiger Jodelgesang: Das Stimmen Festival Ettiswil rollt für seine 22. Ausgabe einen reichhaltigen Klangteppich aus. \nJetzt steht das Programm für das diesjährige Stimmen Festival vom 4. bis 7. Juni in Ettiswil fest. «Passend zu unserem Namen bringen wir eine Vielfalt an aussergewöhnlichen Stimmen auf die Bühne»\, sagt Festivalleiter Andreas Wigger. Insgesamt elf Konzerte sind am verlängerten Fronleichnam-Wochenende geplant. \nLos gehts mit starken Frauen und Pop: Während am Donnerstag die zeitlose Stimme des jungen schwedischen Jazz-Pop-Stars Emma Nissen erklingt\, gehört der Freitagabend zwei berühmten Innerschweizer Sängerinnen. Caroline Chevin ist bekannt für Radiohits wie «Back In The Days» oder «Hey World»\, hat in Ettiswil aber auch einige neue\, sehr persönliche Songs im Gepäck. \nEbenso nah und intim wird es beim Konzert von Heidi Happy\, die anlässlich ihres 20-Jahr-Jubiläums auf ihre grössten Erfolge zurückblickt. Zum Höhepunkt des Abends stehen die beiden Musikerinnen gemeinsam auf der Bühne der Büelacherhalle. «Ein einzigartiges Erlebnis»\, sagt Esrin Sossai\, musikalische Leiterin des Festivals. \nMal Mittanzen\, mal Lauschen \nDer Samstag verspricht Schwung: Das in der Schweiz gegründete Salsa-Kollektiv Nolosé kombiniert Musik\, Kultur und lateinamerikanische Lebensart. Vor dem Konzert bietet die Gruppe Workshops zum Mitsingen und Mittanzen an. Ebenso mitreissend wird die Flamenco-geprägte Klangreise der Spanierin Anna Colom\, die als Background-Sängerin gemeinsam mit ROSALÌA auf der Bühne stand. \nAm Sonntag bringt der Szenenwechsel ins Wasserschloss Wyher ein wenig Ruhe ins Programm: Der Bündner Autor Arno Camenisch präsentiert bei einem Spoken Word Konzert seine frischen\, witzigen und tiefgründigen Geschichten. Anschliessend sorgt der Country-Musiker Shota Adamashvili für Staunen: Trotz Cowboyhut\, Stiefeln und Südstaatenakzent war der Georgier noch nie in den USA und hat sich das Englisch mit dem Hören von Country-Musik selbst beigebracht. \nFür einen gefühlvollen Ausklang sorgen das Jodlerchörli Geuensee – eine der bekanntesten Jodlerformationen der Schweiz – und der Luzerner Organist Wolfgang Sieber mit der Jodlermesse «Bhüet euch!» in der Pfarrkirche. \nMusikförderung im Mittelpunkt \n«Die Förderung aufstrebender Musiktalente ist auch dieses Jahr ein wichtiger Bestandteil des Festivalprogramms»\, sagt Andreas Wigger. So richten zwei frei zugängliche Konzerte in der Ettiswiler Sakramentskapelle den Scheinwerfer auf vielversprechende Neuerscheinungen der Schweizer Musikszene: \nAm Freitag interpretiert das Duo Jacomet-Rachide Volkslieder auf eigenwillige Weise neu. Und am Samstag befasst sich das Gesangsquartett SYAS INK mit Emily Dickinson: Experimentelle und zeitgenössische Kompositionen thematisieren sowohl den Mut als auch die Verletzlichkeit der Dichterin. \nAuch Kinderhände werden klatschen \nVon Salsa in der Büelacherhalle über Country im Schloss Wyher bis hin zur Jodlermesse in der Pfarrkirche: «Das vielseitige Programm bietet Unterhaltung für jeden Geschmack»\, sagt Esrin Sossai. Besonders familienfreundlich werde es am Samstagnachmittag mit der Kinderband Laurent & Max. «Ihre fröhlichen Interpretationen altbekannter Hits – etwa ‹S’Mami häts gseit› anstatt ‹Born to be wild› – bringen Kinderhände zum Klatschen\, ohne dabei Erwachsenen auf die Nerven zu gehen.» \nIm Vorfeld dürfen die kleinen Besucherinnen und Besucher bei einer Festivalführung hinter die Kulissen schauen und anschliessend am Konzert bei einem Stück mitwirken. \nProgrammübersichtTickets
URL:https://ettiswil.ch/event/stimmen-festival-ettiswil-2026/
CATEGORIES:Verein
ORGANIZER;CN="Stimmen Festival Ettiswil":MAILTO:kontakt@stimmen-festival.ch
END:VEVENT
BEGIN:VEVENT
DTSTART;TZID=Europe/Zurich:20260604T163000
DTEND;TZID=Europe/Zurich:20260604T183000
DTSTAMP:20260423T175913
CREATED:20251026T173554Z
LAST-MODIFIED:20251026T173554Z
UID:10002136-1780590600-1780597800@ettiswil.ch
SUMMARY:Boule-Spiel/Pétanque bei passender Witterung
DESCRIPTION:Hier könnte Ihr Text stehen…
URL:https://ettiswil.ch/event/boule-spiel-petanque-bei-passender-witterung/2026-06-04/
LOCATION:Sigristenhaus Ettiswil
CATEGORIES:Verein
ORGANIZER;CN="Silberstreifen 60 plus":MAILTO:vreni.korner@gmail.com
END:VEVENT
BEGIN:VEVENT
DTSTART;VALUE=DATE:20260605
DTEND;VALUE=DATE:20260606
DTSTAMP:20260423T175913
CREATED:20251209T092726Z
LAST-MODIFIED:20251209T093043Z
UID:10002631-1780646400-1780678800@ettiswil.ch
SUMMARY:Grüngutabfuhr
DESCRIPTION:Amstein Robert AG\, Willisau
URL:https://ettiswil.ch/event/gruengutabfuhr/2026-06-05/
LOCATION:Stelle Hauskehricht
END:VEVENT
BEGIN:VEVENT
DTSTART;VALUE=DATE:20260606
DTEND;VALUE=DATE:20260607
DTSTAMP:20260423T175913
CREATED:20251015T091221Z
LAST-MODIFIED:20251015T091221Z
UID:10001987-1780704000-1780790399@ettiswil.ch
SUMMARY:Luzerner Kantonal-Jugendmusikfest
DESCRIPTION:Hier könnte Ihr Text stehen…
URL:https://ettiswil.ch/event/luzerner-kantonal-jugendmusikfest/
CATEGORIES:Bildung
ORGANIZER;CN="Musikschule Region Willisau":MAILTO:info@msrwillisau.ch
END:VEVENT
BEGIN:VEVENT
DTSTART;VALUE=DATE:20260608
DTEND;VALUE=DATE:20260613
DTSTAMP:20260423T175913
CREATED:20250924T122621Z
LAST-MODIFIED:20250924T124551Z
UID:10001773-1780876800-1781308799@ettiswil.ch
SUMMARY:Stufenprojekttage Primar und Mittelstufenlager
DESCRIPTION:
URL:https://ettiswil.ch/event/stufenprojekttage-primar-und-mittelstufenlager/
CATEGORIES:Bildung
ORGANIZER;CN="Schule Ettiswil":MAILTO:sekretariat@schule-ettiswil.ch
END:VEVENT
BEGIN:VEVENT
DTSTART;TZID=Europe/Zurich:20260608T090000
DTEND;TZID=Europe/Zurich:20260608T171500
DTSTAMP:20260423T175913
CREATED:20251215T083617Z
LAST-MODIFIED:20260421T113419Z
UID:10002778-1780909200-1780938900@ettiswil.ch
SUMMARY:Beratung Frühe Kindheit / Mütter- und Väterberatung
DESCRIPTION:Die Beratung Frühe Kindheit (Mütter- und Väterberatung) des Sozialberatungszentrum Willisau-Wiggertal ist eine Anlaufstelle für Familien mit Kindern von der Geburt bis zum Eintritt in den Kindergarten. Wir Fachpersonen der Frühen Kindheit beraten Sie bei Unsicherheiten und Fragen zur Entwicklung\, Ernährung\, Schlaf und Erziehung Ihres Kindes oder Ihren Elternaufgabe. Wir können Ihnen Auskunft über Angebote für Familien in der Region geben oder Sie bei Bedarf an Fachstellen weiterleiten. Die Beratungen werden vollumfänglich von der Gemeinde finanziert und sind somit für Sie kostenlos. Um eine Beratung in Ihrer Sprache durchführen zu können\, arbeiten wir bei Bedarf auch mit Dolmetschenden zusammen.\nFremdsprachige Erklärvideos zur Mütter- und Väterberatung\n\n\nDie Beratungen finden in Ettiswil\, Dorf 21 (im Schulhaus neben der Spielgruppe\, Räumlichkeiten Chäferli) statt. Sie können sich online auf unserer Homepage oder direkt über folgenden Link anmelden. Telefonberatungen können Sie von Montag bis Donnerstag von 8:30 bis 11:30 Uhr unter 041 972 56 30 in Anspruch nehmen. Wir freuen uns auf Sie.\n\n\nDas Team der Mütter- und Väterberatung Willisau-Wiggertal
URL:https://ettiswil.ch/event/beratung-fruehe-kindheit-muetter-und-vaeterberatung/2026-06-08/
CATEGORIES:Dienststellen
ATTACH;FMTTYPE=image/jpeg:https://ettiswil.ch/wp-content/uploads/2024/08/bfk-willisau-wiggertal-eyecatcher-RGB-farbe-e1765789703843.jpg
ORGANIZER;CN="Beratung Fr%C3%BChe Kindheit (MVB)":MAILTO:mvb.willisau@sobz-willisau.ch
END:VEVENT
BEGIN:VEVENT
DTSTART;VALUE=DATE:20260609
DTEND;VALUE=DATE:20260610
DTSTAMP:20260423T175913
CREATED:20251017T152839Z
LAST-MODIFIED:20251018T143506Z
UID:10002039-1780963200-1781049599@ettiswil.ch
SUMMARY:Vereinsübung mit Samariter am Napf
DESCRIPTION:
URL:https://ettiswil.ch/event/vereinsuebung-mit-samariter-am-napf/
LOCATION:gemäss Einladung
CATEGORIES:Verein
ORGANIZER;CN="Sanit%C3%A4tsteam Ettiswil":MAILTO:info@sanitaetsteamettiswil.ch
END:VEVENT
BEGIN:VEVENT
DTSTART;VALUE=DATE:20260610
DTEND;VALUE=DATE:20260611
DTSTAMP:20260423T175913
CREATED:20251015T091334Z
LAST-MODIFIED:20251015T091334Z
UID:10001988-1781049600-1781135999@ettiswil.ch
SUMMARY:Matura-Vorspiel WPF5 (Profil 1) der Kantonsschule
DESCRIPTION:Hier könnte Ihr Text stehen…
URL:https://ettiswil.ch/event/matura-vorspiel-wpf5-profil-1-der-kantonsschule/
LOCATION:Willisau\, Kanti
CATEGORIES:Bildung
ORGANIZER;CN="Musikschule Region Willisau":MAILTO:info@msrwillisau.ch
END:VEVENT
BEGIN:VEVENT
DTSTART;VALUE=DATE:20260610
DTEND;VALUE=DATE:20260611
DTSTAMP:20260423T175913
CREATED:20251211T092252Z
LAST-MODIFIED:20251211T092252Z
UID:10002741-1781078400-1781110800@ettiswil.ch
SUMMARY:Kehricht
DESCRIPTION:Beck Umweltservice AG\, Sursee
URL:https://ettiswil.ch/event/kehricht-3/2026-06-10/
LOCATION:Stelle Hauskehricht
END:VEVENT
BEGIN:VEVENT
DTSTART;TZID=Europe/Zurich:20260610T180000
DTEND;TZID=Europe/Zurich:20260610T200000
DTSTAMP:20260423T175913
CREATED:20251119T143111Z
LAST-MODIFIED:20251119T143115Z
UID:10002587-1781114400-1781121600@ettiswil.ch
SUMMARY:Training / Jungschützenkurs / Waldstrasse gesperrt
DESCRIPTION:Hier könnte Ihr Text stehen…
URL:https://ettiswil.ch/event/training-jungschuetzenkurs-waldstrasse-gesperrt-20/
LOCATION:Schiessanlage Wyden\, Ettiswil
CATEGORIES:Verein
ORGANIZER;CN="Feldsch%C3%BCtzen Ettiswil":MAILTO:maeggihaefliger@bluewin.ch
END:VEVENT
BEGIN:VEVENT
DTSTART;TZID=Europe/Zurich:20260610T183000
DTEND;TZID=Europe/Zurich:20260610T203000
DTSTAMP:20260423T175913
CREATED:20250929T194952Z
LAST-MODIFIED:20251107T105113Z
UID:10001867-1781116200-1781123400@ettiswil.ch
SUMMARY:Sommerkurse Reitverein Ettiswil
DESCRIPTION:Hier könnte Ihr Text stehen…
URL:https://ettiswil.ch/event/sommerkurse-im-ausserdorf-des-reitverein-ettiswil-mit-anja-sanchez/2026-06-10/
CATEGORIES:Verein
ORGANIZER;CN="Reitverein Schloss Wyher":MAILTO:manuela.muff@rv-ettiswil.ch
END:VEVENT
BEGIN:VEVENT
DTSTART;VALUE=DATE:20260611
DTEND;VALUE=DATE:20260612
DTSTAMP:20260423T175913
CREATED:20251015T091455Z
LAST-MODIFIED:20251015T091455Z
UID:10001989-1781136000-1781222399@ettiswil.ch
SUMMARY:Matura-Vorspiel SMU6 (Profil 1/2 und WPF5 Profil 2) der Kantonsschule
DESCRIPTION:Hier könnte Ihr Text stehen…
URL:https://ettiswil.ch/event/matura-vorspiel-smu6-profil-1-2-und-wpf5-profil-2-der-kantonsschule/
LOCATION:Willisau\, Kanti
CATEGORIES:Bildung
ORGANIZER;CN="Musikschule Region Willisau":MAILTO:info@msrwillisau.ch
END:VEVENT
BEGIN:VEVENT
DTSTART;TZID=Europe/Zurich:20260611T113000
DTEND;TZID=Europe/Zurich:20260611T170000
DTSTAMP:20260423T175913
CREATED:20260321T094549Z
LAST-MODIFIED:20260321T095142Z
UID:10002120-1781177400-1781197200@ettiswil.ch
SUMMARY:Mittagstisch/Jassen/Spielen
DESCRIPTION:Hier könnte Ihr Text stehen…
URL:https://ettiswil.ch/event/mittagstisch-jassen-spielen-3-2/2026-06-11/
LOCATION:Restaurant Pöstli Kottwil\, Dorf 11\, Kottwil\, 6217\, Switzerland
CATEGORIES:Verein
ORGANIZER;CN="Silberstreifen 60 plus":MAILTO:vreni.korner@gmail.com
END:VEVENT
BEGIN:VEVENT
DTSTART;TZID=Europe/Zurich:20260611T163000
DTEND;TZID=Europe/Zurich:20260611T183000
DTSTAMP:20260423T175913
CREATED:20251026T173554Z
LAST-MODIFIED:20251026T173554Z
UID:10002137-1781195400-1781202600@ettiswil.ch
SUMMARY:Boule-Spiel/Pétanque bei passender Witterung
DESCRIPTION:Hier könnte Ihr Text stehen…
URL:https://ettiswil.ch/event/boule-spiel-petanque-bei-passender-witterung/2026-06-11/
LOCATION:Sigristenhaus Ettiswil
CATEGORIES:Verein
ORGANIZER;CN="Silberstreifen 60 plus":MAILTO:vreni.korner@gmail.com
END:VEVENT
END:VCALENDAR